BEGIN:VCALENDAR
VERSION:2.0
PRODID:-//LARP SEASON - ECPv6.15.20//NONSGML v1.0//EN
CALSCALE:GREGORIAN
METHOD:PUBLISH
X-WR-CALNAME:LARP SEASON
X-ORIGINAL-URL:https://larpseason.com
X-WR-CALDESC:Events for LARP SEASON
REFRESH-INTERVAL;VALUE=DURATION:PT1H
X-Robots-Tag:noindex
X-PUBLISHED-TTL:PT1H
BEGIN:VTIMEZONE
TZID:UTC
BEGIN:STANDARD
TZOFFSETFROM:+0000
TZOFFSETTO:+0000
TZNAME:UTC
DTSTART:20230101T000000
END:STANDARD
END:VTIMEZONE
BEGIN:VEVENT
DTSTART;TZID=UTC:20241129T080000
DTEND;TZID=UTC:20241201T170000
DTSTAMP:20260423T131532
CREATED:20250214T203316Z
LAST-MODIFIED:20251006T204440Z
UID:3295-1732867200-1733072400@larpseason.com
SUMMARY:Witan Larp: Blood on the Water (E1)
DESCRIPTION:A national Witan has been called by Eorl Bananson of Scardeburg near to the village of Welton on the north bank of the Humber\, in the old Kingdom of Deira. The priority of this Witan is to discuss the curse afflicting the King. Visions from The Weaver have suggested that this location is important to discovering the answer to this issue. \n\n\n\nYlfe have also been spotted in the area\, seemingly searching for something. This as yet unknown objective must be of value even if it is as yet unknown. These vile creatures cannot be allowed to find it\, or it may lead to another siege which cannot be broken\, or maybe even something worse. \n\n\n\nAn emergency Witan has been called to deal with this emerging threat. The pernicious nature of the Ylfe means that they cannot be trusted\, nor can they be taken for granted.
URL:https://larpseason.com/event/witan-larp/
LOCATION:Welton Waters Adventure Centre\, Welton Waters Adventure Centre
CATEGORIES:UK LARPs,Weekend LARPs
END:VEVENT
BEGIN:VEVENT
DTSTART;TZID=UTC:20241129T140000
DTEND;TZID=UTC:20241201T140000
DTSTAMP:20260423T131532
CREATED:20240211T153224Z
LAST-MODIFIED:20240316T204100Z
UID:529-1732888800-1733061600@larpseason.com
SUMMARY:The Five Kingdoms - Season 2\, Episode 8
DESCRIPTION:
URL:https://larpseason.com/event/the-five-kingdoms-season-2-episode-8/
LOCATION:Gunman Airsoft Eversley Alpha\, Gunman Airsoft - Eversley The Welsh Dr (Off A327) Hook\, Hampshire RG27 0PX United Kingdom
CATEGORIES:UK LARPs,Weekend LARPs
END:VEVENT
BEGIN:VEVENT
DTSTART;TZID=UTC:20240107T100000
DTEND;TZID=UTC:20240107T180000
DTSTAMP:20260423T131532
CREATED:20240315T212444Z
LAST-MODIFIED:20240316T164028Z
UID:1832-1704621600-1704650400@larpseason.com
SUMMARY:F&H Leeds
DESCRIPTION:
URL:https://larpseason.com/event/fh-leeds/
LOCATION:F&H Leeds 53.84079\, -1.57558\, 53.84079\, -1.57558
CATEGORIES:Club Games
END:VEVENT
BEGIN:VEVENT
DTSTART;TZID=UTC:20240107T100000
DTEND;TZID=UTC:20240107T180000
DTSTAMP:20260423T131532
CREATED:20240315T212553Z
LAST-MODIFIED:20240316T164019Z
UID:1838-1704621600-1704650400@larpseason.com
SUMMARY:F&H Portsmouth
DESCRIPTION:
URL:https://larpseason.com/event/fh-portsmouth/
LOCATION:F&H Portsmouth  50.898111752115405\, -1.0793966218556679\, 50.898111752115405\, -1.0793966218556679
CATEGORIES:Club Games
END:VEVENT
BEGIN:VEVENT
DTSTART;TZID=UTC:20240107T100000
DTEND;TZID=UTC:20240107T180000
DTSTAMP:20260423T131532
CREATED:20240315T212659Z
LAST-MODIFIED:20240316T164008Z
UID:1844-1704621600-1704650400@larpseason.com
SUMMARY:F&H Plymouth
DESCRIPTION:
URL:https://larpseason.com/event/fh-plymouth/
LOCATION:F&H Plymouth\, 50.41857\, -4.0465
CATEGORIES:Club Games
END:VEVENT
BEGIN:VEVENT
DTSTART;TZID=UTC:20241206T080000
DTEND;TZID=UTC:20241208T170000
DTSTAMP:20260423T131532
CREATED:20240211T173025Z
LAST-MODIFIED:20240316T204033Z
UID:695-1733472000-1733677200@larpseason.com
SUMMARY:A Foot On The Stairs: Comfort and Joy
DESCRIPTION:A Foot On The Stairs: Comfort and Joy is a Live Action Roleplay (LARP) set in 1930. Taking place 6-8 December 2024 at Ingestre Hall in Staffordshire\, it’s a highly immersive game that invites you to step back in time and become someone else for the weekend – a Lord\, a Lady\, a valet\, a maid\, a wealthy socialite\, or an utter disgrace. If you enjoy the idea of scandal\, gossip\, mystery\, social climbing\, and social commentary\, this could be the LARP for you. You could think of it as a live version of Downton Abbey\, Gosford Park\, or Upstairs\, Downstairs. There have been previous A Foot On The Stairs events\, and some characters will be returning from these games\, but you don’t have to have played before.
URL:https://larpseason.com/event/a-foot-on-the-stairs-comfort-and-joy/
LOCATION:Ingestre Hall Arts Centre\, Ingestre Hall Arts Centre ST18 0RF
CATEGORIES:Freeforms & Nordic,UK LARPs
END:VEVENT
BEGIN:VEVENT
DTSTART;TZID=UTC:20241206T080000
DTEND;TZID=UTC:20241208T170000
DTSTAMP:20260423T131532
CREATED:20240311T221946Z
LAST-MODIFIED:20240316T195504Z
UID:1206-1733472000-1733677200@larpseason.com
SUMMARY:Heroes and Heroines: Who wants to be a millionaire?
DESCRIPTION:Clearwater is running out of time. If The Iron League aren’t repaid the eyewatering debt by the end of The Winter Solstice\, they will annex Clearwater County. As if The Protectorate didn’t have enough problems. \n\n\n\nFortunately\, The Dark Sanctum has a daring plan up its sleeve that will not only ensure the debt is paid off\, but which will also turn the tables on those money grabbing Iron Leaguers. All that is needed are some brave auxiliary volunteers for a high risk\, high reward endeavour…swashbuckling may be involved!
URL:https://larpseason.com/event/heroes-and-heroines-who-wants-to-be-a-millionaire/
LOCATION:Rough Close Scout Campsite\, Rough Close Scout Campsite\, Tanners Lane Berkswell\, CV7 &DD
CATEGORIES:UK LARPs,Weekend LARPs
END:VEVENT
BEGIN:VEVENT
DTSTART;TZID=UTC:20241206T080000
DTEND;TZID=UTC:20241208T170000
DTSTAMP:20260423T131532
CREATED:20240312T183359Z
LAST-MODIFIED:20240312T183458Z
UID:1364-1733472000-1733677200@larpseason.com
SUMMARY:Blank Space
DESCRIPTION:As Earth fades away\, blackness consumes my field of view. This is the first impression of my new life\, my brighter life in the colony. I won the prize to leave behind all I ever knew. Shit life and shit people and they all will be gone soon\, I tell myself to feel better. But there is something right outside my eyes\, something in the blackness\, closing in fast. The spacers say that everyone must give something. Pay the universe a price for the passage we take\, a sacrifice for safe travels. I pray that the universe will accept my payment for all I have done. That I can someday open my eyes and face what I see in the mirror. \n\n\n\nBlankspace is a symbolic horror larp about guilt\, hope and running away from the past. It is set in an unspecified retrofuturistic future in which the Earth is desolate and space is hostile to life. On a spaceship\, its crew and some settlers are travelling towards a colony that promises a simple\, carefree life and a new beginning. But the past catches up with them – in the shape of a monster that changes everyone who sees it. \n\n\n\nThe style follows the traditions of Nordic Larp and German Modern Larp. We are aiming for a mixture of character drama\, psychological horror and symbolism: Relationships take centre stage\, fear is generated by what you can’t see\, and many details have a metaphorical level. \n\n\n\nSign up is open until March 31 2024.
URL:https://larpseason.com/event/blank-space/
LOCATION:AREA E® Sport-und Freizeitgelände\, AREA E® Sport-und Freizeitgelände Erndtebrück\, NRW
CATEGORIES:International LARPs
END:VEVENT
BEGIN:VEVENT
DTSTART;TZID=UTC:20241206T080000
DTEND;TZID=UTC:20241208T170000
DTSTAMP:20260423T131532
CREATED:20240316T132429Z
LAST-MODIFIED:20240316T132430Z
UID:1964-1733472000-1733677200@larpseason.com
SUMMARY:Helicon: Run 3
DESCRIPTION:It has been fifteen years now\, since a group of exceptionally talented students at an elite English university discovered a way to lure the Muses of antiquity into their presence\, and to compel them to manifest themselves. The students separated the divine siblings one from the other\, and ritually bound them into servitude. Each Muse was made to serve one or more of the students; to be the well-spring of the Inspiration that set them on their paths to glory. \n\n\n\nThe students have now become the Inspired – the most celebrated artists\, scientists\, and leaders in the world. The Muses to whom they owe their success remain bound to them\, and have by turns accepted their lot\, vainly attempted to rebel against their captors\, gradually developed Stockholm syndrome\, befriended their captors or even fallen in love with them. There is precious little Inspiration left for others\, since it is all hoarded by the Inspired\, for their use alone. \n\n\n\nOnce a year\, all of the Inspired and their Muses come together at Helicon Manor\, to renew the ritual that binds them. \n\n\n\nAll of the Muses are siblings; they both crave one another’s company and need it. As for the Inspired\, they get to spend time with the only other people in the world with whom they share their secret\, who also know how it feels to be host to an ancient supernatural force\, who understand each other in ways that no other mortals ever could. \n\n\n\nSing-ups open on March 17th and close on April 17th 2024.
URL:https://larpseason.com/event/helicon-run-3/
LOCATION:Broholm Castle\, Broholm Castle\, Gudme\, Denmark
CATEGORIES:International LARPs
END:VEVENT
BEGIN:VEVENT
DTSTART;TZID=UTC:20241206T080000
DTEND;TZID=UTC:20241208T170000
DTSTAMP:20260423T131532
CREATED:20241215T190545Z
LAST-MODIFIED:20250214T182258Z
UID:2810-1733472000-1733677200@larpseason.com
SUMMARY:Diaspora: Hunt Ball (sanctioned)
DESCRIPTION:Nikolai Van Maanen is in possession of a fortune and now finds himself in need of a wife. Friends\, associates and potential suitors are all welcome to a traditional Radovichian Hunt Ball.
URL:https://larpseason.com/event/diaspora-hunt-ball/
LOCATION:Dovedale House\, Dovedale House
CATEGORIES:Non-Fest Sanctioned,Sanctioned Events,UK LARPs
END:VEVENT
BEGIN:VEVENT
DTSTART;TZID=UTC:20240106T100000
DTEND;TZID=UTC:20240106T180000
DTSTAMP:20260423T131532
CREATED:20240315T211231Z
LAST-MODIFIED:20250214T131905Z
UID:1802-1704535200-1704564000@larpseason.com
SUMMARY:F&H Bristol
DESCRIPTION:
URL:https://larpseason.com/event/fh-bristol/
LOCATION:F&H Bristol <br>51.64642\, -2.70667\, 51.64642\, -2.70667
CATEGORIES:Club Games
END:VEVENT
BEGIN:VEVENT
DTSTART;TZID=UTC:20240106T100000
DTEND;TZID=UTC:20240106T180000
DTSTAMP:20260423T131532
CREATED:20240315T211903Z
LAST-MODIFIED:20240316T164108Z
UID:1816-1704535200-1704564000@larpseason.com
SUMMARY:F&H Glasgow
DESCRIPTION:
URL:https://larpseason.com/event/fh-glasgow/
LOCATION:F&H Glasgow 55.973\, -4.32964\, 55.973\, -4.32964
CATEGORIES:Club Games
END:VEVENT
BEGIN:VEVENT
DTSTART;TZID=UTC:20240106T100000
DTEND;TZID=UTC:20240106T180000
DTSTAMP:20260423T131532
CREATED:20240315T212029Z
LAST-MODIFIED:20240316T164059Z
UID:1820-1704535200-1704564000@larpseason.com
SUMMARY:F&H Peterborough
DESCRIPTION:
URL:https://larpseason.com/event/fh-peterborough/
LOCATION:F&H Peterborough 52.17318\, 0.10212\, 52.17318\, 0.10212
CATEGORIES:Club Games
END:VEVENT
BEGIN:VEVENT
DTSTART;TZID=UTC:20240106T100000
DTEND;TZID=UTC:20240106T180000
DTSTAMP:20260423T131532
CREATED:20240315T212145Z
LAST-MODIFIED:20240316T164048Z
UID:1824-1704535200-1704564000@larpseason.com
SUMMARY:F&H St Helens
DESCRIPTION:
URL:https://larpseason.com/event/fh-st-helens/
LOCATION:F&H St Helens  53.51267\, -2.80851\, 53.51267\, -2.80851
CATEGORIES:Club Games
END:VEVENT
BEGIN:VEVENT
DTSTART;TZID=UTC:20240106T180000
DTEND;TZID=UTC:20240106T233000
DTSTAMP:20260423T131532
CREATED:20240315T212251Z
LAST-MODIFIED:20240316T164853Z
UID:1828-1704564000-1704583800@larpseason.com
SUMMARY:F&H Newcastle (evening)
DESCRIPTION:
URL:https://larpseason.com/event/fh-newcastle-evening/
LOCATION:F&H Newcastle 54.99042\, -1.59221\, 54.99042\, -1.59221
CATEGORIES:Club Games
END:VEVENT
BEGIN:VEVENT
DTSTART;TZID=UTC:20240114T100000
DTEND;TZID=UTC:20240114T180000
DTSTAMP:20260423T131532
CREATED:20240315T213832Z
LAST-MODIFIED:20240316T163934Z
UID:1857-1705226400-1705255200@larpseason.com
SUMMARY:F&H Cardiff
DESCRIPTION:
URL:https://larpseason.com/event/fh-cardiff/
LOCATION:F&H Cardiff 51.54118\, -3.22333\, 51.54118\, -3.22333
CATEGORIES:Club Games
END:VEVENT
BEGIN:VEVENT
DTSTART;TZID=UTC:20240114T100000
DTEND;TZID=UTC:20240114T180000
DTSTAMP:20260423T131532
CREATED:20240315T214007Z
LAST-MODIFIED:20240316T163922Z
UID:1863-1705226400-1705255200@larpseason.com
SUMMARY:F&H Derby
DESCRIPTION:
URL:https://larpseason.com/event/fh-derby/
LOCATION:F&H Derby  52.95979\, -1.49394\, 52.95979\, -1.49394
CATEGORIES:Club Games
END:VEVENT
BEGIN:VEVENT
DTSTART;TZID=UTC:20240114T100000
DTEND;TZID=UTC:20240114T180000
DTSTAMP:20260423T131532
CREATED:20240315T214115Z
LAST-MODIFIED:20240316T163913Z
UID:1869-1705226400-1705255200@larpseason.com
SUMMARY:F&H Edinburgh
DESCRIPTION:
URL:https://larpseason.com/event/fh-edinburgh/
LOCATION:F&H Edinburgh 55.95604\, -3.31918\, 55.95604\, -3.31918
CATEGORIES:Club Games
END:VEVENT
BEGIN:VEVENT
DTSTART;TZID=UTC:20240114T100000
DTEND;TZID=UTC:20240114T180000
DTSTAMP:20260423T131532
CREATED:20240315T214239Z
LAST-MODIFIED:20240316T163900Z
UID:1875-1705226400-1705255200@larpseason.com
SUMMARY:F&H Guildford
DESCRIPTION:
URL:https://larpseason.com/event/fh-guildford/
LOCATION:F&H Guildford 51.32435\, -0.82166\, 51.32435\, -0.82166
CATEGORIES:Club Games
END:VEVENT
BEGIN:VEVENT
DTSTART;TZID=UTC:20240114T100000
DTEND;TZID=UTC:20240114T180000
DTSTAMP:20260423T131532
CREATED:20240315T214338Z
LAST-MODIFIED:20240316T163849Z
UID:1881-1705226400-1705255200@larpseason.com
SUMMARY:F&H Norwich
DESCRIPTION:
URL:https://larpseason.com/event/fh-norwich/
LOCATION:F&H Norwich 52.64427\, 1.31994\, 52.64427\, 1.31994
CATEGORIES:Club Games
END:VEVENT
BEGIN:VEVENT
DTSTART;TZID=UTC:20241208T200000
DTEND;TZID=UTC:20241208T220000
DTSTAMP:20260423T131532
CREATED:20241115T154404Z
LAST-MODIFIED:20241115T154404Z
UID:2740-1733688000-1733695200@larpseason.com
SUMMARY:Queerly Beloved
DESCRIPTION:A brand-new murder mystery. You are invited to participate and engage with this curious and queer fictional world to discover our murderer before they strike again.
URL:https://larpseason.com/event/queerly-beloved/
LOCATION:The Reading Room\, ALEX\, ALEX Design Exchange\, Alexandra Road\, SA1 5DX
CATEGORIES:Parlour LARPs,UK LARPs
END:VEVENT
BEGIN:VEVENT
DTSTART;TZID=UTC:20241213T080000
DTEND;TZID=UTC:20241215T170000
DTSTAMP:20260423T131532
CREATED:20240904T184246Z
LAST-MODIFIED:20250214T181320Z
UID:2444-1734076800-1734282000@larpseason.com
SUMMARY:Empire: The Other Roads (player event)
DESCRIPTION:The Other Roads is an Empire LRP player event based around themes of diplomacy and foreign policy and targeted at characters who are newer to this area of the game. It will run at YHA National Forest\, 13-15th December 2024. Tickets will cost £75 (£60 for those meeting Empire’s concessions criteria). This event is fully catered. A number of free crew spaces will be available\, including full-time NPCs and part-time event crew. This event is run by Wrenna Robson\, Thomas ‘Weasel’ Tyler\, and Kes Ward. \n\n\n\nWe intend this to be a low-plot non-combat sanctioned event\, and we are currently in the process of seeking sanctioning. \n\n\n\nMore information can be found at https://tor.lines.ink\, and you can fill out an Expression of Interest form here: https://docs.google.com/forms/d/e/1FAIpQLSdmYIRccRE9TPUkruSMwhAJqYDonVgOAtD3lnGC58avyYkVdA/viewform
URL:https://larpseason.com/event/empire-player-event-the-other-roads/
LOCATION:YHA National Forest\, 48 Bath Ln\, Moira\, Swadlincote DE12 6BD
CATEGORIES:Empire Sanctioned,Sanctioned Events,UK LARPs
END:VEVENT
BEGIN:VEVENT
DTSTART;TZID=UTC:20241213T140000
DTEND;TZID=UTC:20241215T140000
DTSTAMP:20260423T131532
CREATED:20240211T153827Z
LAST-MODIFIED:20240316T195419Z
UID:541-1734098400-1734271200@larpseason.com
SUMMARY:And Now My Watch Has Ended
DESCRIPTION:
URL:https://larpseason.com/event/and-now-my-watch-has-ended/
LOCATION:Gunman Airsoft Eversley Alpha\, Gunman Airsoft - Eversley The Welsh Dr (Off A327) Hook\, Hampshire RG27 0PX United Kingdom
CATEGORIES:UK LARPs,Weekend LARPs
END:VEVENT
BEGIN:VEVENT
DTSTART;TZID=UTC:20241214T080000
DTEND;TZID=UTC:20241214T170000
DTSTAMP:20260423T131532
CREATED:20250219T220801Z
LAST-MODIFIED:20250219T220802Z
UID:3419-1734163200-1734195600@larpseason.com
SUMMARY:LT: Whispers in the Darkness (Tarantulas sanctioned)
DESCRIPTION:
URL:https://larpseason.com/event/lt-whispers-in-the-darkness-tarantulas-sanctioned/
LOCATION:Donnington Park Farmhouse Hotel\, Donnington Park Farmhouse Hotel
CATEGORIES:Lorien Trust Sanctioned,Sanctioned Events,UK LARPs
END:VEVENT
BEGIN:VEVENT
DTSTART;TZID=UTC:20241214T090000
DTEND;TZID=UTC:20241214T170000
DTSTAMP:20260423T131532
CREATED:20241210T213125Z
LAST-MODIFIED:20250214T182202Z
UID:2760-1734166800-1734195600@larpseason.com
SUMMARY:Netrunner LARP - Corporate Security Expo!
DESCRIPTION:GET TICKETS WHILST THEY’RE HOT: https://www.eventbrite.co.uk/…/netrunner-larp-corporate… \n\n\n\nHello everyone! I’m very happy to present a completely unique kind of netrunner event\, where we are holding a netrunner tournament inside of a LARP megagame! \n\n\n\nPlayers will assume the roles of executives of HB\, Jinteki\, NBN and Weyland. The corps have gathered to test their very best cybersecurity against each other\, so bring along a corp deck of your faction and a runner deck too! \n\n\n\nThis is not an official NSG tournament! There will be some custom prizes\, but it also means a lot more roleplaying-like actions are possible! Collude with your teammates\, rig the system\, bribe the judge\, whatever you need to do to ensure victory! \n\n\n\nThis event will take place at the Humanitarian Academy for Development’s main room\, which is a lovely big space with tea and coffee provided. The site is unfortunately not wheelchair accessible\, but there are only 5 steps leading up to the building\, so it is at least more accessible than some other venues. There is also parking provided. \n\n\n\nA full rules document will follow soon\, and I have a crew of 10+ lovely volunteers to play characters at the expo! I really hope you’ll check it out!
URL:https://larpseason.com/event/netrunner-larp-corporate-security-expo/
LOCATION:Humanitarian Academy for Development – HAD\, 21 Sampson Road North\, Birmingham\, B11 1\, United Kingdom
CATEGORIES:Megagames
END:VEVENT
BEGIN:VEVENT
DTSTART;TZID=UTC:20240113T100000
DTEND;TZID=UTC:20240113T180000
DTSTAMP:20260423T131532
CREATED:20240315T213446Z
LAST-MODIFIED:20240316T163958Z
UID:1850-1705140000-1705168800@larpseason.com
SUMMARY:F&H Sheffield
DESCRIPTION:
URL:https://larpseason.com/event/fh-sheffield/
LOCATION:F&H Sheffield 53.37133\, -1.57845\, 53.37133\, -1.57845
CATEGORIES:Club Games
END:VEVENT
BEGIN:VEVENT
DTSTART;TZID=UTC:20240121T100000
DTEND;TZID=UTC:20240121T180000
DTSTAMP:20260423T131532
CREATED:20240315T214759Z
LAST-MODIFIED:20240316T163815Z
UID:1899-1705831200-1705860000@larpseason.com
SUMMARY:F&H Bath
DESCRIPTION:
URL:https://larpseason.com/event/fh-bath/
LOCATION:F&H Bath  51.49150\, -2.6642\, 51.49150\, -2.6642
CATEGORIES:Club Games
END:VEVENT
BEGIN:VEVENT
DTSTART;TZID=UTC:20240121T100000
DTEND;TZID=UTC:20240121T180000
DTSTAMP:20260423T131532
CREATED:20240315T214923Z
LAST-MODIFIED:20240316T163806Z
UID:1905-1705831200-1705860000@larpseason.com
SUMMARY:F&H Maidenhead
DESCRIPTION:
URL:https://larpseason.com/event/fh-maidenhead/
LOCATION:F&H Maidenhead 51.51585\, -0.77645\, 51.51585\, -0.77645
CATEGORIES:Club Games
END:VEVENT
BEGIN:VEVENT
DTSTART;TZID=UTC:20240121T100000
DTEND;TZID=UTC:20240121T180000
DTSTAMP:20260423T131532
CREATED:20240315T215030Z
LAST-MODIFIED:20240316T163755Z
UID:1911-1705831200-1705860000@larpseason.com
SUMMARY:F&H Newcastle
DESCRIPTION:
URL:https://larpseason.com/event/fh-newcastle/
LOCATION:F&H Newcastle 54.92022\, -1.78705\, 54.92022\, -1.78705
CATEGORIES:Club Games
END:VEVENT
BEGIN:VEVENT
DTSTART;TZID=UTC:20240121T100000
DTEND;TZID=UTC:20240121T180000
DTSTAMP:20260423T131532
CREATED:20240315T215112Z
LAST-MODIFIED:20240316T165025Z
UID:1915-1705831200-1705860000@larpseason.com
SUMMARY:F&H Peterborough
DESCRIPTION:
URL:https://larpseason.com/event/fh-peterborough-2/
LOCATION:F&H Peterborough 52.17318\, 0.10212\, 52.17318\, 0.10212
CATEGORIES:Club Games
END:VEVENT
END:VCALENDAR