BEGIN:VCALENDAR
VERSION:2.0
PRODID:-//LARP SEASON - ECPv6.15.20//NONSGML v1.0//EN
CALSCALE:GREGORIAN
METHOD:PUBLISH
X-ORIGINAL-URL:https://larpseason.com
X-WR-CALDESC:Events for LARP SEASON
REFRESH-INTERVAL;VALUE=DURATION:PT1H
X-Robots-Tag:noindex
X-PUBLISHED-TTL:PT1H
BEGIN:VTIMEZONE
TZID:UTC
BEGIN:STANDARD
TZOFFSETFROM:+0000
TZOFFSETTO:+0000
TZNAME:UTC
DTSTART:20230101T000000
END:STANDARD
END:VTIMEZONE
BEGIN:VEVENT
DTSTART;TZID=UTC:20241031T080000
DTEND;TZID=UTC:20241103T170000
DTSTAMP:20260423T145846
CREATED:20240311T222653Z
LAST-MODIFIED:20240311T222653Z
UID:1210-1730361600-1730653200@larpseason.com
SUMMARY:STAY
DESCRIPTION:
URL:https://larpseason.com/event/stay/
LOCATION:Teamhaus Boltigen\, Teamhaus Boltigen\, Bälliz 208\, CH – 3766 Boltigen
CATEGORIES:International LARPs
END:VEVENT
BEGIN:VEVENT
DTSTART;TZID=UTC:20241101T080000
DTEND;TZID=UTC:20241103T170000
DTSTAMP:20260423T145846
CREATED:20240314T221108Z
LAST-MODIFIED:20240316T211459Z
UID:1505-1730448000-1730653200@larpseason.com
SUMMARY:Skullduggery E4
DESCRIPTION:
URL:https://larpseason.com/event/skullduggery-e4/
LOCATION:Ross Wood Campsite\, Ross Wood Campsite\, New Rd.\, Herne Bay
CATEGORIES:UK LARPs,Weekend LARPs
END:VEVENT
BEGIN:VEVENT
DTSTART;TZID=UTC:20241101T080000
DTEND;TZID=UTC:20241103T170000
DTSTAMP:20260423T145846
CREATED:20240506T135710Z
LAST-MODIFIED:20250214T131828Z
UID:2297-1730448000-1730653200@larpseason.com
SUMMARY:Riots and Revolutions Event 5
DESCRIPTION:
URL:https://larpseason.com/event/riots-and-revolutions-event-5/
LOCATION:Bell Heath\, Boundless Outdoors\, Bell Heath\, Boundless Outdoors
CATEGORIES:UK LARPs,Weekend LARPs
END:VEVENT
BEGIN:VEVENT
DTSTART;TZID=UTC:20241101T080000
DTEND;TZID=UTC:20241103T170000
DTSTAMP:20260423T145846
CREATED:20240904T182930Z
LAST-MODIFIED:20240904T182931Z
UID:2424-1730448000-1730653200@larpseason.com
SUMMARY:CuPa Sanctioned: Lions
DESCRIPTION:
URL:https://larpseason.com/event/cupa-sanctioned-lions/
LOCATION:Kibblestone Scout Camp\, Kibblestone Scout Camp\, Staffordshire
CATEGORIES:Curious Pastimes Sanctioned,Sanctioned Events,UK LARPs
END:VEVENT
BEGIN:VEVENT
DTSTART;TZID=UTC:20241101T140000
DTEND;TZID=UTC:20241103T140000
DTSTAMP:20260423T145846
CREATED:20240211T153115Z
LAST-MODIFIED:20240316T211502Z
UID:527-1730469600-1730642400@larpseason.com
SUMMARY:Flying Lead: Nightmare
DESCRIPTION:Nightmare is set in an alternative timeline to that of Smoke & Brass. Based in 1880 America Civilisation rolls in from California and Nevada in the West and Texas and Colorado in the East; the Wild West is becoming smaller and smaller by the day. People in droves move about this great nation\, looking for their fortune\, their own piece of the American dream. \n\n\n\nNews comes for a small-secluded mining town of Liberty Falls in the state of New Atlanta where a new vein of the purest gold has been found and they require more hands to help make this mine larger\, meaning more hands to work it\, more hands to protect it and of course where there is gold there’s going to be ways to spend it. \n\n\n\nWhy you character has come to Liberty Falls is your business – you could be trying to claim a little bit of the dream\, make a better life for you and yours or just trying to stay hidden and what better way then being in a mine.
URL:https://larpseason.com/event/flying-lead-nightmare/
LOCATION:Gunman Airsoft Eversley Alpha\, Gunman Airsoft - Eversley The Welsh Dr (Off A327) Hook\, Hampshire RG27 0PX United Kingdom
CATEGORIES:UK LARPs,Weekend LARPs
END:VEVENT
BEGIN:VEVENT
DTSTART;TZID=UTC:20241102T080000
DTEND;TZID=UTC:20241103T170000
DTSTAMP:20260423T145846
CREATED:20240312T173215Z
LAST-MODIFIED:20240315T221450Z
UID:1329-1730534400-1730653200@larpseason.com
SUMMARY:LarpCon November KitFair 2024
DESCRIPTION:A winter kit fair\, featuring lots of fantastic exhibitors.See lots of exciting Larp supplies and a whole bunch of your friends too.Smaller than a standard LarpCon but still bursting with exciting things.10am – 11am on Sunday will once again be an autism hour.A bit quieter than the rest of the weekend\, still with plenty to see. 
URL:https://larpseason.com/event/larpcon-november-kitfair-2024/
LOCATION:Whitwick and Coalville Leisure Centre\, Whitwick and Coalville Leisure Centre\, Stephenson Way\, Coalville LE67 3FE
CATEGORIES:Conventions & Festivals
END:VEVENT
BEGIN:VEVENT
DTSTART;TZID=UTC:20241102T100000
DTEND;TZID=UTC:20241102T170000
DTSTAMP:20260423T145846
CREATED:20250212T173722Z
LAST-MODIFIED:20250212T173723Z
UID:2997-1730541600-1730566800@larpseason.com
SUMMARY:Age of Essence
DESCRIPTION:
URL:https://larpseason.com/event/age-of-essence-8/
LOCATION:Nonsuch Park\, Nonsuch Mansion House\, Fir Walk\, Epsom\, KT17 2\, United Kingdom
CATEGORIES:Club Games,UK LARPs
END:VEVENT
BEGIN:VEVENT
DTSTART;TZID=UTC:20240106T100000
DTEND;TZID=UTC:20240106T180000
DTSTAMP:20260423T145846
CREATED:20240315T211231Z
LAST-MODIFIED:20250214T131905Z
UID:1802-1704535200-1704564000@larpseason.com
SUMMARY:F&H Bristol
DESCRIPTION:
URL:https://larpseason.com/event/fh-bristol/
LOCATION:F&H Bristol <br>51.64642\, -2.70667\, 51.64642\, -2.70667
CATEGORIES:Club Games
END:VEVENT
BEGIN:VEVENT
DTSTART;TZID=UTC:20240106T100000
DTEND;TZID=UTC:20240106T180000
DTSTAMP:20260423T145846
CREATED:20240315T211903Z
LAST-MODIFIED:20240316T164108Z
UID:1816-1704535200-1704564000@larpseason.com
SUMMARY:F&H Glasgow
DESCRIPTION:
URL:https://larpseason.com/event/fh-glasgow/
LOCATION:F&H Glasgow 55.973\, -4.32964\, 55.973\, -4.32964
CATEGORIES:Club Games
END:VEVENT
BEGIN:VEVENT
DTSTART;TZID=UTC:20240106T100000
DTEND;TZID=UTC:20240106T180000
DTSTAMP:20260423T145846
CREATED:20240315T212029Z
LAST-MODIFIED:20240316T164059Z
UID:1820-1704535200-1704564000@larpseason.com
SUMMARY:F&H Peterborough
DESCRIPTION:
URL:https://larpseason.com/event/fh-peterborough/
LOCATION:F&H Peterborough 52.17318\, 0.10212\, 52.17318\, 0.10212
CATEGORIES:Club Games
END:VEVENT
BEGIN:VEVENT
DTSTART;TZID=UTC:20240106T100000
DTEND;TZID=UTC:20240106T180000
DTSTAMP:20260423T145846
CREATED:20240315T212145Z
LAST-MODIFIED:20240316T164048Z
UID:1824-1704535200-1704564000@larpseason.com
SUMMARY:F&H St Helens
DESCRIPTION:
URL:https://larpseason.com/event/fh-st-helens/
LOCATION:F&H St Helens  53.51267\, -2.80851\, 53.51267\, -2.80851
CATEGORIES:Club Games
END:VEVENT
BEGIN:VEVENT
DTSTART;TZID=UTC:20240106T180000
DTEND;TZID=UTC:20240106T233000
DTSTAMP:20260423T145846
CREATED:20240315T212251Z
LAST-MODIFIED:20240316T164853Z
UID:1828-1704564000-1704583800@larpseason.com
SUMMARY:F&H Newcastle (evening)
DESCRIPTION:
URL:https://larpseason.com/event/fh-newcastle-evening/
LOCATION:F&H Newcastle 54.99042\, -1.59221\, 54.99042\, -1.59221
CATEGORIES:Club Games
END:VEVENT
BEGIN:VEVENT
DTSTART;TZID=UTC:20240107T100000
DTEND;TZID=UTC:20240107T180000
DTSTAMP:20260423T145846
CREATED:20240315T212444Z
LAST-MODIFIED:20240316T164028Z
UID:1832-1704621600-1704650400@larpseason.com
SUMMARY:F&H Leeds
DESCRIPTION:
URL:https://larpseason.com/event/fh-leeds/
LOCATION:F&H Leeds 53.84079\, -1.57558\, 53.84079\, -1.57558
CATEGORIES:Club Games
END:VEVENT
BEGIN:VEVENT
DTSTART;TZID=UTC:20240107T100000
DTEND;TZID=UTC:20240107T180000
DTSTAMP:20260423T145846
CREATED:20240315T212553Z
LAST-MODIFIED:20240316T164019Z
UID:1838-1704621600-1704650400@larpseason.com
SUMMARY:F&H Portsmouth
DESCRIPTION:
URL:https://larpseason.com/event/fh-portsmouth/
LOCATION:F&H Portsmouth  50.898111752115405\, -1.0793966218556679\, 50.898111752115405\, -1.0793966218556679
CATEGORIES:Club Games
END:VEVENT
BEGIN:VEVENT
DTSTART;TZID=UTC:20240107T100000
DTEND;TZID=UTC:20240107T180000
DTSTAMP:20260423T145846
CREATED:20240315T212659Z
LAST-MODIFIED:20240316T164008Z
UID:1844-1704621600-1704650400@larpseason.com
SUMMARY:F&H Plymouth
DESCRIPTION:
URL:https://larpseason.com/event/fh-plymouth/
LOCATION:F&H Plymouth\, 50.41857\, -4.0465
CATEGORIES:Club Games
END:VEVENT
BEGIN:VEVENT
DTSTART;TZID=UTC:20241107T080000
DTEND;TZID=UTC:20241109T170000
DTSTAMP:20260423T145846
CREATED:20240508T144248Z
LAST-MODIFIED:20240508T144249Z
UID:2321-1730966400-1731171600@larpseason.com
SUMMARY:Never Ever After Run #1
DESCRIPTION:A Larp about mortality\, loss and fairy tales. \n\n\n\nPlayers will take up the role of a conceptual fairy tale figure that lives in a fantasy world inside the head of a brilliant writer who caused a great revival of fairy tales in this era. \n\n\n\nHowever\, the writer is confronted with young dementia and he is slowly forgetting the beautiful characters\, places and events he created in his mind.
URL:https://larpseason.com/event/never-ever-after-run-1/
LOCATION:Fletcher Landgoed Hotel Renesse\, Fletchter Landgoed Hotel Renesse Stoofwekken 5\, 4325 BC Renesse\, Netherlands
CATEGORIES:International LARPs
END:VEVENT
BEGIN:VEVENT
DTSTART;TZID=UTC:20241107T080000
DTEND;TZID=UTC:20241110T170000
DTSTAMP:20260423T145846
CREATED:20240211T210713Z
LAST-MODIFIED:20240211T210713Z
UID:970-1730966400-1731258000@larpseason.com
SUMMARY:Evermist Society E01 - The Visitors of Samhain Night
DESCRIPTION:Samhain\, Forefathers’ Eve\, Halloween… 👻Different names for one night of the year – the night when the veil between worlds is at its thinnest\, and many portals to other planes of existence are open to all brave enough to pass through. For all supernatural beings\, this is the time for stories about the past\, fear of what may come\, and great opportunities to increase your magical powers. 🌚✨For students and teachers of Evermist College\, it is also a period when they do not have to hide the first supernatural changes in their bodies – ordinary mortals still mistake them for Halloween costumes. Any objections to their too-real appearance can be dispelled in the Poland of 2002 with the following sentence: “A gift from my uncle from the United States\, they make them like that there.” 🧙Many students go even further\, imagining what they will look like in their full magical powers and preparing fabulous costumes to announce their future greatness to others. On this night\, even the Headmaster and Professor Podwawelski turn a blind eye to breaking the rule of the Eternal Mist. 👀Feel the drill? 👇We invite you to the Evermist Society – a 3-day live-action game in a world where not only people exist but also supernatural beings – beasts\, elementals\, and others. 🧌 All magical beings and people who come into contact with magic are subject to the rule of the Evermist Society and must pass one of its colleges to learn to use their powers.Dark secrets\, interesting riddles\, magical creatures behind mysterious portals\, and lots of fun await you in November. 🧛
URL:https://larpseason.com/event/evermist-society-e01-the-visitors-of-samhain-night/
LOCATION:Zamek Międzylesie\, Zamek Międzylesie\, plac Wolności 1\, 57-530 Międzylesie\, Polska
CATEGORIES:International LARPs
END:VEVENT
BEGIN:VEVENT
DTSTART;TZID=UTC:20241107T080000
DTEND;TZID=UTC:20241110T170000
DTSTAMP:20260423T145846
CREATED:20240315T165904Z
LAST-MODIFIED:20240315T165904Z
UID:1617-1730966400-1731258000@larpseason.com
SUMMARY:Demeter II
DESCRIPTION:Welcome on the Demeter.\n\n\n\nBram Stokers classic gothic horror novel covers many different themes and subjects\, from suppressed sexuality\, death and decay\, to the clash of science and belief and the modern versus the ancient.  \n\n\n\nThe last voyage of the Demeter is told in chapter 7 of Dracula using excerpts from the Captain’s logbook and newspaper clippings. We have taken this part of the story to tell our very own version of it … maybe this is what really happened on the Demeter? \n\n\n\nDemeter is a four-day Gothic Horror Sailing larp\, where you can experience the „real“ story behind Bram Stoker’s Dracula traveling from Transylvania to England. \n\n\n\nThe ship will leave from Kappeln in Northern Germany\, close to the Danish border.
URL:https://larpseason.com/event/demeter-ii/
LOCATION:Kappeln in Northern Germany\, Kappeln\, Germany
CATEGORIES:International LARPs
END:VEVENT
BEGIN:VEVENT
DTSTART;TZID=UTC:20241108T080000
DTEND;TZID=UTC:20241110T170000
DTSTAMP:20260423T145846
CREATED:20240211T131509Z
LAST-MODIFIED:20240211T131509Z
UID:363-1731052800-1731258000@larpseason.com
SUMMARY:Duende Run 1
DESCRIPTION:A LARP ABOUT YOUTH\, GENIUS\, ART\, AND BEAUTY IN SPAIN BETWEEN THE FIRST WORLD WAR AND THE SPANISH CIVIL WAR.La residencia de estudiantes\, the student’s residence\, and La escuela de señoritas were created as an intellectual environment to help foster the brilliance of Spain’s brightest young thinkers\, writers\, scientists and artists. Luis Buñuel\, Salvador Dalí\, Lorca\, Ortega y Gasset were students and Marie Curie\, Einstein\, H.G. Wells and Stravinsky\, among others\, visited the student’s residence. Players will play some of these characters. \n\n\n\nThe Larp happens between the World Wars and before the Civil War\, in a fictional meeting between the male and female student residents with some visiting artists\, politicians\, and scientists. \n\n\n\nPlayers will play these bright artists\, scientists and thinkers.
URL:https://larpseason.com/event/duende-run-1/
LOCATION:Sigüenza\, Sigüenza\, close to Madrid
CATEGORIES:International LARPs
END:VEVENT
BEGIN:VEVENT
DTSTART;TZID=UTC:20241108T080000
DTEND;TZID=UTC:20241110T170000
DTSTAMP:20260423T145846
CREATED:20240211T202105Z
LAST-MODIFIED:20240316T211509Z
UID:929-1731052800-1731258000@larpseason.com
SUMMARY:Ascendancy Event 4
DESCRIPTION:
URL:https://larpseason.com/event/ascendancy-event-4/
LOCATION:The Wilderness Centre\, Wilderness Centre\, Plump Hill\, Mitcheldean\, Gloucestershire. GL17 0HA.
CATEGORIES:UK LARPs,Weekend LARPs
END:VEVENT
BEGIN:VEVENT
DTSTART;TZID=UTC:20241108T080000
DTEND;TZID=UTC:20241110T170000
DTSTAMP:20260423T145846
CREATED:20240211T204743Z
LAST-MODIFIED:20240316T211514Z
UID:958-1731052800-1731258000@larpseason.com
SUMMARY:Divided We Fall 3: Cursed Be the Ground
DESCRIPTION:
URL:https://larpseason.com/event/divided-we-fall-3-cursed-be-the-ground/
LOCATION:HQ Airsoft\, HQ Airsoft\, A164\, Driffield YO25 9EY
CATEGORIES:UK LARPs,Weekend LARPs
END:VEVENT
BEGIN:VEVENT
DTSTART;TZID=UTC:20241108T080000
DTEND;TZID=UTC:20241110T170000
DTSTAMP:20260423T145846
CREATED:20240314T221257Z
LAST-MODIFIED:20240316T211520Z
UID:1507-1731052800-1731258000@larpseason.com
SUMMARY:Gruntz Reloaded: Outpost 31
DESCRIPTION:
URL:https://larpseason.com/event/gruntz-reloaded-outpost-31/
LOCATION:Consall Scout Camp\, Consall Scout Camp\, Blakely Lane\, Dilhorne\, Stoke-on-Trent ST10 2PS
CATEGORIES:UK LARPs,Weekend LARPs
END:VEVENT
BEGIN:VEVENT
DTSTART;TZID=UTC:20241108T080000
DTEND;TZID=UTC:20241110T170000
DTSTAMP:20260423T145846
CREATED:20240314T232448Z
LAST-MODIFIED:20250219T212844Z
UID:1599-1731052800-1731258000@larpseason.com
SUMMARY:Omnia Mutantor 4: A Snowflake's Chance
DESCRIPTION:
URL:https://larpseason.com/event/omnia-mutantor-a-snowflakes-chance/
LOCATION:YHA Hathersage\, YHA Hathersage\, Derbyshire
CATEGORIES:UK LARPs,Weekend LARPs
END:VEVENT
BEGIN:VEVENT
DTSTART;TZID=UTC:20241108T080000
DTEND;TZID=UTC:20241110T170000
DTSTAMP:20260423T145846
CREATED:20240506T131456Z
LAST-MODIFIED:20240506T131457Z
UID:2264-1731052800-1731258000@larpseason.com
SUMMARY:Unfinished Tome Event 4
DESCRIPTION:Welcome to The Unfinished Tome LARP\, a game of danger\, investigation and magic. You play as a mortal who has recently gained strange powers beyond those of your peers or have ever been seen in your town before. Called by mysterious dreams you leave behind your mundane life and walk into the wilds\, drawn by something unknowable. You meet others who dream as you do\, on the road\, will they be allies or opponents in the days to come? All of this is but the start of your story. \n\n\n\nThis is a game of dark fantasy that will include heavy elements of discovery\, combat and roleplaying but most of all player agency and choices. We aim to empower you to decide the end result of the story and do not intend to run events where the aim is simply to kill the bad guy of the week. The world is dangerous and full of monsters but you are the Awakened\, mortals empowered to hold your own and wield forgotten power to reshape the world.
URL:https://larpseason.com/event/unfinished-tome-event-4/
LOCATION:John’s Lee Wood Scout Campsite\, John's Lee Wood Scout Campsite Markfield Lane Markfield Leicestershire LE67 9PS
CATEGORIES:UK LARPs,Weekend LARPs
END:VEVENT
BEGIN:VEVENT
DTSTART;TZID=UTC:20241108T080000
DTEND;TZID=UTC:20241110T170000
DTSTAMP:20260423T145846
CREATED:20240506T131701Z
LAST-MODIFIED:20251006T203955Z
UID:2266-1731052800-1731258000@larpseason.com
SUMMARY:Oathbound Event 3: Bones of Bronze
DESCRIPTION:
URL:https://larpseason.com/event/oathbound-event-3-bones-of-bronze/
LOCATION:Ratlingate Scout Activity Centre\, Ratlingate Scout Activity Centre\, Rattlingate Ln Carlisle CA5 6DW
CATEGORIES:UK LARPs,Weekend LARPs
END:VEVENT
BEGIN:VEVENT
DTSTART;TZID=UTC:20241108T080000
DTEND;TZID=UTC:20241110T170000
DTSTAMP:20260423T145846
CREATED:20240901T184102Z
LAST-MODIFIED:20250214T182248Z
UID:2405-1731052800-1731258000@larpseason.com
SUMMARY:OS: Back to the Rock (Sanctioned)
DESCRIPTION:
URL:https://larpseason.com/event/orion-sphere-back-to-the-rock-sanctioned-event/
LOCATION:The Lenton Centre\, Willoughby Street\, Nottingham\, NG7 1RQ\, United Kingdom
CATEGORIES:Non-Fest Sanctioned,Sanctioned Events,UK LARPs
END:VEVENT
BEGIN:VEVENT
DTSTART;TZID=UTC:20241108T080000
DTEND;TZID=UTC:20241110T170000
DTSTAMP:20260423T145846
CREATED:20240904T183025Z
LAST-MODIFIED:20250215T201610Z
UID:2426-1731052800-1731258000@larpseason.com
SUMMARY:CuPa: Welcome to the Celebration of the Sea Wall (Wolves Sanctioned)
DESCRIPTION:
URL:https://larpseason.com/event/cupa-sanctioned-wolves/
LOCATION:Kibblestone Scout Camp\, Kibblestone Scout Camp\, Staffordshire
CATEGORIES:Curious Pastimes Sanctioned,Sanctioned Events,UK LARPs
END:VEVENT
BEGIN:VEVENT
DTSTART;TZID=UTC:20241108T140000
DTEND;TZID=UTC:20241110T140000
DTSTAMP:20260423T145846
CREATED:20240211T152100Z
LAST-MODIFIED:20240316T211538Z
UID:504-1731074400-1731247200@larpseason.com
SUMMARY:The Portents: Episode 3
DESCRIPTION:Have you ever watched a fantasy film and noticed the evil necromancers really missed a trick? Or a Disney film and thought the baddies really had all the best outfits? Do you find yourself wishing for the camaraderie of the shambling undead horde? Then we may have the game for you! \n\n\n\nIn The Portents\, you take on the role of a member of a warband taking advantage of the thinning of the veil between worlds\, sent to harvest Fear from the unsuspecting villagers of Heinoa – a valuable resource used by the sorcerers and cultists of your homeland.
URL:https://larpseason.com/event/the-portents-episode-3/
LOCATION:Gunman Airsoft Eversley Alpha\, Gunman Airsoft - Eversley The Welsh Dr (Off A327) Hook\, Hampshire RG27 0PX United Kingdom
CATEGORIES:UK LARPs,Weekend LARPs
END:VEVENT
BEGIN:VEVENT
DTSTART;TZID=UTC:20240113T100000
DTEND;TZID=UTC:20240113T180000
DTSTAMP:20260423T145846
CREATED:20240315T213446Z
LAST-MODIFIED:20240316T163958Z
UID:1850-1705140000-1705168800@larpseason.com
SUMMARY:F&H Sheffield
DESCRIPTION:
URL:https://larpseason.com/event/fh-sheffield/
LOCATION:F&H Sheffield 53.37133\, -1.57845\, 53.37133\, -1.57845
CATEGORIES:Club Games
END:VEVENT
BEGIN:VEVENT
DTSTART;TZID=UTC:20240114T100000
DTEND;TZID=UTC:20240114T180000
DTSTAMP:20260423T145846
CREATED:20240315T213832Z
LAST-MODIFIED:20240316T163934Z
UID:1857-1705226400-1705255200@larpseason.com
SUMMARY:F&H Cardiff
DESCRIPTION:
URL:https://larpseason.com/event/fh-cardiff/
LOCATION:F&H Cardiff 51.54118\, -3.22333\, 51.54118\, -3.22333
CATEGORIES:Club Games
END:VEVENT
END:VCALENDAR