BEGIN:VCALENDAR
VERSION:2.0
PRODID:-//LARP SEASON - ECPv6.15.20//NONSGML v1.0//EN
CALSCALE:GREGORIAN
METHOD:PUBLISH
X-WR-CALNAME:LARP SEASON
X-ORIGINAL-URL:https://larpseason.com
X-WR-CALDESC:Events for LARP SEASON
REFRESH-INTERVAL;VALUE=DURATION:PT1H
X-Robots-Tag:noindex
X-PUBLISHED-TTL:PT1H
BEGIN:VTIMEZONE
TZID:UTC
BEGIN:STANDARD
TZOFFSETFROM:+0000
TZOFFSETTO:+0000
TZNAME:UTC
DTSTART:20240101T000000
END:STANDARD
END:VTIMEZONE
BEGIN:VEVENT
DTSTART;TZID=UTC:20250301T080000
DTEND;TZID=UTC:20250304T170000
DTSTAMP:20260423T131945
CREATED:20240506T132144Z
LAST-MODIFIED:20240506T132145Z
UID:2274-1740816000-1741107600@larpseason.com
SUMMARY:L'Inconscience\, Conscience: Run 2
DESCRIPTION:Signups open until 5th May 2024.
URL:https://larpseason.com/event/linconscience-conscience-run-2/
LOCATION:Castillo de Santiago\, Castillo de Santiago\, Sanlúcar de Barrameda\, Cádiz
CATEGORIES:International LARPs
END:VEVENT
BEGIN:VEVENT
DTSTART;TZID=UTC:20250301T080000
DTEND;TZID=UTC:20250302T170000
DTSTAMP:20260423T131945
CREATED:20240922T123456Z
LAST-MODIFIED:20250214T200315Z
UID:2530-1740816000-1740934800@larpseason.com
SUMMARY:LarpCon 2025 - LarpCon & The Holy Grail
DESCRIPTION:
URL:https://larpseason.com/event/larpcon/
LOCATION:Whitwick and Coalville Leisure Centre\, Whitwick and Coalville Leisure Centre\, Stephenson Way\, Coalville LE67 3FE
CATEGORIES:Conventions & Festivals
END:VEVENT
BEGIN:VEVENT
DTSTART;TZID=UTC:20250228T080000
DTEND;TZID=UTC:20250302T170000
DTSTAMP:20260423T131945
CREATED:20250212T183652Z
LAST-MODIFIED:20250214T181532Z
UID:3060-1740729600-1740934800@larpseason.com
SUMMARY:Empire: Hall of the blood moth (player event)
DESCRIPTION:
URL:https://larpseason.com/event/hall-of-the-blood-moth-empire-player-event/
LOCATION:The Birks\, Cumbria\, The Birks\, Duddon Valley\, Lake District\, Cumbria
CATEGORIES:Empire Sanctioned,Sanctioned Events,UK LARPs
END:VEVENT
BEGIN:VEVENT
DTSTART;TZID=UTC:20250228T080000
DTEND;TZID=UTC:20250302T170000
DTSTAMP:20260423T131945
CREATED:20240904T183853Z
LAST-MODIFIED:20240904T183854Z
UID:2438-1740729600-1740934800@larpseason.com
SUMMARY:Unhappy Guests
DESCRIPTION:Unhappy guests! Is the much anticipated sequel to our debut LARP Unhappy Campers. \n\n\n\nCome and immerse yourself with a new horror genre. Themed after the dazzling 1920s and inspired by works like the Great Gatsby\, the Shining\, and the cosmic thrillers of HP Lovecraft. \n\n\n\nThe game will be framed around players taking on the role of socialites\, mobsters\, detectives and entertainers and good common working folk attending the grand opening. \n\n\n\nBut watch out. As occult happenings\, murderous siblings\, holes in reality and a haunted teddy bear is only the scratch of the surface of this place. Run\, hide\, investigate\, fight\, make deals with the devil\, survive and try to uncover just what in Creation is happening. \n\n\n\nWe are Dying to see you again.
URL:https://larpseason.com/event/unhappy-guests/
LOCATION:The Wilderness Centre\, Wilderness Centre\, Plump Hill\, Mitcheldean\, Gloucestershire. GL17 0HA.
CATEGORIES:UK LARPs,Weekend LARPs
END:VEVENT
BEGIN:VEVENT
DTSTART;TZID=UTC:20250227T080000
DTEND;TZID=UTC:20250302T170000
DTSTAMP:20260423T131945
CREATED:20250219T222707Z
LAST-MODIFIED:20250219T222708Z
UID:3449-1740643200-1740934800@larpseason.com
SUMMARY:Winter Tradition
DESCRIPTION:We are thrilled to invite you to join us for this immersive and captivating experience. Winter Tradition offers a dramatic and emotional upstairs-downstairs LARP\, bringing you back to a 1910 hunting estate in England.With space for 38 participants\, this international LARP first ran in 2021 and is back by popular demand. We’re returning to Jerstrup Herregård in Denmark with both familiar and new organizers ready to bring WT to life once more.Don’t miss your chance to be part of this unforgettable experience. Mark your calendars and get ready to sign up!
URL:https://larpseason.com/event/winter-tradition/
LOCATION:Jerstrup Herregård (Jerstrup Manor)\, Jerstrup Herregård (Jerstrup Manor)\, Jerstrupvej 44\, 5400 Bogense
CATEGORIES:International LARPs
END:VEVENT
BEGIN:VEVENT
DTSTART;TZID=UTC:20250225T190000
DTEND;TZID=UTC:20250225T220000
DTSTAMP:20260423T131945
CREATED:20250212T180743Z
LAST-MODIFIED:20250212T180744Z
UID:3028-1740510000-1740520800@larpseason.com
SUMMARY:VTM Nightfall: Game Zero
DESCRIPTION:
URL:https://larpseason.com/event/vtm-nightfall-game-zero/
LOCATION:The Prohibition Cabaret Bar\, Newcastle\, The Prohibition Cabaret Bar\, Newcastle
CATEGORIES:Club Games,UK LARPs
END:VEVENT
BEGIN:VEVENT
DTSTART;TZID=UTC:20250223T193000
DTEND;TZID=UTC:20250223T200000
DTSTAMP:20260423T131945
CREATED:20250214T201602Z
LAST-MODIFIED:20250214T201603Z
UID:3277-1740339000-1740340800@larpseason.com
SUMMARY:MVEX: Bleeding Edge
DESCRIPTION:
URL:https://larpseason.com/event/mvex-bleeding-edge/
LOCATION:Online
CATEGORIES:Online,UK LARPs
END:VEVENT
BEGIN:VEVENT
DTSTART;TZID=UTC:20250222T190000
DTEND;TZID=UTC:20250222T233000
DTSTAMP:20260423T131945
CREATED:20241019T145724Z
LAST-MODIFIED:20250214T181522Z
UID:2701-1740250800-1740267000@larpseason.com
SUMMARY:Empire: History and Virtue 4 (player event)
DESCRIPTION:
URL:https://larpseason.com/event/empire-player-event-history-and-virtue/
LOCATION:The Roman Baths\, The Roman Baths\, Abbey Churchyard\, Bath BA1 1LZ
CATEGORIES:Empire Sanctioned,Sanctioned Events,UK LARPs
END:VEVENT
BEGIN:VEVENT
DTSTART;TZID=UTC:20250222T130000
DTEND;TZID=UTC:20250222T190000
DTSTAMP:20260423T131945
CREATED:20241215T190046Z
LAST-MODIFIED:20241215T190046Z
UID:2802-1740229200-1740250800@larpseason.com
SUMMARY:Royal Academy for the Advancement of Arcan Sciences Event 2
DESCRIPTION:Victorian Gothic magic research LARP event. \n\n\n\nThe Royal Academy for the Advancement of Arcane Sciences (RAAAS) is a prestigious research institute dedicated to the codification and research of magic rituals\, but one of their schools promises magic unconstrained by time-consuming rituals; the School of Primal Magic. Their endeavours had previously all been unsuccessful\, however the discovery of an ancient automaton nine months ago\, and the subsequent breakthroughs have led to the department’s new prestigious reputation\, and several new rivalries.Now\, after months of tireless work\, the engineers of the Autonomy School have released an announcement to the researchers of the School of Primal Magic:“The Automaton is fixed.” \n\n\n\nPlayers will be researchers in the RAAAS School of Primal Magic the day The Automaton is restored to working order\, continuing their research into Primal Inscriptions. \n\n\n\nYou do not need to have attended the first event to come to the second.
URL:https://larpseason.com/event/royal-academy-for-the-advancement-of-arcan-sciences-event-2/
LOCATION:The Greyhound Pub\, Derby\, The Greyhound Pub\, Derby
CATEGORIES:Parlour LARPs,UK LARPs
END:VEVENT
BEGIN:VEVENT
DTSTART;TZID=UTC:20250222T100000
DTEND;TZID=UTC:20250222T170000
DTSTAMP:20260423T131945
CREATED:20250212T174036Z
LAST-MODIFIED:20250212T174037Z
UID:3006-1740218400-1740243600@larpseason.com
SUMMARY:Age of Essence
DESCRIPTION:
URL:https://larpseason.com/event/age-of-essence-11/
LOCATION:Nonsuch Park\, Nonsuch Mansion House\, Fir Walk\, Epsom\, KT17 2\, United Kingdom
CATEGORIES:Club Games,UK LARPs
END:VEVENT
BEGIN:VEVENT
DTSTART;TZID=UTC:20250222T090000
DTEND;TZID=UTC:20250222T170000
DTSTAMP:20260423T131945
CREATED:20241008T183225Z
LAST-MODIFIED:20250214T182622Z
UID:2600-1740214800-1740243600@larpseason.com
SUMMARY:Tales LARP Chapter 29: Shadows Stir OR Crushed
DESCRIPTION:
URL:https://larpseason.com/event/tales-larp-chapter-29-shadows-stir-or-crushed/
LOCATION:Hope Hill Campsite\, Hope Hill Campsite\, Meopham\, Gravesend DA13 0QJ
CATEGORIES:Club Games,UK LARPs
END:VEVENT
BEGIN:VEVENT
DTSTART;TZID=UTC:20250222T080000
DTEND;TZID=UTC:20250225T170000
DTSTAMP:20260423T131945
CREATED:20240506T132020Z
LAST-MODIFIED:20240506T132021Z
UID:2270-1740211200-1740502800@larpseason.com
SUMMARY:L'Inconscience\, Conscience: Run 1
DESCRIPTION:Signups open until 5th May 2024.
URL:https://larpseason.com/event/linconscience-conscience-run-1/
LOCATION:Castillo de Santiago\, Castillo de Santiago\, Sanlúcar de Barrameda\, Cádiz
CATEGORIES:International LARPs
END:VEVENT
BEGIN:VEVENT
DTSTART;TZID=UTC:20250222T080000
DTEND;TZID=UTC:20250223T170000
DTSTAMP:20260423T131945
CREATED:20250214T133648Z
LAST-MODIFIED:20250214T133648Z
UID:3108-1740211200-1740330000@larpseason.com
SUMMARY:International LARP Festival 2025
DESCRIPTION:We are so excited to announce the fifth edition of the International online Larp Festival! After the great success of the past editions we are back with two days dedicated to larp\, talks and having fun. We will play larps created to be experienced online\, with brilliant and innovative designs. In the evening we will party\, laugh\, meet new and old friends. Come and join us in a safe\, inclusive and playful space!
URL:https://larpseason.com/event/international-larp-festival-2025/
LOCATION:Online
CATEGORIES:International Conventions & Festivals,International LARPs
END:VEVENT
BEGIN:VEVENT
DTSTART;TZID=UTC:20250221T080000
DTEND;TZID=UTC:20250223T170000
DTSTAMP:20260423T131945
CREATED:20250219T231139Z
LAST-MODIFIED:20250219T231140Z
UID:3467-1740124800-1740330000@larpseason.com
SUMMARY:The Sleeper (A Murder Mystery LARP)
DESCRIPTION:
URL:https://larpseason.com/event/the-sleeper-a-murder-mystery-larp/
LOCATION:Stirling Youth Hostel\, Stirling Youth Hostel\, St John St\, Stirling FK8 1EA
CATEGORIES:UK LARPs,Weekend LARPs
END:VEVENT
BEGIN:VEVENT
DTSTART;TZID=UTC:20250221T080000
DTEND;TZID=UTC:20250223T170000
DTSTAMP:20260423T131945
CREATED:20250219T212446Z
LAST-MODIFIED:20250219T212447Z
UID:3342-1740124800-1740330000@larpseason.com
SUMMARY:The Zone: Event 15
DESCRIPTION:
URL:https://larpseason.com/event/the-zone-event-15/
LOCATION:Giants Seat Scout Camp\, Giants Seat Scout Camp\, Off Ringley Road West\, Radcliffe\, Manchester M26 1DY
CATEGORIES:UK LARPs,Weekend LARPs
END:VEVENT
BEGIN:VEVENT
DTSTART;TZID=UTC:20250221T080000
DTEND;TZID=UTC:20250223T170000
DTSTAMP:20260423T131945
CREATED:20250214T175724Z
LAST-MODIFIED:20250214T183154Z
UID:3125-1740124800-1740330000@larpseason.com
SUMMARY:LT: The Azgul Offensive (Gryphons sanctioned)
DESCRIPTION:
URL:https://larpseason.com/event/lt-the-azgul-offensive-sanctioned/
LOCATION:Kibblestone Scout Camp\, Kibblestone Scout Camp\, Staffordshire
CATEGORIES:Lorien Trust Sanctioned,Sanctioned Events,UK LARPs
END:VEVENT
BEGIN:VEVENT
DTSTART;TZID=UTC:20250221T080000
DTEND;TZID=UTC:20250223T170000
DTSTAMP:20260423T131945
CREATED:20241215T185136Z
LAST-MODIFIED:20241215T185137Z
UID:2786-1740124800-1740330000@larpseason.com
SUMMARY:Ruined Future: Fall of Shadows
DESCRIPTION:A rising threat in the wasteland begins using scavenged technology and dangerous techniques to launch devastating attacks against the Sanctuary Pact. As this force grows in power\, shadowy figures work in the background\, complicating the fight for survival. You must uncover the source of this looming menace and face the dangers it brings\, making critical choices that will shape the future of the wasteland and the Sanctuary Pact. \n\n\n\nprice for the event is £65 up to 14 days before the event\, after this time it will go up to £70 or £75 on the door.
URL:https://larpseason.com/event/ruined-future-fall-of-shadows/
LOCATION:John’s Lee Wood Scout Campsite\, John's Lee Wood Scout Campsite Markfield Lane Markfield Leicestershire LE67 9PS
CATEGORIES:UK LARPs,Weekend LARPs
END:VEVENT
BEGIN:VEVENT
DTSTART;TZID=UTC:20250221T080000
DTEND;TZID=UTC:20250223T170000
DTSTAMP:20260423T131945
CREATED:20241009T154623Z
LAST-MODIFIED:20241009T154624Z
UID:2624-1740124800-1740330000@larpseason.com
SUMMARY:The Five Kingdoms
DESCRIPTION:
URL:https://larpseason.com/event/the-five-kingdoms/
LOCATION:Gunman Airsoft Eversley Alpha\, Gunman Airsoft - Eversley The Welsh Dr (Off A327) Hook\, Hampshire RG27 0PX United Kingdom
CATEGORIES:UK LARPs,Weekend LARPs
END:VEVENT
BEGIN:VEVENT
DTSTART;TZID=UTC:20250221T000000
DTEND;TZID=UTC:20250223T235959
DTSTAMP:20260423T131945
CREATED:20250212T164933Z
LAST-MODIFIED:20250214T180449Z
UID:2933-1740096000-1740355199@larpseason.com
SUMMARY:Heroes and Heroines: The IRN Dome
DESCRIPTION:In an attempt to quell the in-fighting between The Dark Temple and The Pyramid of Light\, The Council has come to the decision that The Protectorate must erect a mighty ‘Illuminating Resistance Node’\, Or IRN Dome for short. The IRN Dome is envisaged as a mighty ward\, which sits above The Protectorate and causes anything tainted by necromancy to glow brightly. This is to prevent any further items tainted with necromancy from entering The Protectorate\, and to highlight any items which may have snuck their way in already\, and cut off any infiltrations that Malice may have made into The Protectorate already. \n\n\n\nJust one problem – Foxglove is a STICKLER for gaining consent where this ward would overlap the borders of our neighbours. The ward as it stands will overlap the borders of The Oakwoods and The Iron League to the East and with The Haunted Hills to the North. \n\n\n\nWith patrols at a premium\, a patrol of low level Auxiliaries has been assembled to go and diplome with our friends and neighbours in The Haunted Hills to ask their permission to allow The IRN Dome to overlap into their lands. The inhabitants of The Haunted Hills are mostly Orcish\, and in many cases former Protectorate members who have left the area in favour of more Orcish ways of life. \n\n\n\nWe envision that this mission will require tact\, cunning\, and a knowledge of how Orcish culture works… Foxglove will not give their permission without the consent of our friends and neighbours in The Haunted Hills… But without The IRN Dome Malice can effectively sneak whatever they want across our border without us knowing…
URL:https://larpseason.com/event/heroes-and-heroines-the-irn-dome/
LOCATION:Rough Close Scout Campsite\, Rough Close Scout Campsite\, Tanners Lane Berkswell\, CV7 &DD
CATEGORIES:Club Games,UK LARPs,Weekend LARPs
END:VEVENT
BEGIN:VEVENT
DTSTART;TZID=UTC:20250220T080000
DTEND;TZID=UTC:20250223T170000
DTSTAMP:20260423T131945
CREATED:20240311T225914Z
LAST-MODIFIED:20240311T225952Z
UID:1267-1740038400-1740330000@larpseason.com
SUMMARY:Together At Last: Run 6
DESCRIPTION:Together At Last is set in a near-future world where extreme social distancing has been the norm for more than four decades. However\, a major research breakthrough has recently occured: a once-per-lifetime jab allowing you to safely meet other people in person for a limited period of time. The Department of Marriage has decided to use this technology to enhance the government-run romantic matching programme\, for the first time enabling its participants to actually meet in the flesh their computer-assigned romantic partners. \n\n\n\nDuring this programme you will receive this jab and enter a sterilised\, domed facility together with a cohort of other bachelors and bachelorettes. There\, a machine learning algorithm will set up a sequence of romantic relationships for you\, of various durations and with a diverse selection of partners. This will give your cortical implant enough data about your personality and preferences — sometimes things that even you don’t know about yourself — to enable the system to find your Forever Match\, who will then become your permanent life companion. With a 99.5% success rate\, the Together At Last programme is your best and only chance at true marital bliss. \n\n\n\nEver so slightly awkward romance with a dash of black comedy. We took inspiration from real life and made Hang the DJ even more dystopian by setting it against a backdrop of social isolation!
URL:https://larpseason.com/event/together-at-last-run-2/
LOCATION:Berg en Dal\, Berg en Dal\, Nijmegen\, The Netherlands
CATEGORIES:International LARPs
END:VEVENT
BEGIN:VEVENT
DTSTART;TZID=UTC:20250216T180000
DTEND;TZID=UTC:20250216T220000
DTSTAMP:20260423T131945
CREATED:20250202T212101Z
LAST-MODIFIED:20250202T212101Z
UID:2845-1739728800-1739743200@larpseason.com
SUMMARY:Generation Season 1 Event 1
DESCRIPTION:🚀 A new monthly sci-fi larp coming to Sheffield 🚀GENERATION is a monthly sci-fi Larp about a journey through space spanning many centuries. You can expect a mixture of politics\, problem-solving\, hidden allegiances\, and a sprinkle of existentialism. The first season is about the months following the mission’s departure and all the hope and uncertainty that entails. Players returning for future seasons will be able to play the descendants of their previous characters\, as the culture onboard the ship changes and evolves.
URL:https://larpseason.com/event/generation-season-1-event-1/
LOCATION:The Treehouse\, The Treehouse board game cafe 41 Boston Street\, Sheffield\, S2 4QF
CATEGORIES:Club Games,UK LARPs
END:VEVENT
BEGIN:VEVENT
DTSTART;TZID=UTC:20250215T160000
DTEND;TZID=UTC:20250215T230000
DTSTAMP:20260423T131945
CREATED:20241006T104337Z
LAST-MODIFIED:20250214T180811Z
UID:2569-1739635200-1739660400@larpseason.com
SUMMARY:Empire: A Semmerholm Soiree (player event)
DESCRIPTION:On the shores of the Semmerlak\, yeofolk hurry around an old hall just north of Semmer’s Rose. They are decked in shimmering gold as they go about their work\, preparing for the dawn of something… new. \n\n\n\nFrom her new estate in Causse\, Lady Amicia of the Semmerlak\, Senator for Semmerholm\, invites you to join her for a truly Dawnish celebration\, as she announces the foundation of her new House. \n\n\n\nExpect live music\, dancing\, a three course meal\, and plenty of declarations of love and glory in this Semmerholm Soirée.
URL:https://larpseason.com/event/empire-player-event-a-semmerholm-soiree/
LOCATION:Holiday Inn Bolton Centre\, Holiday Inn Bolton Centre
CATEGORIES:Empire Sanctioned,Sanctioned Events,UK LARPs
END:VEVENT
BEGIN:VEVENT
DTSTART;TZID=UTC:20250215T080000
DTEND;TZID=UTC:20250218T170000
DTSTAMP:20260423T131945
CREATED:20240311T225745Z
LAST-MODIFIED:20240311T230014Z
UID:1261-1739606400-1739898000@larpseason.com
SUMMARY:Together At Last: Run 5
DESCRIPTION:Together At Last is set in a near-future world where extreme social distancing has been the norm for more than four decades. However\, a major research breakthrough has recently occured: a once-per-lifetime jab allowing you to safely meet other people in person for a limited period of time. The Department of Marriage has decided to use this technology to enhance the government-run romantic matching programme\, for the first time enabling its participants to actually meet in the flesh their computer-assigned romantic partners. \n\n\n\nDuring this programme you will receive this jab and enter a sterilised\, domed facility together with a cohort of other bachelors and bachelorettes. There\, a machine learning algorithm will set up a sequence of romantic relationships for you\, of various durations and with a diverse selection of partners. This will give your cortical implant enough data about your personality and preferences — sometimes things that even you don’t know about yourself — to enable the system to find your Forever Match\, who will then become your permanent life companion. With a 99.5% success rate\, the Together At Last programme is your best and only chance at true marital bliss. \n\n\n\nEver so slightly awkward romance with a dash of black comedy. We took inspiration from real life and made Hang the DJ even more dystopian by setting it against a backdrop of social isolation!
URL:https://larpseason.com/event/together-at-last-run-1/
LOCATION:Berg en Dal\, Berg en Dal\, Nijmegen\, The Netherlands
CATEGORIES:International LARPs
END:VEVENT
BEGIN:VEVENT
DTSTART;TZID=UTC:20250215T080000
DTEND;TZID=UTC:20250215T170000
DTSTAMP:20260423T131945
CREATED:20241003T174345Z
LAST-MODIFIED:20241003T174346Z
UID:2554-1739606400-1739638800@larpseason.com
SUMMARY:The Unfinished Tome: 1 Day Event
DESCRIPTION:
URL:https://larpseason.com/event/the-unfinished-tome-1-day-event/
LOCATION:Chilwell Memorial Hall\, Chilwell Memorial Hall
CATEGORIES:UK LARPs
END:VEVENT
BEGIN:VEVENT
DTSTART;TZID=UTC:20250215T000000
DTEND;TZID=UTC:20250215T235959
DTSTAMP:20260423T131945
CREATED:20250212T175444Z
LAST-MODIFIED:20250219T215226Z
UID:3033-1739577600-1739663999@larpseason.com
SUMMARY:Dungeon Quest: Can't Stop the Rot
DESCRIPTION:The tiny hamlet of Petra\, is the next destination\, little more now than a way-station occasionally used by travelers on their way to the city of Shalespatz. \n\n\n\nOnce a thriving mining town\, Petra’s riches are now gone and the townspeople forgotten. The town was never truly a mining town\, although it now retains the scars of industry in the form of mine shafts\, its wealth originated from a meteor strike a millennium earlier\, after the discovery the hamlet grew and thrived\, but just as quickly the star metal and shattered shale was gone and so were those who sought it. \n\n\n\nUpon the road to Petra tales abound of the hardships that have since befallen the hamlet\, tales of desperation\, tales recounting the peoples rejection of the traditional pantheon and the possibility they have embraced something else… \n\n\n\nWhat adventure lies in the Hamlet of Petra? \n\n\n\nYou will soon find out as you head for the only remaining tavern in town – “The Stone Sable”
URL:https://larpseason.com/event/dungeon-quest-cant-stop-the-rot/
LOCATION:Lagan Airsoft Club\, 17g station view bt17 0ae Belfast\, United Kingdom
CATEGORIES:Club Games,UK LARPs
ORGANIZER;CN="Dungeon Quest":MAILTO:DungeonQuestLogistics@gmail.com
END:VEVENT
BEGIN:VEVENT
DTSTART;TZID=UTC:20250214T080000
DTEND;TZID=UTC:20250216T170000
DTSTAMP:20260423T131945
CREATED:20250219T223226Z
LAST-MODIFIED:20250219T223227Z
UID:3459-1739520000-1739725200@larpseason.com
SUMMARY:Fractured Fates
DESCRIPTION:Nestled in the woods near Czocha\, an old inn has become the focal point of an unsettling phenomenon. Magic in the surrounding area has begun to shift unpredictably—spells falter\, enchantments dissolve\, and the natural flow of magic seems disrupted. The goblins who lived and worked at the inn have fled to Czocha\, shaken and unable to articulate what drove them away beyond a profound sense of wrongness. Now\, drawn by curiosity\, duty\, or sheer chance\, students\, adventurers\, and wanderers alike find themselves converging on the inn\, seeking to uncover the truth behind the mysterious disturbances that ripple through the magical world. What awaits the witchards at the inn that made the goblins flee in terror? This game is tilted towards dark fun rather than lighthearted merriment.
URL:https://larpseason.com/event/fractured-fates/
LOCATION:Rollespilshytten\, Rollespilshytten\, Ballerupvej 93\, 3500 Værløse
CATEGORIES:International LARPs
END:VEVENT
BEGIN:VEVENT
DTSTART;TZID=UTC:20250214T080000
DTEND;TZID=UTC:20250216T170000
DTSTAMP:20260423T131945
CREATED:20250219T214546Z
LAST-MODIFIED:20250219T214547Z
UID:3388-1739520000-1739725200@larpseason.com
SUMMARY:Empire: Here Be Boggarts (player event)
DESCRIPTION:
URL:https://larpseason.com/event/empire-here-be-boggarts-player-event/
LOCATION:Ullesthorpe Scout Campsite\, Ullesthorpe Scout Campsite
CATEGORIES:Empire Sanctioned,Kids LARPs,Sanctioned Events,UK LARPs
END:VEVENT
BEGIN:VEVENT
DTSTART;TZID=UTC:20250213T080000
DTEND;TZID=UTC:20250216T170000
DTSTAMP:20260423T131945
CREATED:20240312T184939Z
LAST-MODIFIED:20240312T185040Z
UID:1395-1739433600-1739725200@larpseason.com
SUMMARY:Dresden Files 1922 LARP: Run 1
DESCRIPTION:
URL:https://larpseason.com/event/dresden-files-1922-larp-run-1/
LOCATION:Grant-Humphreys  Historic Mansion\, Grant-Humphreys Historic Mansion\, Denver\, CO
CATEGORIES:International LARPs
END:VEVENT
BEGIN:VEVENT
DTSTART;TZID=UTC:20250208T080000
DTEND;TZID=UTC:20250210T170000
DTSTAMP:20260423T131945
CREATED:20241019T145512Z
LAST-MODIFIED:20250214T181432Z
UID:2699-1739001600-1739206800@larpseason.com
SUMMARY:Empire: Little Quzar's Fiesta of Flame (player event)
DESCRIPTION:
URL:https://larpseason.com/event/empire-player-event-little-quzars-fiesta-of-flame/
LOCATION:St Briavels\, St Briavels Castle\, Church Street\, St Briavels\, Lydney\, Gloucestershire\, GL15 6TA
CATEGORIES:Empire Sanctioned,Sanctioned Events,UK LARPs
END:VEVENT
BEGIN:VEVENT
DTSTART;TZID=UTC:20250208T080000
DTEND;TZID=UTC:20250208T170000
DTSTAMP:20260423T131945
CREATED:20241019T145338Z
LAST-MODIFIED:20250214T181421Z
UID:2697-1739001600-1739034000@larpseason.com
SUMMARY:Empire: Concordia Esoterica II (player event)
DESCRIPTION:
URL:https://larpseason.com/event/empire-player-event-concordia-esoterica-ii/
LOCATION:Oxford Town Hall\, Oxford Town Hall\, Oxford
CATEGORIES:Empire Sanctioned,Sanctioned Events,UK LARPs
END:VEVENT
END:VCALENDAR