BEGIN:VCALENDAR
VERSION:2.0
PRODID:-//LARP SEASON - ECPv6.15.20//NONSGML v1.0//EN
CALSCALE:GREGORIAN
METHOD:PUBLISH
X-WR-CALNAME:LARP SEASON
X-ORIGINAL-URL:https://larpseason.com
X-WR-CALDESC:Events for LARP SEASON
REFRESH-INTERVAL;VALUE=DURATION:PT1H
X-Robots-Tag:noindex
X-PUBLISHED-TTL:PT1H
BEGIN:VTIMEZONE
TZID:UTC
BEGIN:STANDARD
TZOFFSETFROM:+0000
TZOFFSETTO:+0000
TZNAME:UTC
DTSTART:20240101T000000
END:STANDARD
END:VTIMEZONE
BEGIN:VTIMEZONE
TZID:Europe/Paris
BEGIN:DAYLIGHT
TZOFFSETFROM:+0100
TZOFFSETTO:+0200
TZNAME:CEST
DTSTART:20240331T010000
END:DAYLIGHT
BEGIN:STANDARD
TZOFFSETFROM:+0200
TZOFFSETTO:+0100
TZNAME:CET
DTSTART:20241027T010000
END:STANDARD
BEGIN:DAYLIGHT
TZOFFSETFROM:+0100
TZOFFSETTO:+0200
TZNAME:CEST
DTSTART:20250330T010000
END:DAYLIGHT
BEGIN:STANDARD
TZOFFSETFROM:+0200
TZOFFSETTO:+0100
TZNAME:CET
DTSTART:20251026T010000
END:STANDARD
BEGIN:DAYLIGHT
TZOFFSETFROM:+0100
TZOFFSETTO:+0200
TZNAME:CEST
DTSTART:20260329T010000
END:DAYLIGHT
BEGIN:STANDARD
TZOFFSETFROM:+0200
TZOFFSETTO:+0100
TZNAME:CET
DTSTART:20261025T010000
END:STANDARD
END:VTIMEZONE
BEGIN:VEVENT
DTSTART;TZID=UTC:20250215T000000
DTEND;TZID=UTC:20250215T235959
DTSTAMP:20260423T150304
CREATED:20250212T175444Z
LAST-MODIFIED:20250219T215226Z
UID:3033-1739577600-1739663999@larpseason.com
SUMMARY:Dungeon Quest: Can't Stop the Rot
DESCRIPTION:The tiny hamlet of Petra\, is the next destination\, little more now than a way-station occasionally used by travelers on their way to the city of Shalespatz. \n\n\n\nOnce a thriving mining town\, Petra’s riches are now gone and the townspeople forgotten. The town was never truly a mining town\, although it now retains the scars of industry in the form of mine shafts\, its wealth originated from a meteor strike a millennium earlier\, after the discovery the hamlet grew and thrived\, but just as quickly the star metal and shattered shale was gone and so were those who sought it. \n\n\n\nUpon the road to Petra tales abound of the hardships that have since befallen the hamlet\, tales of desperation\, tales recounting the peoples rejection of the traditional pantheon and the possibility they have embraced something else… \n\n\n\nWhat adventure lies in the Hamlet of Petra? \n\n\n\nYou will soon find out as you head for the only remaining tavern in town – “The Stone Sable”
URL:https://larpseason.com/event/dungeon-quest-cant-stop-the-rot/
LOCATION:Lagan Airsoft Club\, 17g station view bt17 0ae Belfast\, United Kingdom
CATEGORIES:Club Games,UK LARPs
ORGANIZER;CN="Dungeon Quest":MAILTO:DungeonQuestLogistics@gmail.com
END:VEVENT
BEGIN:VEVENT
DTSTART;TZID=UTC:20250214T080000
DTEND;TZID=UTC:20250216T170000
DTSTAMP:20260423T150305
CREATED:20250219T223226Z
LAST-MODIFIED:20250219T223227Z
UID:3459-1739520000-1739725200@larpseason.com
SUMMARY:Fractured Fates
DESCRIPTION:Nestled in the woods near Czocha\, an old inn has become the focal point of an unsettling phenomenon. Magic in the surrounding area has begun to shift unpredictably—spells falter\, enchantments dissolve\, and the natural flow of magic seems disrupted. The goblins who lived and worked at the inn have fled to Czocha\, shaken and unable to articulate what drove them away beyond a profound sense of wrongness. Now\, drawn by curiosity\, duty\, or sheer chance\, students\, adventurers\, and wanderers alike find themselves converging on the inn\, seeking to uncover the truth behind the mysterious disturbances that ripple through the magical world. What awaits the witchards at the inn that made the goblins flee in terror? This game is tilted towards dark fun rather than lighthearted merriment.
URL:https://larpseason.com/event/fractured-fates/
LOCATION:Rollespilshytten\, Rollespilshytten\, Ballerupvej 93\, 3500 Værløse
CATEGORIES:International LARPs
END:VEVENT
BEGIN:VEVENT
DTSTART;TZID=UTC:20250214T080000
DTEND;TZID=UTC:20250216T170000
DTSTAMP:20260423T150305
CREATED:20250219T214546Z
LAST-MODIFIED:20250219T214547Z
UID:3388-1739520000-1739725200@larpseason.com
SUMMARY:Empire: Here Be Boggarts (player event)
DESCRIPTION:
URL:https://larpseason.com/event/empire-here-be-boggarts-player-event/
LOCATION:Ullesthorpe Scout Campsite\, Ullesthorpe Scout Campsite
CATEGORIES:Empire Sanctioned,Kids LARPs,Sanctioned Events,UK LARPs
END:VEVENT
BEGIN:VEVENT
DTSTART;TZID=UTC:20250213T080000
DTEND;TZID=UTC:20250216T170000
DTSTAMP:20260423T150305
CREATED:20240312T184939Z
LAST-MODIFIED:20240312T185040Z
UID:1395-1739433600-1739725200@larpseason.com
SUMMARY:Dresden Files 1922 LARP: Run 1
DESCRIPTION:
URL:https://larpseason.com/event/dresden-files-1922-larp-run-1/
LOCATION:Grant-Humphreys  Historic Mansion\, Grant-Humphreys Historic Mansion\, Denver\, CO
CATEGORIES:International LARPs
END:VEVENT
BEGIN:VEVENT
DTSTART;TZID=UTC:20250208T080000
DTEND;TZID=UTC:20250210T170000
DTSTAMP:20260423T150305
CREATED:20241019T145512Z
LAST-MODIFIED:20250214T181432Z
UID:2699-1739001600-1739206800@larpseason.com
SUMMARY:Empire: Little Quzar's Fiesta of Flame (player event)
DESCRIPTION:
URL:https://larpseason.com/event/empire-player-event-little-quzars-fiesta-of-flame/
LOCATION:St Briavels\, St Briavels Castle\, Church Street\, St Briavels\, Lydney\, Gloucestershire\, GL15 6TA
CATEGORIES:Empire Sanctioned,Sanctioned Events,UK LARPs
END:VEVENT
BEGIN:VEVENT
DTSTART;TZID=UTC:20250208T080000
DTEND;TZID=UTC:20250208T170000
DTSTAMP:20260423T150305
CREATED:20241019T145338Z
LAST-MODIFIED:20250214T181421Z
UID:2697-1739001600-1739034000@larpseason.com
SUMMARY:Empire: Concordia Esoterica II (player event)
DESCRIPTION:
URL:https://larpseason.com/event/empire-player-event-concordia-esoterica-ii/
LOCATION:Oxford Town Hall\, Oxford Town Hall\, Oxford
CATEGORIES:Empire Sanctioned,Sanctioned Events,UK LARPs
END:VEVENT
BEGIN:VEVENT
DTSTART;TZID=UTC:20250208T080000
DTEND;TZID=UTC:20250208T170000
DTSTAMP:20260423T150305
CREATED:20240904T190432Z
LAST-MODIFIED:20240904T190433Z
UID:2480-1739001600-1739034000@larpseason.com
SUMMARY:On Pins and Needles: Run 2
DESCRIPTION:We invite you to sign up for the 𝘄𝗮𝗶𝘁𝗶𝗻𝗴𝗹𝗶𝘀𝘁 𝗼𝗳 “𝗢𝗻 𝗣𝗶𝗻𝘀 𝗮𝗻𝗱 𝗡𝗲𝗲𝗱𝗹𝗲𝘀”\, a Sartre-inspired larp about facing the consequences for past actions – set in a bowling alley. A one-day larp played in Leipzig\, Germany.
URL:https://larpseason.com/event/on-pins-and-needles-run-2/
LOCATION:Erlebnishotel „Zur Schiffsmühle”\, Zur Schiffsmühle\, Grimma\, 04668\, Germany
CATEGORIES:International LARPs
END:VEVENT
BEGIN:VEVENT
DTSTART;TZID=UTC:20250207T080000
DTEND;TZID=UTC:20250209T170000
DTSTAMP:20260423T150305
CREATED:20241009T154538Z
LAST-MODIFIED:20241009T154538Z
UID:2622-1738915200-1739120400@larpseason.com
SUMMARY:The Portents Episode 4
DESCRIPTION:
URL:https://larpseason.com/event/the-portents-episode-4/
LOCATION:Gunman Airsoft Eversley Alpha\, Gunman Airsoft - Eversley The Welsh Dr (Off A327) Hook\, Hampshire RG27 0PX United Kingdom
CATEGORIES:UK LARPs,Weekend LARPs
END:VEVENT
BEGIN:VEVENT
DTSTART;TZID=UTC:20250207T080000
DTEND;TZID=UTC:20250209T170000
DTSTAMP:20260423T150305
CREATED:20240314T231643Z
LAST-MODIFIED:20240316T195400Z
UID:1589-1738915200-1739120400@larpseason.com
SUMMARY:Shogun Run 2
DESCRIPTION:‘In the midst of chaos\, there is also opportunity’ ― Sun Tzu\, The Art of War \n\n\n\nThe ruler of Japan\, the Shogun\, is dead. It is a time when Samurai warlords wrestle with each other and with the constraints of their own honour while attempting to seize power in Japan\, employing both elegant Geisha and sinister Ninja in their cunning schemes. Foreign ambassadors fear any conflict will spread war across the Orient. The bureaucrats of the government\, the Bakufu\, are trying to quell unrest among the populace by harnessing the popularity of such figures as Actors and Sumo Wrestlers. In the meantime\, the criminal gangs of the Yakuza seek to prey on the Merchant classes\, who grow ever more wealthy. But the West has discovered Japan and their powerful weapons threaten to break apart Japanese society. Will the Portuguese retain their monopoly on trade with Japan or will Dutch merchants succeed in establishing a foothold? Will the arrival of the Protestants result in a schism in the Catholic Church of Japan? Or will the Mount Hiei monks persuade the new ruler of Japan to expel all foreigners? \n\n\n\nTo get an entry in the lottery for player spaces you must register your interest in playing Shogun : \n\n\n\nShogun Registration\n\n\n\nby Midnight GMT on 31st March 2024
URL:https://larpseason.com/event/shogun-run-2/
LOCATION:West Retford Hotel\, West Retford Hotel\, 24 North Rd\, Retford DN22 7XG
CATEGORIES:Freeforms & Nordic,UK LARPs
END:VEVENT
BEGIN:VEVENT
DTSTART;TZID=UTC:20250206T080000
DTEND;TZID=UTC:20250209T170000
DTSTAMP:20260423T150305
CREATED:20250214T191743Z
LAST-MODIFIED:20250214T191744Z
UID:3257-1738828800-1739120400@larpseason.com
SUMMARY:University of Sonder
DESCRIPTION:You’re invited to enroll or apply for a teaching position in a school designed to make you into a wizard who can have a place in society. You can choose your specialty\, be part of a research project\, just as long as you don’t challenge or question those in power. \n\n\n\nDisplays of emotions are strictly discouraged\, as are romantic relationships\, and following the traditions is the only way to succeed. Or is it? There’s more than meets the eye going on within these castle walls. \n\n\n\nCome see what you can endure and what you can get away with at the University of Sonder.
URL:https://larpseason.com/event/university-of-sonder/
LOCATION:Castle Altenhausen\, Castle Altenhausen
CATEGORIES:International LARPs
END:VEVENT
BEGIN:VEVENT
DTSTART;TZID=UTC:20250201T140000
DTEND;TZID=UTC:20250201T220000
DTSTAMP:20260423T150305
CREATED:20241113T150704Z
LAST-MODIFIED:20250214T181411Z
UID:2715-1738418400-1738447200@larpseason.com
SUMMARY:Empire: Our Lady of Audacity Socialite Network Soiree (player event)
DESCRIPTION:Nestled in the rolling plains and quiet woodlands of Foracci lies Our Lady of Pride\, the fortification that keeps Sarvos safe from land-based barbarians. Rising solid and yet stately\, the castle is a shining example of Vigilance and Virtue. \n\n\n\nOur Lady of Pride is not where this event is held. \n\n\n\nMiles down the coast on the island of Cigno squats a square stone tower. It has the appearance of ancient white granite\, but a scratch of the fingernail reveals that this is only a convincing veneer. During the day it mostly sits silent\, but at night the tower comes alive with an ever-rotating host of Sarvos’ shining stars. Socialites and politicians rub shoulders with smugglers and professional rogues as conversation flows like wine. Artists and theatricals unveil their most risqué works\, free from the censure that might meet them in the outside world. \n\n\n\nWelcome then\, to Our Lady of Audacity. \n\n\n\nOn this occasion\, Our Lady of Audacity plays host to The Socialite Network\, the Empire’s foremost union for cicisbeo. They are celebrating their first anniversary as well as their first major success\, as soon the Open Fan Cicisbeo Academy will open its doors for the first time. Prince Bianca Legna di Sarvos is a great believer that having great Pride means one should throw great parties\, and she has invited every cicisbeo in Anvil to join her – and their friends\, as long as those friends aren’t boring. \n\n\n\nUnfortunately\, Bianca is also currently suffering under an Unfettered Anarchy curse\, so her long-suffering Master of Protection has taken over to do the actual organising. Tellany di Mestra promises canapés\, wine\, and cake\, as well as precious diversions like raffles and music. Bianca meanwhile promises a new theatre piece\, something to eclipse her last show – the Cursed Play that caused mass havoc in Anvil last year. Tellany laughs nervously\, and promises that it definitely won’t be as dangerous as that. Probably.
URL:https://larpseason.com/event/empire-player-event-our-lady-of-audacity-socialite-network-soiree/
LOCATION:Square Tower\, Old Portsmouth\, square tower\, old portsmouth
CATEGORIES:Empire Sanctioned,Sanctioned Events,UK LARPs
END:VEVENT
BEGIN:VEVENT
DTSTART;TZID=UTC:20250201T080000
DTEND;TZID=UTC:20250202T170000
DTSTAMP:20260423T150305
CREATED:20240922T123409Z
LAST-MODIFIED:20240922T123409Z
UID:2526-1738396800-1738515600@larpseason.com
SUMMARY:What's Your Game
DESCRIPTION:
URL:https://larpseason.com/event/whats-your-game/
LOCATION:Gloucester Prison Events\, HMP Gloucester\, Barrack Square\, Gloucester GL1 2JN
CATEGORIES:Conventions & Festivals
END:VEVENT
BEGIN:VEVENT
DTSTART;TZID=UTC:20250201T080000
DTEND;TZID=UTC:20250201T170000
DTSTAMP:20260423T150305
CREATED:20240904T190412Z
LAST-MODIFIED:20240904T190413Z
UID:2476-1738396800-1738429200@larpseason.com
SUMMARY:On Pins and Needles: Run 1
DESCRIPTION:We invite you to sign up for the 𝘄𝗮𝗶𝘁𝗶𝗻𝗴𝗹𝗶𝘀𝘁 𝗼𝗳 “𝗢𝗻 𝗣𝗶𝗻𝘀 𝗮𝗻𝗱 𝗡𝗲𝗲𝗱𝗹𝗲𝘀”\, a Sartre-inspired larp about facing the consequences for past actions – set in a bowling alley. A one-day larp played in Leipzig\, Germany.
URL:https://larpseason.com/event/on-pins-and-needles-run-1/
LOCATION:Erlebnishotel „Zur Schiffsmühle”\, Zur Schiffsmühle\, Grimma\, 04668\, Germany
CATEGORIES:International LARPs
END:VEVENT
BEGIN:VEVENT
DTSTART;TZID=UTC:20250130T080000
DTEND;TZID=UTC:20250202T170000
DTSTAMP:20260423T150305
CREATED:20250202T225411Z
LAST-MODIFIED:20250202T225412Z
UID:2884-1738224000-1738515600@larpseason.com
SUMMARY:The Company Of The Garter
DESCRIPTION:The Company of the Garter is a pseudo historical LARP set in 1470’s England.This game focuses on the every-person of the medieval world\, looking into the routine\, scandal and socio-political efforts of those people. This is not a game for Knights and Royalty\, but the people existing within the Kingdom.
URL:https://larpseason.com/event/the-company-of-the-garter/
LOCATION:Pilgrim Cottages\, Longville in the Dale\, Pilgrim Cottages\, Longville in the Dale\, much wenlock
CATEGORIES:UK LARPs,Weekend LARPs
END:VEVENT
BEGIN:VEVENT
DTSTART;TZID=Europe/Paris:20250126T080000
DTEND;TZID=Europe/Paris:20250126T170000
DTSTAMP:20260423T150305
CREATED:20251026T171400Z
LAST-MODIFIED:20251026T171401Z
UID:4059-1737878400-1737910800@larpseason.com
SUMMARY:Rahab's Ruin 386YE: Empire Social
DESCRIPTION:
URL:https://larpseason.com/event/rahabs-ruin-386ye-empire-social/
LOCATION:Duffy’s Bar\, Duffy's Bar\, Leicester
CATEGORIES:Empire Sanctioned,Sanctioned Events,UK LARPs
END:VEVENT
BEGIN:VEVENT
DTSTART;TZID=UTC:20250125T153000
DTEND;TZID=UTC:20250125T220000
DTSTAMP:20260423T150305
CREATED:20241215T185632Z
LAST-MODIFIED:20241215T185654Z
UID:2794-1737819000-1737842400@larpseason.com
SUMMARY:The Abdication: Run 1
DESCRIPTION:Themes: Family – Delusion – RoyaltyOriginal larp by Karolina SoltysA regular suburban family in the modern day — except for the patriarch’s belief that he is the rightful heir to the throne\, descended from the right line to the throne. Widowed many years ago\, he now wishes to remarry — and to a “servant”\, no less! Obviously\, the only honorable thing to do is for him to abdicate and to pass his crown to one of his two adult children\, who had been raised under this delusion. But should the title go to the indolent younger son\, or to the elder daughter\, now a Labour/social democratic politician and somewhat ashamed of her “royal” heritage? \n\n\n\nThe larp is a family drama played over a three-course dinner. We’ll explore relatable family dynamics in the context of a very strange family. The larp will take place during a three course dinner in three acts.
URL:https://larpseason.com/event/the-abdication/
LOCATION:Alpvägen 8\, Bromma\, Alpvägen 8\, Bromma
CATEGORIES:International LARPs
END:VEVENT
BEGIN:VEVENT
DTSTART;TZID=UTC:20250125T100000
DTEND;TZID=UTC:20250125T170000
DTSTAMP:20260423T150305
CREATED:20250212T173854Z
LAST-MODIFIED:20250212T173855Z
UID:3002-1737799200-1737824400@larpseason.com
SUMMARY:Age of Essence
DESCRIPTION:
URL:https://larpseason.com/event/age-of-essence-10/
LOCATION:Nonsuch Park\, Nonsuch Mansion House\, Fir Walk\, Epsom\, KT17 2\, United Kingdom
CATEGORIES:Club Games,UK LARPs
END:VEVENT
BEGIN:VEVENT
DTSTART;TZID=Europe/Paris:20250124T080000
DTEND;TZID=Europe/Paris:20250126T170000
DTSTAMP:20260423T150305
CREATED:20251120T115120Z
LAST-MODIFIED:20251120T115120Z
UID:4265-1737705600-1737910800@larpseason.com
SUMMARY:A Court of Lies
DESCRIPTION:
URL:https://larpseason.com/event/a-court-of-lies/
LOCATION:YHA Wilderhope Manor\, Yha Wilderhope Manor Hostel\, Longville in the Dale\, Much Wenlock TF13 6EG
END:VEVENT
BEGIN:VEVENT
DTSTART;TZID=UTC:20250124T080000
DTEND;TZID=UTC:20250126T170000
DTSTAMP:20260423T150305
CREATED:20250202T231410Z
LAST-MODIFIED:20250212T182800Z
UID:2890-1737705600-1737910800@larpseason.com
SUMMARY:Serenity LRP: Season 2 Episode 2 - The Accord
DESCRIPTION:The Serenity team are proud to announce that we will be running a full length “Firefly” event in January of next year.A low pressure social setting to allow you to get your feet firmly back in the verse.
URL:https://larpseason.com/event/serenity-season-2-episode-2/
LOCATION:John’s Lee Wood Scout Campsite\, John's Lee Wood Scout Campsite Markfield Lane Markfield Leicestershire LE67 9PS
CATEGORIES:UK LARPs,Weekend LARPs
END:VEVENT
BEGIN:VEVENT
DTSTART;TZID=UTC:20250124T080000
DTEND;TZID=UTC:20250126T170000
DTSTAMP:20260423T150305
CREATED:20241019T145220Z
LAST-MODIFIED:20250214T181400Z
UID:2693-1737705600-1737910800@larpseason.com
SUMMARY:Empire: King's Stoke Wassail XI (player event)
DESCRIPTION:The Steward and People of King’s Stoke invite friends to join them at their village\, as they have done every year since the Breaking of the King\, to celebrate the harvest and remember the dead. \n\n\n\nA planned sanctioned event in the Empire game world\, for Marchers and friends.
URL:https://larpseason.com/event/empire-player-event-kings-stoke-wassail-xi/
LOCATION:Yorkshire Farming Museum and Danelaw Viking Village\, Yorkshire Farming Museum and Danelaw Viking Village\, York
CATEGORIES:Empire Sanctioned,Sanctioned Events,UK LARPs
END:VEVENT
BEGIN:VEVENT
DTSTART;TZID=UTC:20250124T080000
DTEND;TZID=UTC:20250126T170000
DTSTAMP:20260423T150305
CREATED:20241007T190817Z
LAST-MODIFIED:20241007T190818Z
UID:2583-1737705600-1737910800@larpseason.com
SUMMARY:Herofest Winter 2025
DESCRIPTION:In a quiet\, backwater kingdom\, Queen Seraphina is celebrating the 50th year of her reign. You\, the venerated representatives of your Orin Rakathan nations\, have been invited to honour her. \n\n\n\nHowever\, all is not as it seems. Dark magic\, consipracy\, power struggles and assassination attempts are all afoot in this tiny\, murky corner of the world. Who will survive the night? And will the plots and backstabbings be unravelled before the weekend is out? Only time will tell… \n\n\n\n— \n\n\n\nA Court of Lies is a low/no combat\, rules lite\, drama/content heavy weekend of mystery\, puzzles\, roleplay\, murder and intrigue. Attend as your existing HF character or try something new. A limited number of low cost written NPC roles will also be available. \n\n\n\nArrival from 4pm Friday for a briefing at 6pm and hard time in at 7pm. Time out at 11.59pm Saturday. Bedrooms empty by 10am Sunday\, offsite by 12pm.All accommodation in bunk rooms. A limited number of reduced cost daytime-only tickets will available for those not needing bunk room accommodation.Catering arrangements tbc.Ticket cost tbc.
URL:https://larpseason.com/event/herofest-winter-2025/
LOCATION:YHA Wilderhope Manor\, Yha Wilderhope Manor Hostel\, Longville in the Dale\, Much Wenlock TF13 6EG
CATEGORIES:Fest LARPs,UK LARPs,Weekend LARPs
END:VEVENT
BEGIN:VEVENT
DTSTART;TZID=UTC:20250118T100000
DTEND;TZID=UTC:20250118T170000
DTSTAMP:20260423T150305
CREATED:20250212T170941Z
LAST-MODIFIED:20250214T182901Z
UID:2941-1737194400-1737219600@larpseason.com
SUMMARY:Old World Adventures: Event 8
DESCRIPTION:We are rescheduling the 8th OWA event for January 18th 2025\, we hope to see you all there \n\n\n\nWe’re going to prioritise play slots for those that previously had booked in as play. As previously we will be meeting at Hurt wood car park 9 (Felbury House) which is a DIFFERENT CAR PARK TO OUR USUAL \n\n\n\nWe will aim to start at 11am and finish at 5pm as normal\, please make an extra effort to arrive by 10am so we can get people ready and make use of the limited daylight. With how quickly it can get dark its a good idea for players to bring LARP appropriate lighting\, Lanterns with LED tealights etc\, please no modern torches.
URL:https://larpseason.com/event/old-world-adventures-event-8/
LOCATION:Hurtwood Carpark 9\, Shere\, Guildford RH5 6NL
CATEGORIES:Club Games,UK LARPs
END:VEVENT
BEGIN:VEVENT
DTSTART;TZID=UTC:20250118T000000
DTEND;TZID=UTC:20250118T235959
DTSTAMP:20260423T150305
CREATED:20250212T174837Z
LAST-MODIFIED:20250214T131759Z
UID:3001-1737158400-1737244799@larpseason.com
SUMMARY:Dungeon Quest: A Temple Darkly
DESCRIPTION:The mighty castle Zalem has fallen\, consumed by the ocean.  \n\n\n\nAlmost everyone made it out through a portal opened in the dining hall which provided transportation to the lowest point of the castle\, from which the heroes were able to jump off into the shallows of an ocean before the castle tipped and plunged below the waves. \n\n\n\nWading ashore\, you collapse on the beach soaked\, but alive. All memories of the winged creatures encountered in the castle now return to you\, the enchantment broken as soon as you are free of the castle.
URL:https://larpseason.com/event/dungeon-quest-a-temple-darkly/
LOCATION:Lagan Airsoft Club\, 17g station view bt17 0ae Belfast\, United Kingdom
CATEGORIES:Club Games,UK LARPs
ORGANIZER;CN="Dungeon Quest":MAILTO:DungeonQuestLogistics@gmail.com
END:VEVENT
BEGIN:VEVENT
DTSTART;TZID=UTC:20250118T000000
DTEND;TZID=UTC:20250118T235959
DTSTAMP:20260423T150305
CREATED:20241210T214222Z
LAST-MODIFIED:20241210T214223Z
UID:2780-1737158400-1737244799@larpseason.com
SUMMARY:Dumnonni Chronicles Winter Social
DESCRIPTION:
URL:https://larpseason.com/event/dumnonni-chronicles-winter-social-2/
LOCATION:Dumnonni\, Dumnonni\, Okehampton\, EX20 3QZ
CATEGORIES:UK LARPs
END:VEVENT
BEGIN:VEVENT
DTSTART;TZID=UTC:20250117T170000
DTEND;TZID=UTC:20250117T233000
DTSTAMP:20260423T150305
CREATED:20241019T145020Z
LAST-MODIFIED:20251004T131335Z
UID:2689-1737133200-1737156600@larpseason.com
SUMMARY:Empire: The Grand Crossland Gala (player event)
DESCRIPTION:Website: https://housecrossland.co.uk/gala.html
URL:https://larpseason.com/event/empire-player-event-the-grand-crossland-gala/
LOCATION:The Priests House\, The Priests House\, Barden Tower\, Skipton BD23 6AS
CATEGORIES:Empire Sanctioned,Sanctioned Events,UK LARPs
END:VEVENT
BEGIN:VEVENT
DTSTART;TZID=UTC:20250117T080000
DTEND;TZID=UTC:20250119T170000
DTSTAMP:20260423T150305
CREATED:20250219T213700Z
LAST-MODIFIED:20250219T213701Z
UID:3368-1737100800-1737306000@larpseason.com
SUMMARY:Stargate LRP: Event 0
DESCRIPTION:
URL:https://larpseason.com/event/stargate-lrp-event-0/
LOCATION:Sherbrooke Campsite\, Sherbrooke Campsite\, Mansfield Ln\, Calverton\, Nottingham NG14 6HP
CATEGORIES:UK LARPs,Weekend LARPs
END:VEVENT
BEGIN:VEVENT
DTSTART;TZID=UTC:20250117T080000
DTEND;TZID=UTC:20250119T170000
DTSTAMP:20260423T150305
CREATED:20240904T184615Z
LAST-MODIFIED:20250214T181339Z
UID:2450-1737100800-1737306000@larpseason.com
SUMMARY:Empire: Constant Stars (player event)
DESCRIPTION:An Empire LRP social player event by Brad Cohen\, Griffin Kilday\, Callum Normanton and Rosemary Warner. \n\n\n\n“Constant Stars” \n\n\n\n“And Constant Stars\, in them I read such art” – William Shakespeare \n\n\n\n“Two years have passed since the Druj were driven out of Zenith. The nation of Urizen has striven in Ambition and Prosperity to rebuild and renew the territory. In celebration of the rebirth of Zenith\, Arbiter Ubarius of Tropaion Citadel is holding a Proud celebration of the Urizen heroes of Anvil\, and their Lowlander friends and allies. Bonds in the Net of the Heavens will be strengthened\, new Ambitions conceived and the ways of Virtue and Arete further explored as you are welcomed into Tropaion Citadel’s Space” \n\n\n\nA social player event to celebrate Urizen culture at Tropaion Citadel\, Proceris\, Zenith.It’s appropriate for any Empire character but especially good for Urizen characters\, characters with friends and family in Urizen and other bards/performers. \n\n\n\nPlanned activities include: \n\n\n\n-Symposium style debates-Fighting Tournament-Arts and crafts activities-Poetry competition-Evening bards\, ballgowning and party \n\n\n\nCost and booking
URL:https://larpseason.com/event/empire-player-event-constant-stars/
LOCATION:Jarman Centre\, Jarman Centre Godolphin\, Duchess Drive\, Newmarket\, CB8 8\, United Kingdom
CATEGORIES:Empire Sanctioned,Sanctioned Events,UK LARPs
END:VEVENT
BEGIN:VEVENT
DTSTART;TZID=UTC:20250116T140000
DTEND;TZID=UTC:20250119T100000
DTSTAMP:20260423T150305
CREATED:20240311T230436Z
LAST-MODIFIED:20240311T230436Z
UID:1271-1737036000-1737280800@larpseason.com
SUMMARY:Vampire Masquerade: Esbat
DESCRIPTION:Cursed\, hated\, following their own path.The Sabbat is coming – the timid whispers of their enemies satiate their egos with pride.Masquerade? They don’t have time to play dress-up like this\, why should they be ashamed of their appearance?People? Funny\, insignificant creatures\, blood banks\, and clumsy toys.Only the Sabbath counts.All that matters is their greatest mission – fighting the Antediluvians. Gehenna is already underway\, but few believe in it. \n\n\n\nIn the name of this mission\, one of their Archbishops sacrificed so much. It was worth it… everyone wants to hear about the clue they found\, after all they will be closer to fulfilling their calling!It is also time to decide how to take revenge on the Camarilla\, which recently dealt a bitter blow to their territories. Fools\, they cannot imagine the revenge that will befall them.A War Council has been convened in the Archbishop’s palace\, during which decisions and orders will be issued regarding the fight against the Antediluvians and revenge against the Camarilla.Packs will gather to take part in Vaulderie\, war rituals\, and see an “art” exhibition. \n\n\n\nSabbat is famous for its loyalty to the entire group\, but what if vampires who are entangled in intrigues and fights for power meet?Will the new Transformed Ones\, who will receive the honor of the Ritual of Creation\, calm down the nervous mood or destroy the established alliances?
URL:https://larpseason.com/event/vampire-masquerade-esbat/
LOCATION:Pałac Bałoszyce\, Pałac Bałoszyce\, Warmian-Masurian Voivodeship
CATEGORIES:International LARPs
END:VEVENT
BEGIN:VEVENT
DTSTART;TZID=UTC:20250111T133000
DTEND;TZID=UTC:20250111T220000
DTSTAMP:20260423T150305
CREATED:20241104T214207Z
LAST-MODIFIED:20250214T181330Z
UID:2710-1736602200-1736632800@larpseason.com
SUMMARY:Empire: The Grand Opening of the Rusty Cup (player event)
DESCRIPTION:
URL:https://larpseason.com/event/empire-sanctioned-the-grand-opening-of-the-rusty-cup/
LOCATION:The Black Lion Pub\, The Black Lion Pub\, London\, E13 0
CATEGORIES:Empire Sanctioned,Sanctioned Events,UK LARPs
END:VEVENT
BEGIN:VEVENT
DTSTART;TZID=UTC:20250110T080000
DTEND;TZID=UTC:20250113T170000
DTSTAMP:20260423T150305
CREATED:20240507T183858Z
LAST-MODIFIED:20240507T183859Z
UID:2309-1736496000-1736787600@larpseason.com
SUMMARY:der LARP Conference
DESCRIPTION:A new conference is arriving on the horizon of larp conferences. Not just any – it’s “der Larp Conference”.What is the difference between this one and other larp conferences? We don’t want to talk about theories or studies too much\, but rather focus on practical aspects of larp organization. There are so many awesome people out there\, who would like to design their own larp\, but are missing practical tools.How do you design a great character? How to create and facilitate an engaging workshop? What financial issues should I keep in mind? You are a website expert\, but have yet to write a plot? Give help\, get help! You’d like to create a classic fantasy event with a twist\, a sandbox horror regency larp\, a short form larp in a hot tub or something completely different: all shades of larp are beautiful and welcome!We want to co-create and learn from each other.So join us for four days of talks\, workshops\, networking and parties. We will meet in the Youth Hostel Wiesbaden\, near Frankfurt (Main)\, easily reachable for locals and internationals. Come and learn\, meet old and new friends and just have a great time.
URL:https://larpseason.com/event/der-larp-conference/
LOCATION:Youth Hostel Wiesbaden\, Youth Hostel Wiesbaden\, Blücherstraße 66\, 65195 Wiesbaden\, Deutschland
CATEGORIES:International Conventions & Festivals,International LARPs
END:VEVENT
END:VCALENDAR