BEGIN:VCALENDAR
VERSION:2.0
PRODID:-//LARP SEASON - ECPv6.15.20//NONSGML v1.0//EN
CALSCALE:GREGORIAN
METHOD:PUBLISH
X-ORIGINAL-URL:https://larpseason.com
X-WR-CALDESC:Events for LARP SEASON
REFRESH-INTERVAL;VALUE=DURATION:PT1H
X-Robots-Tag:noindex
X-PUBLISHED-TTL:PT1H
BEGIN:VTIMEZONE
TZID:UTC
BEGIN:STANDARD
TZOFFSETFROM:+0000
TZOFFSETTO:+0000
TZNAME:UTC
DTSTART:20240101T000000
END:STANDARD
END:VTIMEZONE
BEGIN:VTIMEZONE
TZID:Europe/Paris
BEGIN:DAYLIGHT
TZOFFSETFROM:+0100
TZOFFSETTO:+0200
TZNAME:CEST
DTSTART:20240331T010000
END:DAYLIGHT
BEGIN:STANDARD
TZOFFSETFROM:+0200
TZOFFSETTO:+0100
TZNAME:CET
DTSTART:20241027T010000
END:STANDARD
BEGIN:DAYLIGHT
TZOFFSETFROM:+0100
TZOFFSETTO:+0200
TZNAME:CEST
DTSTART:20250330T010000
END:DAYLIGHT
BEGIN:STANDARD
TZOFFSETFROM:+0200
TZOFFSETTO:+0100
TZNAME:CET
DTSTART:20251026T010000
END:STANDARD
BEGIN:DAYLIGHT
TZOFFSETFROM:+0100
TZOFFSETTO:+0200
TZNAME:CEST
DTSTART:20260329T010000
END:DAYLIGHT
BEGIN:STANDARD
TZOFFSETFROM:+0200
TZOFFSETTO:+0100
TZNAME:CET
DTSTART:20261025T010000
END:STANDARD
BEGIN:DAYLIGHT
TZOFFSETFROM:+0100
TZOFFSETTO:+0200
TZNAME:CEST
DTSTART:20270328T010000
END:DAYLIGHT
BEGIN:STANDARD
TZOFFSETFROM:+0200
TZOFFSETTO:+0100
TZNAME:CET
DTSTART:20271031T010000
END:STANDARD
END:VTIMEZONE
BEGIN:VEVENT
DTSTART;TZID=UTC:20251212T080000
DTEND;TZID=UTC:20251212T170000
DTSTAMP:20260423T143230
CREATED:20251004T133548Z
LAST-MODIFIED:20251004T133549Z
UID:3692-1765526400-1765558800@larpseason.com
SUMMARY:Petty Kingdoms Event 5
DESCRIPTION:
URL:https://larpseason.com/event/petty-kingdoms-event-5/
LOCATION:Hive Shrewsbury\, Hive Shrewsbury
CATEGORIES:Parlour LARPs,UK LARPs
END:VEVENT
BEGIN:VEVENT
DTSTART;TZID=Europe/Paris:20251213T080000
DTEND;TZID=Europe/Paris:20251214T170000
DTSTAMP:20260423T143230
CREATED:20251024T151023Z
LAST-MODIFIED:20251024T151024Z
UID:3988-1765612800-1765731600@larpseason.com
SUMMARY:Skittering in the Dark
DESCRIPTION:
URL:https://larpseason.com/event/skittering-in-the-dark/
LOCATION:Schildpadshoeve at Domein Beverdonk\, Schildpadshoeve at Domein Beverdonk. Beverdonk 1\, 2470 Retie\, Belgium
CATEGORIES:International LARPs
END:VEVENT
BEGIN:VEVENT
DTSTART;TZID=UTC:20251221T090000
DTEND;TZID=UTC:20251221T170000
DTSTAMP:20260423T143230
CREATED:20241008T183821Z
LAST-MODIFIED:20250214T182710Z
UID:2614-1766307600-1766336400@larpseason.com
SUMMARY:Tales LARP Chapter 36: The Extinguished Sun
DESCRIPTION:
URL:https://larpseason.com/event/tales-larp-chapter-36-the-extinguished-sun/
LOCATION:Chislehurst Caves\, Chislehurst Caves\, Caveside Cl\, Old Hill\, Chislehurst BR7 5NL
CATEGORIES:Club Games,UK LARPs
END:VEVENT
BEGIN:VEVENT
DTSTART;TZID=Europe/Paris:20260102T080000
DTEND;TZID=Europe/Paris:20260104T170000
DTSTAMP:20260423T143230
CREATED:20251026T174817Z
LAST-MODIFIED:20251026T174915Z
UID:4127-1767340800-1767546000@larpseason.com
SUMMARY:Helicon: Run 5
DESCRIPTION:
URL:https://larpseason.com/event/helicon-run-5/
LOCATION:Broholm Castle\, Broholm Castle\, Gudme\, Denmark
CATEGORIES:International LARPs
END:VEVENT
BEGIN:VEVENT
DTSTART;TZID=Europe/Paris:20260103T080000
DTEND;TZID=Europe/Paris:20260103T170000
DTSTAMP:20260423T143230
CREATED:20251109T144606Z
LAST-MODIFIED:20251109T144607Z
UID:4205-1767427200-1767459600@larpseason.com
SUMMARY:Ruined Future: Ashcombe Hall
DESCRIPTION:
URL:https://larpseason.com/event/ruined-future-ashcombe-hall/
LOCATION:Cross House\, Tewkesbury\, Cross House\, Church Street\, tewkesbury gl205ab
CATEGORIES:Non-Fest Sanctioned,Parlour LARPs,Sanctioned Events,UK LARPs
END:VEVENT
BEGIN:VEVENT
DTSTART;TZID=UTC:20260109T080000
DTEND;TZID=UTC:20260111T170000
DTSTAMP:20260423T143230
CREATED:20251004T125745Z
LAST-MODIFIED:20251004T130046Z
UID:3613-1767945600-1768150800@larpseason.com
SUMMARY:Empire: Memories in Green (player event)
DESCRIPTION:Memories in Green is an Empire LRP social player event hosted by Rosemary Warner and David Proctor OC\, and Bronwen’s Rest Wayhouse IC.We will be running a selection of activities and games including a scavenger hunt\, competitions\, some kind of fighting tournament and music in the evening\, with plenty of social time around them.
URL:https://larpseason.com/event/empire-social-memories-in-green/
LOCATION:Jarman Centre\, Jarman Centre Godolphin\, Duchess Drive\, Newmarket\, CB8 8\, United Kingdom
CATEGORIES:Empire Sanctioned,Sanctioned Events,UK LARPs
END:VEVENT
BEGIN:VEVENT
DTSTART;TZID=Europe/Paris:20260116T080000
DTEND;TZID=Europe/Paris:20260118T170000
DTSTAMP:20260423T143230
CREATED:20251026T165122Z
LAST-MODIFIED:20251026T165123Z
UID:4014-1768550400-1768755600@larpseason.com
SUMMARY:CuPa unSanctioned: Mercenary Banquet
DESCRIPTION:
URL:https://larpseason.com/event/cupa-unsanctioned-mercenary-banquet/
LOCATION:St Briavels\, St Briavels Castle\, Church Street\, St Briavels\, Lydney\, Gloucestershire\, GL15 6TA
CATEGORIES:Curious Pastimes Sanctioned,Sanctioned Events,UK LARPs
END:VEVENT
BEGIN:VEVENT
DTSTART;TZID=Europe/Paris:20260122T080000
DTEND;TZID=Europe/Paris:20260125T170000
DTSTAMP:20260423T143230
CREATED:20251026T175049Z
LAST-MODIFIED:20251026T175049Z
UID:4132-1769068800-1769360400@larpseason.com
SUMMARY:Legion: Siberian Story - Run 36
DESCRIPTION:
URL:https://larpseason.com/event/legion-siberian-story-run-36/
LOCATION:Near Dubá\, Czech Republic\, Near Dubá\, Czech Republic
CATEGORIES:International LARPs
END:VEVENT
BEGIN:VEVENT
DTSTART;TZID=UTC:20260123T080000
DTEND;TZID=UTC:20260125T170000
DTSTAMP:20260423T143230
CREATED:20250214T190159Z
LAST-MODIFIED:20250214T190200Z
UID:3247-1769155200-1769360400@larpseason.com
SUMMARY:The Icarus Foundation: Run 1
DESCRIPTION:What unfolds when a surrealist ball for the elite turns into a chilling hostage crisis? \n\n\n\nWelcome to The Icarus Foundation\, a LARP that delves deep into how people react when confronted with extreme circumstances and hard truths. As tension rises\, hidden secrets come to light\, and every relationship is pushed to its breaking point. Will you stand by your principles\, or sacrifice them for survival?
URL:https://larpseason.com/event/the-icarus-foundation-run-1/
LOCATION:Château de Dalhem\, Belgium\, Château de Dalhem\, Belgium
CATEGORIES:International LARPs
END:VEVENT
BEGIN:VEVENT
DTSTART;TZID=UTC:20260123T080000
DTEND;TZID=UTC:20260125T170000
DTSTAMP:20260423T143230
CREATED:20251004T140528Z
LAST-MODIFIED:20251004T140529Z
UID:3734-1769155200-1769360400@larpseason.com
SUMMARY:The Last Resort
DESCRIPTION:The Last Resort is a standalone small event running from 23-25 January 2026 at Wilderhope Manor\, Shropshire\, UK. \n\n\n\nA loose sequel to A Court of Lies (shortlisted for Small LARP of the Year 2025 at the UK LARP Awards)\, The Last Resort is a rule-lite\, no combat fantasy/mystery event. Like its predecessor\, players will arrive on a mysterious demiplane where all is not as it seems\, and can choose to try to solve the mystery\, be a part of the story\, and/or even make their own decisions about how it all ends!  \n\n\n\nYou are welcome to bring your character from any other fantasy LARP system (adapted for our lite rules systems and game mechanics) or bring a completely original character just for the event! You’ll be attending via an interplanar portal\, so think of this as a LARP holiday… with added mild peril! You absolutely do not need to have attended A Court of Lies to enjoy this event as it’s a standalone story on a brand new plane. \n\n\n\nGenre-wise\, expect fantasy\, mystery\, spooky (not horror)\, with a dash of ominous spirituality.
URL:https://larpseason.com/event/the-last-resort/
LOCATION:YHA Wilderhope Manor\, Yha Wilderhope Manor Hostel\, Longville in the Dale\, Much Wenlock TF13 6EG
CATEGORIES:UK LARPs,Weekend LARPs
END:VEVENT
BEGIN:VEVENT
DTSTART;TZID=UTC:20260124T080000
DTEND;TZID=UTC:20260124T170000
DTSTAMP:20260423T143230
CREATED:20251004T131459Z
LAST-MODIFIED:20251004T131500Z
UID:3643-1769241600-1769274000@larpseason.com
SUMMARY:Empire: The Imperial Orc Fundraising Banquet (player event)
DESCRIPTION:
URL:https://larpseason.com/event/empire-the-imperial-orc-fundraising-banquet-player-event/
LOCATION:Leicester Guildhall\, Leicester Guildhall\, 16 Guildhall Lane\, Leicester
CATEGORIES:Empire Sanctioned,Sanctioned Events,UK LARPs
END:VEVENT
BEGIN:VEVENT
DTSTART;TZID=UTC:20260124T080000
DTEND;TZID=UTC:20260124T170000
DTSTAMP:20260423T143230
CREATED:20251004T131613Z
LAST-MODIFIED:20251004T131614Z
UID:3648-1769241600-1769274000@larpseason.com
SUMMARY:Empire: Night of the Last Candle (player event)
DESCRIPTION:
URL:https://larpseason.com/event/empire-night-of-the-last-candle-player-event/
LOCATION:Meanwood Institute\, Leeds\, Meanwood Institute\, 94 Green Rd\, Leeds LS6 4LD
CATEGORIES:Empire Sanctioned,Sanctioned Events,UK LARPs
END:VEVENT
BEGIN:VEVENT
DTSTART;TZID=Europe/Paris:20260124T080000
DTEND;TZID=Europe/Paris:20260124T170000
DTSTAMP:20260423T143230
CREATED:20251130T142450Z
LAST-MODIFIED:20251130T142451Z
UID:4302-1769241600-1769274000@larpseason.com
SUMMARY:The Gate - Camp Croatoan
DESCRIPTION:We are excited to announce The Gate – Camp Croatoan\, the first The Gate event from Off The Vine Adventures. \n\n\n\nThis is a mystery horror LARP designed for young adults aged 18 – 25. The event will feature role-play\, investigation\, problem solving and exploration\, as well as some combat using LARP safe melee weapons and Gel Blasters. \n\n\n\nThe event will run for 4 hours of Time In from 14.00 to 18.00 on the 24th of January 2026 at Bushy Wood Activity Center near Hailsham\, East Sussex. \n\n\n\n£20 per player. \n\n\n\nPlayers are welcome to contact us for any extra info or to answer any questions you may have. People new to LARP are very welcome – we have weapons to borrow if needed.The setting is modern day so there is no need for specific costume.We can’t wait to start!
URL:https://larpseason.com/event/the-gate-camp-croatoan/
LOCATION:Bushy Wood Activity Centre\, Bushy Wood Activity Centre\, Main Road\, Hailsham BN27 3LZ
CATEGORIES:Club Games,UK LARPs
END:VEVENT
BEGIN:VEVENT
DTSTART;TZID=Europe/Paris:20260129T080000
DTEND;TZID=Europe/Paris:20260201T170000
DTSTAMP:20260423T143230
CREATED:20251026T175130Z
LAST-MODIFIED:20251026T175130Z
UID:4136-1769673600-1769965200@larpseason.com
SUMMARY:Legion: Siberian Story - Run 37
DESCRIPTION:
URL:https://larpseason.com/event/legion-siberian-story-run-37/
LOCATION:Near Dubá\, Czech Republic\, Near Dubá\, Czech Republic
CATEGORIES:International LARPs
END:VEVENT
BEGIN:VEVENT
DTSTART;TZID=UTC:20260130T080000
DTEND;TZID=UTC:20260201T170000
DTSTAMP:20260423T143230
CREATED:20251004T131807Z
LAST-MODIFIED:20251130T222148Z
UID:3652-1769760000-1769965200@larpseason.com
SUMMARY:Empire: Kings Stoke Wassail XII The Wedding (player event)
DESCRIPTION:
URL:https://larpseason.com/event/empire-kings-stoke-wassail-xii-the-wedding-player-event/
LOCATION:Yorkshire Farming Museum and Danelaw Viking Village\, Yorkshire Farming Museum and Danelaw Viking Village\, York
CATEGORIES:Empire Sanctioned,Sanctioned Events,UK LARPs
END:VEVENT
BEGIN:VEVENT
DTSTART;TZID=UTC:20260130T080000
DTEND;TZID=UTC:20260201T170000
DTSTAMP:20260423T143230
CREATED:20251004T131906Z
LAST-MODIFIED:20251004T131906Z
UID:3654-1769760000-1769965200@larpseason.com
SUMMARY:Empire: Little Quzar's Grand Fiesta of Flame (player event)
DESCRIPTION:
URL:https://larpseason.com/event/empire-little-quzars-grand-fiesta-of-flame-player-event/
LOCATION:St Briavels\, St Briavels Castle\, Church Street\, St Briavels\, Lydney\, Gloucestershire\, GL15 6TA
CATEGORIES:Empire Sanctioned,Sanctioned Events,UK LARPs
END:VEVENT
BEGIN:VEVENT
DTSTART;TZID=UTC:20260130T080000
DTEND;TZID=UTC:20260202T170000
DTSTAMP:20260423T143230
CREATED:20250331T214645Z
LAST-MODIFIED:20250331T214647Z
UID:3519-1769760000-1770051600@larpseason.com
SUMMARY:The Witcher: Aretuza
DESCRIPTION:
URL:https://larpseason.com/event/the-witcher-aretuza/
LOCATION:Castell de Ciutat\, Castell de Ciutat\, La Seu d'Urgell\, Spain
CATEGORIES:International LARPs
END:VEVENT
BEGIN:VEVENT
DTSTART;TZID=UTC:20260131T080000
DTEND;TZID=UTC:20260131T170000
DTSTAMP:20260423T143230
CREATED:20251004T134809Z
LAST-MODIFIED:20251004T134810Z
UID:3706-1769846400-1769878800@larpseason.com
SUMMARY:Guild of Darkness: The Prismatic Consortium's Annual Fundraising Gala
DESCRIPTION:
URL:https://larpseason.com/event/guild-of-darkness-the-prismatic-consortiums-annual-fundraising-gala/
LOCATION:Chilwell Memorial Hall\, Chilwell Memorial Hall
CATEGORIES:Parlour LARPs,UK LARPs
END:VEVENT
BEGIN:VEVENT
DTSTART;TZID=Europe/Paris:20260131T080000
DTEND;TZID=Europe/Paris:20260131T170000
DTSTAMP:20260423T143230
CREATED:20251026T164135Z
LAST-MODIFIED:20251026T164135Z
UID:3996-1769846400-1769878800@larpseason.com
SUMMARY:Empire Player Event: Drinks in Drycastle
DESCRIPTION:
URL:https://larpseason.com/event/empire-player-event-drinks-in-drycastle/
LOCATION:The Arcanists Tavern\, London\, The Arcanists Tavern\, London
CATEGORIES:Empire Sanctioned,Sanctioned Events,UK LARPs
END:VEVENT
BEGIN:VEVENT
DTSTART;TZID=UTC:20260206T080000
DTEND;TZID=UTC:20260208T170000
DTSTAMP:20260423T143230
CREATED:20250214T190258Z
LAST-MODIFIED:20250214T190259Z
UID:3253-1770364800-1770570000@larpseason.com
SUMMARY:The Icarus Foundation: Run 2
DESCRIPTION:What unfolds when a surrealist ball for the elite turns into a chilling hostage crisis? \n\n\n\nWelcome to The Icarus Foundation\, a LARP that delves deep into how people react when confronted with extreme circumstances and hard truths. As tension rises\, hidden secrets come to light\, and every relationship is pushed to its breaking point. Will you stand by your principles\, or sacrifice them for survival?
URL:https://larpseason.com/event/the-icarus-foundation-run-2/
LOCATION:Château de Dalhem\, Belgium\, Château de Dalhem\, Belgium
CATEGORIES:International LARPs
END:VEVENT
BEGIN:VEVENT
DTSTART;TZID=Europe/Paris:20260206T080000
DTEND;TZID=Europe/Paris:20260208T170000
DTSTAMP:20260423T143230
CREATED:20251121T142026Z
LAST-MODIFIED:20251121T142027Z
UID:4269-1770364800-1770570000@larpseason.com
SUMMARY:Four Seasons Event 1
DESCRIPTION:
URL:https://larpseason.com/event/four-seasons-event-1/
CATEGORIES:UK LARPs,Weekend LARPs
END:VEVENT
BEGIN:VEVENT
DTSTART;TZID=UTC:20260207T080000
DTEND;TZID=UTC:20260207T170000
DTSTAMP:20260423T143230
CREATED:20251004T132019Z
LAST-MODIFIED:20251004T132020Z
UID:3656-1770451200-1770483600@larpseason.com
SUMMARY:Empire: Concordia Esoterica III (player event)
DESCRIPTION:
URL:https://larpseason.com/event/empire-concordia-esoterica-iii-player-event/
LOCATION:Manchester Hall\, Manchester Hall\, Central Manchester\, M3 3BT
CATEGORIES:Empire Sanctioned,Sanctioned Events,UK LARPs
END:VEVENT
BEGIN:VEVENT
DTSTART;TZID=UTC:20260207T080000
DTEND;TZID=UTC:20260207T170000
DTSTAMP:20260423T143230
CREATED:20251004T132128Z
LAST-MODIFIED:20251004T132128Z
UID:3660-1770451200-1770483600@larpseason.com
SUMMARY:Empire: History & Virtue (player event)
DESCRIPTION:
URL:https://larpseason.com/event/empire-history-virtue-player-event/
LOCATION:The Roman Baths\, The Roman Baths\, Abbey Churchyard\, Bath BA1 1LZ
CATEGORIES:Empire Sanctioned,Sanctioned Events,UK LARPs
END:VEVENT
BEGIN:VEVENT
DTSTART;TZID=UTC:20260207T080000
DTEND;TZID=UTC:20260208T170000
DTSTAMP:20260423T143230
CREATED:20251004T141203Z
LAST-MODIFIED:20251130T223946Z
UID:3744-1770451200-1770570000@larpseason.com
SUMMARY:What's Your Game
DESCRIPTION:
URL:https://larpseason.com/event/whats-your-game-2/
LOCATION:Freedom Leisure Centre Gloucester\, Freedom Leisure Centre Gloucester
CATEGORIES:Conventions & Festivals,UK LARPs
END:VEVENT
BEGIN:VEVENT
DTSTART;TZID=Europe/Paris:20260207T080000
DTEND;TZID=Europe/Paris:20260208T170000
DTSTAMP:20260423T143230
CREATED:20251106T210128Z
LAST-MODIFIED:20251106T210129Z
UID:4178-1770451200-1770570000@larpseason.com
SUMMARY:Dumnonni: Imbolc
DESCRIPTION:
URL:https://larpseason.com/event/dumnonni-imbolc/
LOCATION:Dumnonni\, Dumnonni\, Okehampton\, EX20 3QZ
CATEGORIES:Non-Fest Sanctioned,Sanctioned Events,UK LARPs,Weekend LARPs
END:VEVENT
BEGIN:VEVENT
DTSTART;TZID=Europe/Paris:20260213T080000
DTEND;TZID=Europe/Paris:20260215T170000
DTSTAMP:20260423T143230
CREATED:20251026T210734Z
LAST-MODIFIED:20251026T210735Z
UID:4162-1770969600-1771174800@larpseason.com
SUMMARY:Untitled Fantasy LARP
DESCRIPTION:
URL:https://larpseason.com/event/untitled-fantasy-larp/
LOCATION:John’s Lee Wood Scout Campsite\, John's Lee Wood Scout Campsite Markfield Lane Markfield Leicestershire LE67 9PS
CATEGORIES:UK LARPs,Weekend LARPs
END:VEVENT
BEGIN:VEVENT
DTSTART;TZID=Europe/Paris:20260214T080000
DTEND;TZID=Europe/Paris:20260214T170000
DTSTAMP:20260423T143230
CREATED:20251006T204926Z
LAST-MODIFIED:20251130T223951Z
UID:3811-1771056000-1771088400@larpseason.com
SUMMARY:BOX: Northern LARP Festival
DESCRIPTION:
URL:https://larpseason.com/event/box-northern-larp-festival-2/
LOCATION:HEART Centre\, Leeds\, HEART Centre\, Leeds
CATEGORIES:Conventions & Festivals,UK LARPs
END:VEVENT
BEGIN:VEVENT
DTSTART;TZID=Europe/Paris:20260214T080000
DTEND;TZID=Europe/Paris:20260214T170000
DTSTAMP:20260423T143230
CREATED:20251127T211813Z
LAST-MODIFIED:20251127T211814Z
UID:4297-1771056000-1771088400@larpseason.com
SUMMARY:The Unfinished Tome: 1 Day event
DESCRIPTION:
URL:https://larpseason.com/event/the-unfinished-tome-1-day-event-2/
LOCATION:Chilwell Memorial Hall\, Chilwell Memorial Hall
CATEGORIES:Parlour LARPs,UK LARPs
END:VEVENT
BEGIN:VEVENT
DTSTART;TZID=Europe/Paris:20260219T080000
DTEND;TZID=Europe/Paris:20260221T170000
DTSTAMP:20260423T143230
CREATED:20251005T132630Z
LAST-MODIFIED:20251005T132631Z
UID:3763-1771488000-1771693200@larpseason.com
SUMMARY:HeroQuest: The Enemy Within
DESCRIPTION:
URL:https://larpseason.com/event/heroquest-the-enemy-within/
LOCATION:Cranham Scout Centre\, Cranham Scout Centre\, Cranham\, Gloucester GL4 8HP
CATEGORIES:UK LARPs,Weekend LARPs
END:VEVENT
BEGIN:VEVENT
DTSTART;TZID=Europe/Paris:20260219T080000
DTEND;TZID=Europe/Paris:20260222T170000
DTSTAMP:20260423T143230
CREATED:20251111T213857Z
LAST-MODIFIED:20251111T213857Z
UID:4217-1771488000-1771779600@larpseason.com
SUMMARY:Outpost Elysium - Shadows
DESCRIPTION:It’s been 8 months since the outpost failed to pay the Hyenas their tribute. As a result\, the raider group’s patrols have withdrawn. The roads outside Elysium are now unsafe. \n\n\n\nMost of the people in the outpost have gone. Some migrate with the seasons\, many have gone to other\, better outposts for safety\, and some have died. The winter population of Elysium is small\, consisting of citizens and of newly arrived refugees. \n\n\n\nUncertainty hangs heavy. The outposters try to keep daily life going\, but food is beginning to run low and spare parts are becoming hard to come by. Most of the effort now goes into keeping the outpost functioning\, both practically and socially. \n\n\n\nThe larp is about these days of waiting\, worry\, and everyday struggle.
URL:https://larpseason.com/event/outpost-elysium-shadows/
LOCATION:Bockaby – Borås\, Bockaby - Borås
CATEGORIES:International LARPs
ORGANIZER;CN="Outpost Elysium":MAILTO:info@outpostelysium.com
END:VEVENT
END:VCALENDAR