BEGIN:VCALENDAR
VERSION:2.0
PRODID:-//LARP SEASON - ECPv6.15.20//NONSGML v1.0//EN
CALSCALE:GREGORIAN
METHOD:PUBLISH
X-ORIGINAL-URL:https://larpseason.com
X-WR-CALDESC:Events for LARP SEASON
REFRESH-INTERVAL;VALUE=DURATION:PT1H
X-Robots-Tag:noindex
X-PUBLISHED-TTL:PT1H
BEGIN:VTIMEZONE
TZID:Europe/Paris
BEGIN:DAYLIGHT
TZOFFSETFROM:+0100
TZOFFSETTO:+0200
TZNAME:CEST
DTSTART:20240331T010000
END:DAYLIGHT
BEGIN:STANDARD
TZOFFSETFROM:+0200
TZOFFSETTO:+0100
TZNAME:CET
DTSTART:20241027T010000
END:STANDARD
BEGIN:DAYLIGHT
TZOFFSETFROM:+0100
TZOFFSETTO:+0200
TZNAME:CEST
DTSTART:20250330T010000
END:DAYLIGHT
BEGIN:STANDARD
TZOFFSETFROM:+0200
TZOFFSETTO:+0100
TZNAME:CET
DTSTART:20251026T010000
END:STANDARD
BEGIN:DAYLIGHT
TZOFFSETFROM:+0100
TZOFFSETTO:+0200
TZNAME:CEST
DTSTART:20260329T010000
END:DAYLIGHT
BEGIN:STANDARD
TZOFFSETFROM:+0200
TZOFFSETTO:+0100
TZNAME:CET
DTSTART:20261025T010000
END:STANDARD
BEGIN:DAYLIGHT
TZOFFSETFROM:+0100
TZOFFSETTO:+0200
TZNAME:CEST
DTSTART:20270328T010000
END:DAYLIGHT
BEGIN:STANDARD
TZOFFSETFROM:+0200
TZOFFSETTO:+0100
TZNAME:CET
DTSTART:20271031T010000
END:STANDARD
END:VTIMEZONE
BEGIN:VTIMEZONE
TZID:UTC
BEGIN:STANDARD
TZOFFSETFROM:+0000
TZOFFSETTO:+0000
TZNAME:UTC
DTSTART:20240101T000000
END:STANDARD
END:VTIMEZONE
BEGIN:VEVENT
DTSTART;TZID=Europe/Paris:20251111T080000
DTEND;TZID=Europe/Paris:20251115T170000
DTSTAMP:20260423T124844
CREATED:20251026T173653Z
LAST-MODIFIED:20251026T173653Z
UID:4105-1762848000-1763226000@larpseason.com
SUMMARY:Giovanni: The Last Supper Ru 9
DESCRIPTION:
URL:https://larpseason.com/event/giovanni-the-last-supper-ru-9/
LOCATION:Huntsham Court\, Huntsham Court Huntsham Devon England EX16 7NA
CATEGORIES:Blockbuster LARPs,UK LARPs,Weekend LARPs
END:VEVENT
BEGIN:VEVENT
DTSTART;TZID=UTC:20251114T080000
DTEND;TZID=UTC:20251114T170000
DTSTAMP:20260423T124844
CREATED:20251004T133513Z
LAST-MODIFIED:20251004T133513Z
UID:3690-1763107200-1763139600@larpseason.com
SUMMARY:Petty Kingdoms Event 4
DESCRIPTION:
URL:https://larpseason.com/event/petty-kingdoms-event-4/
LOCATION:Hive Shrewsbury\, Hive Shrewsbury
CATEGORIES:Parlour LARPs,UK LARPs
END:VEVENT
BEGIN:VEVENT
DTSTART;TZID=UTC:20251114T080000
DTEND;TZID=UTC:20251116T170000
DTSTAMP:20260423T124844
CREATED:20241115T154012Z
LAST-MODIFIED:20241115T154013Z
UID:2736-1763107200-1763312400@larpseason.com
SUMMARY:HEL. Ragnarok was the beginning
DESCRIPTION:Hel. The time after the end of Ragnorok. When things get really interesting.An event full of Vikingness and myth. Gods and monsters. And the pursuit of glorious purpose
URL:https://larpseason.com/event/hel-ragnarok-was-the-beginning/
LOCATION:The Grange\, Frogmore Grange\, Frog lane Balsall Common Coventry Warwickshire CV7 7FP United Kingdom
CATEGORIES:UK LARPs,Weekend LARPs
END:VEVENT
BEGIN:VEVENT
DTSTART;TZID=UTC:20251114T080000
DTEND;TZID=UTC:20251116T170000
DTSTAMP:20260423T124844
CREATED:20250215T153836Z
LAST-MODIFIED:20250215T153837Z
UID:3309-1763107200-1763312400@larpseason.com
SUMMARY:Empire: The Other Roads (player event)
DESCRIPTION:
URL:https://larpseason.com/event/empire-the-other-roads-player-event/
LOCATION:YHA National Forest\, 48 Bath Ln\, Moira\, Swadlincote DE12 6BD
CATEGORIES:Empire Sanctioned,Sanctioned Events,UK LARPs
END:VEVENT
BEGIN:VEVENT
DTSTART;TZID=UTC:20251114T080000
DTEND;TZID=UTC:20251116T170000
DTSTAMP:20260423T124844
CREATED:20251004T140846Z
LAST-MODIFIED:20251004T140846Z
UID:3736-1763107200-1763312400@larpseason.com
SUMMARY:TORM - The Original Reenactors Market
DESCRIPTION:
URL:https://larpseason.com/event/torm-the-original-reenactors-market-2/
LOCATION:Sports Connexion\, Ryton on Dunsmore\, Sports Connexion Leamington Road Ryton on Dunsmore CV8 3FL
CATEGORIES:Conventions & Festivals
END:VEVENT
BEGIN:VEVENT
DTSTART;TZID=UTC:20251114T080000
DTEND;TZID=UTC:20251116T170000
DTSTAMP:20260423T124844
CREATED:20251004T140929Z
LAST-MODIFIED:20251004T140930Z
UID:3740-1763107200-1763312400@larpseason.com
SUMMARY:Arm - Artisan & Reenactors Market
DESCRIPTION:
URL:https://larpseason.com/event/arm-artisan-reenactors-market-2/
LOCATION:Warwickshire Event Centre\, Warwickshire Event Centre\, The Fosse\, Radford Semele\, Leamington Spa CV31 1FE
CATEGORIES:Conventions & Festivals
END:VEVENT
BEGIN:VEVENT
DTSTART;TZID=Europe/Paris:20251114T080000
DTEND;TZID=Europe/Paris:20251116T170000
DTSTAMP:20260423T124844
CREATED:20251007T135830Z
LAST-MODIFIED:20251007T135831Z
UID:3899-1763107200-1763312400@larpseason.com
SUMMARY:An Austen Affair
DESCRIPTION:
URL:https://larpseason.com/event/an-austen-affair/
LOCATION:Thorington Hall\, Colchester\, Thorington Hall\, Colchester
CATEGORIES:UK LARPs,Weekend LARPs
END:VEVENT
BEGIN:VEVENT
DTSTART;TZID=Europe/Paris:20251114T080000
DTEND;TZID=Europe/Paris:20251116T170000
DTSTAMP:20260423T124844
CREATED:20251026T172228Z
LAST-MODIFIED:20251026T172229Z
UID:4075-1763107200-1763312400@larpseason.com
SUMMARY:The Grimm Auction
DESCRIPTION:
URL:https://larpseason.com/event/the-grimm-auction/
LOCATION:Store Klaus\, Denmark\, Store Klaus\, Denmark
CATEGORIES:International LARPs
END:VEVENT
BEGIN:VEVENT
DTSTART;TZID=Europe/Paris:20251114T080000
DTEND;TZID=Europe/Paris:20251116T170000
DTSTAMP:20260423T124844
CREATED:20251117T153641Z
LAST-MODIFIED:20251117T153641Z
UID:4252-1763107200-1763312400@larpseason.com
SUMMARY:Court of the Magi E1: Our Tempestuous Day
DESCRIPTION:
URL:https://larpseason.com/event/court-of-the-magi-e1-our-tempestuous-day/
LOCATION:Lea Green Centre\, Lea Green Centre\, Matlock\, Derbyshire
CATEGORIES:UK LARPs,Weekend LARPs
END:VEVENT
BEGIN:VEVENT
DTSTART;TZID=UTC:20251120T080000
DTEND;TZID=UTC:20251124T170000
DTSTAMP:20260423T124844
CREATED:20250312T193814Z
LAST-MODIFIED:20250312T193815Z
UID:3483-1763625600-1764003600@larpseason.com
SUMMARY:Wise Women: Run 2
DESCRIPTION:This is a game in which we collaborate to tell the stories of gifted women in a small island community in the 1950s. These women are almost all related to one another in some way- we explore both happy and dysfunctional family relationships in this game.GROUP SINGING is a main feature of this game\, however no pre-game song learning is necessary. We will explore bonding through song\, rather than aiming for perfection.​DIVINATION magic is a main feature of this game.​CHARACTERS are pre-written and are cast before we ask for any money. Every participant will have the chance to fine-tune their character to ensure it brings the most fun! All of the characters in this game are female\, but we welcome players of any gender.
URL:https://larpseason.com/event/wise-women-run-2/
LOCATION:Seahouses Hostel\, Seahouses Hostel\, 157 Main Street\, Seahouses\, NE68 7TU England
END:VEVENT
BEGIN:VEVENT
DTSTART;TZID=UTC:20251121T080000
DTEND;TZID=UTC:20251123T170000
DTSTAMP:20260423T124844
CREATED:20241007T184958Z
LAST-MODIFIED:20250214T182317Z
UID:2581-1763712000-1763917200@larpseason.com
SUMMARY:WR: Yuletide Tales (sanctioned)
DESCRIPTION:
URL:https://larpseason.com/event/yuletide-tales-a-wayward-road-event/
LOCATION:Raywell Park Scout Activity Centre\, Raywell Park Scout Activity Centre\, Riplingham Rd\, Raywell\, Cottingham HU16 5YL
CATEGORIES:Non-Fest Sanctioned,Sanctioned Events,UK LARPs
END:VEVENT
BEGIN:VEVENT
DTSTART;TZID=UTC:20251121T080000
DTEND;TZID=UTC:20251123T170000
DTSTAMP:20260423T124845
CREATED:20241009T155430Z
LAST-MODIFIED:20241009T155430Z
UID:2646-1763712000-1763917200@larpseason.com
SUMMARY:The Portents Episode 5
DESCRIPTION:
URL:https://larpseason.com/event/the-portents-episode-5/
LOCATION:Gunman Airsoft Eversley Alpha\, Gunman Airsoft - Eversley The Welsh Dr (Off A327) Hook\, Hampshire RG27 0PX United Kingdom
CATEGORIES:UK LARPs,Weekend LARPs
END:VEVENT
BEGIN:VEVENT
DTSTART;TZID=UTC:20251121T080000
DTEND;TZID=UTC:20251123T170000
DTSTAMP:20260423T124845
CREATED:20250319T155746Z
LAST-MODIFIED:20250319T155748Z
UID:3497-1763712000-1763917200@larpseason.com
SUMMARY:Blankspace Run #4
DESCRIPTION:Blankspace is a symbolic horror larp about guilt\, hope and running away from the past. In a vague dystopian future\, the spaceship Enkidu carries settlers towards Eos\, a better world that promises a new beginning. But their past catches up with them – in the shape of a monster that forces everyone to face the parts of themself they cannot bear to look at. \n\n\n\nThrough the metaphor of horror\, the larp aims to explore how we deal with the shadows of our past: Do I run away or face my demons? Can I make amends? Am I a different person? Can people ever change at all? \n\n\n\nBlankspace aims to be a rather dark\, quiet and intimate psychological experience that explores inner conflicts by externalizing them through metaphorical and surreal design elements. If you want to (quite literally) be chased by your inner demons\, scream at a part of yourself that you hate\, or cry alone while staring into the vastness of space\, this larp may be for you.
URL:https://larpseason.com/event/blankspace-run-4/
LOCATION:Erndtebrück\, Germany\, Erndtebrück\, Germany
CATEGORIES:International LARPs
END:VEVENT
BEGIN:VEVENT
DTSTART;TZID=UTC:20251121T080000
DTEND;TZID=UTC:20251123T170000
DTSTAMP:20260423T124845
CREATED:20250902T094429Z
LAST-MODIFIED:20250902T094430Z
UID:3584-1763712000-1763917200@larpseason.com
SUMMARY:CuPa (sanctioned): Teutonia Winter Faction Event
DESCRIPTION:
URL:https://larpseason.com/event/cupa-sanctioned-teutonia-winter-faction-event/
LOCATION:Middleton Hall and Gardens\, Middleton Hall and Gardens\, Tamworth\, B78 2AE
CATEGORIES:Curious Pastimes Sanctioned,Sanctioned Events,UK LARPs,Weekend LARPs
END:VEVENT
BEGIN:VEVENT
DTSTART;TZID=UTC:20251121T080000
DTEND;TZID=UTC:20251123T170000
DTSTAMP:20260423T124845
CREATED:20251004T133047Z
LAST-MODIFIED:20251004T133047Z
UID:3676-1763712000-1763917200@larpseason.com
SUMMARY:Nine Candles North
DESCRIPTION:
URL:https://larpseason.com/event/nine-candles-north/
LOCATION:Yealand Old School\, Lancaster\, Yealand Old School\, Lancaster
CATEGORIES:UK LARPs,Weekend LARPs
END:VEVENT
BEGIN:VEVENT
DTSTART;TZID=Europe/Paris:20251121T080000
DTEND;TZID=Europe/Paris:20251123T170000
DTSTAMP:20260423T124845
CREATED:20251006T203211Z
LAST-MODIFIED:20251006T203212Z
UID:3781-1763712000-1763917200@larpseason.com
SUMMARY:Marginalia
DESCRIPTION:
URL:https://larpseason.com/event/marginalia-2/
LOCATION:St Briavels\, St Briavels Castle\, Church Street\, St Briavels\, Lydney\, Gloucestershire\, GL15 6TA
CATEGORIES:UK LARPs,Weekend LARPs
END:VEVENT
BEGIN:VEVENT
DTSTART;TZID=UTC:20251122T080000
DTEND;TZID=UTC:20251122T170000
DTSTAMP:20260423T124845
CREATED:20251004T131109Z
LAST-MODIFIED:20251004T131110Z
UID:3635-1763798400-1763830800@larpseason.com
SUMMARY:Empire: Weirwater Winter Juvenalia (player event)
DESCRIPTION:
URL:https://larpseason.com/event/empire-weirwater-winter-juvenalia-player-event/
LOCATION:Ullet Road Church\, Ullet Road Church\, Liverpool
CATEGORIES:Empire Sanctioned,Sanctioned Events,UK LARPs
END:VEVENT
BEGIN:VEVENT
DTSTART;TZID=UTC:20251122T080000
DTEND;TZID=UTC:20251122T170000
DTSTAMP:20260423T124845
CREATED:20251004T131217Z
LAST-MODIFIED:20251004T131218Z
UID:3639-1763798400-1763830800@larpseason.com
SUMMARY:Empire: The Pledge Ball (player event)
DESCRIPTION:
URL:https://larpseason.com/event/empire-the-pledge-ball-player-event/
LOCATION:Macclesfield Town Hall\, Macclesfield Town Hall\, SK10 1EA
CATEGORIES:Empire Sanctioned,Sanctioned Events,UK LARPs
END:VEVENT
BEGIN:VEVENT
DTSTART;TZID=UTC:20251127T080000
DTEND;TZID=UTC:20251130T170000
DTSTAMP:20260423T124845
CREATED:20250317T131813Z
LAST-MODIFIED:20250317T131815Z
UID:3489-1764230400-1764522000@larpseason.com
SUMMARY:Springwater Colony Run #1
DESCRIPTION:It was way past curfew and the cold rain behind the old\, double-paned windows was spelling a long\, cold winter ahead – but the old estate was full of tension. A candle flickered\, stirred by whispered conversations. \n\n\n\n“Have you heard? They’re bringing in new patients!” \n\n\n\n“Patients? To our colony? You’re joking\, nobody gets Loimos anymore.” \n\n\n\n“I saw the documents myself\, on the reverend’s desk! They had the same last name. Who could it be?” \n\n\n\n“We haven’t had anyone admitted in decades!” \n\n\n\n“I know…” \n\n\n\n“…” \n\n\n\n“I’m scared. They’ll hate it here. They’ll hate us.” \n\n\n\n“But maybe that means we won’t be closed down?” \n\n\n\nSpringwater Colony is a larp for 30 players based on the historical treatment of leprosy patients as well as the COVID epidemic and takes place in what may be the final days of a crumbling quarantined community. Themes include human rights\, personal autonomy and worth\, societal inclusion and isolation\, infectious disease\, and public health. This is a larp about how the world treats people it sees as disposable or lower value and how everyone copes with that.
URL:https://larpseason.com/event/springwater-colony-run-1/
LOCATION:Landhaus Lenzener Elbtalaue\, Landhaus Lenzener Elbtalaue Am Elbdeich 20 19309 Lenzerwische-Unbesandten\, Germany
CATEGORIES:International LARPs
END:VEVENT
BEGIN:VEVENT
DTSTART;TZID=UTC:20251128T080000
DTEND;TZID=UTC:20251130T170000
DTSTAMP:20260423T124845
CREATED:20241009T155510Z
LAST-MODIFIED:20241009T155510Z
UID:2648-1764316800-1764522000@larpseason.com
SUMMARY:Free Company
DESCRIPTION:
URL:https://larpseason.com/event/free-company/
LOCATION:Gunman Airsoft Eversley Alpha\, Gunman Airsoft - Eversley The Welsh Dr (Off A327) Hook\, Hampshire RG27 0PX United Kingdom
CATEGORIES:UK LARPs,Weekend LARPs
END:VEVENT
BEGIN:VEVENT
DTSTART;TZID=UTC:20251129T100000
DTEND;TZID=UTC:20251129T170000
DTSTAMP:20260423T124845
CREATED:20250212T174554Z
LAST-MODIFIED:20250212T174555Z
UID:3026-1764410400-1764435600@larpseason.com
SUMMARY:Age of Essence
DESCRIPTION:
URL:https://larpseason.com/event/age-of-essence-19/
LOCATION:Nonsuch Park\, Nonsuch Mansion House\, Fir Walk\, Epsom\, KT17 2\, United Kingdom
CATEGORIES:Club Games,UK LARPs
END:VEVENT
BEGIN:VEVENT
DTSTART;TZID=Europe/Paris:20251201T080000
DTEND;TZID=Europe/Paris:20251201T170000
DTSTAMP:20260423T124845
CREATED:20251201T192306Z
LAST-MODIFIED:20251201T192306Z
UID:4305-1764576000-1764608400@larpseason.com
SUMMARY:Divided We Fall 6: Into the Hands of Sinners
DESCRIPTION:Salutations Spectral Lamp-Obsessed Butterflies\, \n\n\n\nIt is time…. offer thyself up to the altar of the apocalypse and…. Into the Hands of Sinners…
URL:https://larpseason.com/event/divided-we-fall-6-into-the-hands-of-sinners/
LOCATION:THE GAOL\, THE GAOL AIRSOFT\, OAKHAM\, LE15 7TU
CATEGORIES:UK LARPs,Weekend LARPs
END:VEVENT
BEGIN:VEVENT
DTSTART;TZID=UTC:20251203T080000
DTEND;TZID=UTC:20251207T170000
DTSTAMP:20260423T124845
CREATED:20250317T131926Z
LAST-MODIFIED:20250317T131927Z
UID:3495-1764748800-1765126800@larpseason.com
SUMMARY:Springwater Colony Run #2
DESCRIPTION:It was way past curfew and the cold rain behind the old\, double-paned windows was spelling a long\, cold winter ahead – but the old estate was full of tension. A candle flickered\, stirred by whispered conversations. \n\n\n\n“Have you heard? They’re bringing in new patients!” \n\n\n\n“Patients? To our colony? You’re joking\, nobody gets Loimos anymore.” \n\n\n\n“I saw the documents myself\, on the reverend’s desk! They had the same last name. Who could it be?” \n\n\n\n“We haven’t had anyone admitted in decades!” \n\n\n\n“I know…” \n\n\n\n“…” \n\n\n\n“I’m scared. They’ll hate it here. They’ll hate us.” \n\n\n\n“But maybe that means we won’t be closed down?” \n\n\n\nSpringwater Colony is a larp for 30 players based on the historical treatment of leprosy patients as well as the COVID epidemic and takes place in what may be the final days of a crumbling quarantined community. Themes include human rights\, personal autonomy and worth\, societal inclusion and isolation\, infectious disease\, and public health. This is a larp about how the world treats people it sees as disposable or lower value and how everyone copes with that.
URL:https://larpseason.com/event/springwater-colony-run-2/
LOCATION:Landhaus Lenzener Elbtalaue\, Landhaus Lenzener Elbtalaue Am Elbdeich 20 19309 Lenzerwische-Unbesandten\, Germany
CATEGORIES:International LARPs
END:VEVENT
BEGIN:VEVENT
DTSTART;TZID=UTC:20251204T080000
DTEND;TZID=UTC:20251207T170000
DTSTAMP:20260423T124845
CREATED:20240512T113811Z
LAST-MODIFIED:20240512T113812Z
UID:2336-1764835200-1765126800@larpseason.com
SUMMARY:Heirs of the Dragon - Seeds of War
DESCRIPTION:Save the date; December 4-7\, 2025! \n\n\n\nSign-up will open on May 17th at 18:00 CEST \n\n\n\nA non-profit LARP inspired by the works of George R.R. Martin.\n\n\n\nImmerse yourself in the world of Ice and Fire and become the protagonist in a ruthless struggle for the throne\, marked by intense politicking\, intrigue\, combat\, love\, loss and power struggles. \n\n\n\nAssume the role of noble lords and ladies\, shrewd advisors\, or valiant warriors as you navigate a perilous landscape where ancient houses vie for supremacy over territories through political schemes and fierce combat. Will you ascend to claim your rightful destiny\, or fall to the shadows dwelling within the hearts of men?
URL:https://larpseason.com/event/heirs-of-the-dragon-seeds-of-war/
LOCATION:Czocha Castle\, Czocha Castle\, Lesna\, Poland
CATEGORIES:International LARPs
END:VEVENT
BEGIN:VEVENT
DTSTART;TZID=UTC:20251212T080000
DTEND;TZID=UTC:20251212T170000
DTSTAMP:20260423T124845
CREATED:20251004T133548Z
LAST-MODIFIED:20251004T133549Z
UID:3692-1765526400-1765558800@larpseason.com
SUMMARY:Petty Kingdoms Event 5
DESCRIPTION:
URL:https://larpseason.com/event/petty-kingdoms-event-5/
LOCATION:Hive Shrewsbury\, Hive Shrewsbury
CATEGORIES:Parlour LARPs,UK LARPs
END:VEVENT
BEGIN:VEVENT
DTSTART;TZID=Europe/Paris:20251213T080000
DTEND;TZID=Europe/Paris:20251214T170000
DTSTAMP:20260423T124845
CREATED:20251024T151023Z
LAST-MODIFIED:20251024T151024Z
UID:3988-1765612800-1765731600@larpseason.com
SUMMARY:Skittering in the Dark
DESCRIPTION:
URL:https://larpseason.com/event/skittering-in-the-dark/
LOCATION:Schildpadshoeve at Domein Beverdonk\, Schildpadshoeve at Domein Beverdonk. Beverdonk 1\, 2470 Retie\, Belgium
CATEGORIES:International LARPs
END:VEVENT
BEGIN:VEVENT
DTSTART;TZID=UTC:20251221T090000
DTEND;TZID=UTC:20251221T170000
DTSTAMP:20260423T124845
CREATED:20241008T183821Z
LAST-MODIFIED:20250214T182710Z
UID:2614-1766307600-1766336400@larpseason.com
SUMMARY:Tales LARP Chapter 36: The Extinguished Sun
DESCRIPTION:
URL:https://larpseason.com/event/tales-larp-chapter-36-the-extinguished-sun/
LOCATION:Chislehurst Caves\, Chislehurst Caves\, Caveside Cl\, Old Hill\, Chislehurst BR7 5NL
CATEGORIES:Club Games,UK LARPs
END:VEVENT
BEGIN:VEVENT
DTSTART;TZID=Europe/Paris:20260102T080000
DTEND;TZID=Europe/Paris:20260104T170000
DTSTAMP:20260423T124845
CREATED:20251026T174817Z
LAST-MODIFIED:20251026T174915Z
UID:4127-1767340800-1767546000@larpseason.com
SUMMARY:Helicon: Run 5
DESCRIPTION:
URL:https://larpseason.com/event/helicon-run-5/
LOCATION:Broholm Castle\, Broholm Castle\, Gudme\, Denmark
CATEGORIES:International LARPs
END:VEVENT
BEGIN:VEVENT
DTSTART;TZID=Europe/Paris:20260103T080000
DTEND;TZID=Europe/Paris:20260103T170000
DTSTAMP:20260423T124845
CREATED:20251109T144606Z
LAST-MODIFIED:20251109T144607Z
UID:4205-1767427200-1767459600@larpseason.com
SUMMARY:Ruined Future: Ashcombe Hall
DESCRIPTION:
URL:https://larpseason.com/event/ruined-future-ashcombe-hall/
LOCATION:Cross House\, Tewkesbury\, Cross House\, Church Street\, tewkesbury gl205ab
CATEGORIES:Non-Fest Sanctioned,Parlour LARPs,Sanctioned Events,UK LARPs
END:VEVENT
BEGIN:VEVENT
DTSTART;TZID=UTC:20260109T080000
DTEND;TZID=UTC:20260111T170000
DTSTAMP:20260423T124845
CREATED:20251004T125745Z
LAST-MODIFIED:20251004T130046Z
UID:3613-1767945600-1768150800@larpseason.com
SUMMARY:Empire: Memories in Green (player event)
DESCRIPTION:Memories in Green is an Empire LRP social player event hosted by Rosemary Warner and David Proctor OC\, and Bronwen’s Rest Wayhouse IC.We will be running a selection of activities and games including a scavenger hunt\, competitions\, some kind of fighting tournament and music in the evening\, with plenty of social time around them.
URL:https://larpseason.com/event/empire-social-memories-in-green/
LOCATION:Jarman Centre\, Jarman Centre Godolphin\, Duchess Drive\, Newmarket\, CB8 8\, United Kingdom
CATEGORIES:Empire Sanctioned,Sanctioned Events,UK LARPs
END:VEVENT
END:VCALENDAR