BEGIN:VCALENDAR
VERSION:2.0
PRODID:-//LARP SEASON - ECPv6.15.20//NONSGML v1.0//EN
CALSCALE:GREGORIAN
METHOD:PUBLISH
X-WR-CALNAME:LARP SEASON
X-ORIGINAL-URL:https://larpseason.com
X-WR-CALDESC:Events for LARP SEASON
REFRESH-INTERVAL;VALUE=DURATION:PT1H
X-Robots-Tag:noindex
X-PUBLISHED-TTL:PT1H
BEGIN:VTIMEZONE
TZID:UTC
BEGIN:STANDARD
TZOFFSETFROM:+0000
TZOFFSETTO:+0000
TZNAME:UTC
DTSTART:20240101T000000
END:STANDARD
END:VTIMEZONE
BEGIN:VTIMEZONE
TZID:Europe/Paris
BEGIN:DAYLIGHT
TZOFFSETFROM:+0100
TZOFFSETTO:+0200
TZNAME:CEST
DTSTART:20240331T010000
END:DAYLIGHT
BEGIN:STANDARD
TZOFFSETFROM:+0200
TZOFFSETTO:+0100
TZNAME:CET
DTSTART:20241027T010000
END:STANDARD
BEGIN:DAYLIGHT
TZOFFSETFROM:+0100
TZOFFSETTO:+0200
TZNAME:CEST
DTSTART:20250330T010000
END:DAYLIGHT
BEGIN:STANDARD
TZOFFSETFROM:+0200
TZOFFSETTO:+0100
TZNAME:CET
DTSTART:20251026T010000
END:STANDARD
BEGIN:DAYLIGHT
TZOFFSETFROM:+0100
TZOFFSETTO:+0200
TZNAME:CEST
DTSTART:20260329T010000
END:DAYLIGHT
BEGIN:STANDARD
TZOFFSETFROM:+0200
TZOFFSETTO:+0100
TZNAME:CET
DTSTART:20261025T010000
END:STANDARD
END:VTIMEZONE
BEGIN:VEVENT
DTSTART;TZID=UTC:20250508T080000
DTEND;TZID=UTC:20250510T170000
DTSTAMP:20260423T074658
CREATED:20241007T190939Z
LAST-MODIFIED:20241007T190940Z
UID:2585-1746691200-1746896400@larpseason.com
SUMMARY:Herofest May 2025
DESCRIPTION:
URL:https://larpseason.com/event/herofest-may-2025/
LOCATION:Huntley Wood\, Huntley Wood
CATEGORIES:Fest LARPs,UK LARPs,Weekend LARPs
END:VEVENT
BEGIN:VEVENT
DTSTART;TZID=UTC:20250502T080000
DTEND;TZID=UTC:20250505T170000
DTSTAMP:20260423T074658
CREATED:20250219T213731Z
LAST-MODIFIED:20250219T213732Z
UID:3372-1746172800-1746464400@larpseason.com
SUMMARY:Stargate LRP: Event 1
DESCRIPTION:
URL:https://larpseason.com/event/stargate-lrp-event-1/
LOCATION:Consall Scout Camp\, Consall Scout Camp\, Blakely Lane\, Dilhorne\, Stoke-on-Trent ST10 2PS
CATEGORIES:UK LARPs,Weekend LARPs
END:VEVENT
BEGIN:VEVENT
DTSTART;TZID=UTC:20250502T080000
DTEND;TZID=UTC:20250505T170000
DTSTAMP:20260423T074658
CREATED:20241210T213835Z
LAST-MODIFIED:20241210T213923Z
UID:2772-1746172800-1746464400@larpseason.com
SUMMARY:Dumnonni Chronicles Outlore
DESCRIPTION:
URL:https://larpseason.com/event/dumnonni-chronicles-outlore/
LOCATION:Dumnonni\, Dumnonni\, Okehampton\, EX20 3QZ
CATEGORIES:UK LARPs,Weekend LARPs
END:VEVENT
BEGIN:VEVENT
DTSTART;TZID=UTC:20250502T080000
DTEND;TZID=UTC:20250505T170000
DTSTAMP:20260423T074658
CREATED:20240919T160813Z
LAST-MODIFIED:20251006T211335Z
UID:2512-1746172800-1746464400@larpseason.com
SUMMARY:Lorien Trust Spring Moot
DESCRIPTION:
URL:https://larpseason.com/event/lorien-trust-spring-moot/
LOCATION:Locko Park\, Locko Park\, Derby
CATEGORIES:Fest LARPs,UK LARPs,Weekend LARPs
END:VEVENT
BEGIN:VEVENT
DTSTART;TZID=UTC:20250502T080000
DTEND;TZID=UTC:20250505T170000
DTSTAMP:20260423T074658
CREATED:20240508T144020Z
LAST-MODIFIED:20240508T144041Z
UID:2315-1746172800-1746464400@larpseason.com
SUMMARY:Eclipse - A New Home Run #2
DESCRIPTION:A major new Chaos League production\, a deep and thrilling Sci-fi Drama\, inspired by genre masterpieces such as “Interstellar” and “The Arrival”\, set in a planetary base with gigantic domes and working technology reconstructed to the smallest detail on an 18\,000 m2 area. \n\n\n\nSet in a near future where planet Earth is rapidly becoming uninhabitable\, “Eclipse – A New Home” tells the story of a group of explorers and researchers on an alien planet where an extraordinary encounter will change them forever and will force them to face their fears\, hopes and contradictions. \n\n\n\n Pre-register now to get priority when registration opens. \n\n\n\n\nhttps://chaosleague.org/eclipse-larp-en
URL:https://larpseason.com/event/eclipse-a-new-home-run-2/
LOCATION:Alvernia Planet\, Alvernia Planet\, Ferdynanda Wspaniałego 1\, 32-566 Nieporaz\, Poland
CATEGORIES:International LARPs
END:VEVENT
BEGIN:VEVENT
DTSTART;TZID=UTC:20250502T080000
DTEND;TZID=UTC:20250504T170000
DTSTAMP:20260423T074658
CREATED:20250212T173949Z
LAST-MODIFIED:20250212T173949Z
UID:3004-1746172800-1746378000@larpseason.com
SUMMARY:Age of Essence: Non-such town and county fair
DESCRIPTION:
URL:https://larpseason.com/event/age-of-essence-non-such-town-and-county-fair-2/
LOCATION:Nonsuch Park\, Nonsuch Mansion House\, Fir Walk\, Epsom\, KT17 2\, United Kingdom
CATEGORIES:Club Games,UK LARPs
END:VEVENT
BEGIN:VEVENT
DTSTART;TZID=UTC:20250501T080000
DTEND;TZID=UTC:20250505T170000
DTSTAMP:20260423T074658
CREATED:20240909T185905Z
LAST-MODIFIED:20240909T190257Z
UID:2490-1746086400-1746464400@larpseason.com
SUMMARY:Curious Pastimes Event 1
DESCRIPTION:
URL:https://larpseason.com/event/curious-pastimes-event-1-2/
LOCATION:Paccar Scout Camp\, Paccar Scout Camp\, Denham Lane Chalfont St Peter Gerrards Cross\, SL9 0QJ
CATEGORIES:Fest LARPs,UK LARPs,Weekend LARPs
END:VEVENT
BEGIN:VEVENT
DTSTART;TZID=UTC:20250501T080000
DTEND;TZID=UTC:20250504T170000
DTSTAMP:20260423T074658
CREATED:20250219T221600Z
LAST-MODIFIED:20250219T221601Z
UID:3427-1746086400-1746378000@larpseason.com
SUMMARY:Valour Manor
DESCRIPTION:Valour Manor is a charity for the advancement of superhero training. At its heart is a mixed training academy which leads a dynamic range of training activities and an expanding network of superpowered partnerships. The charity’s primary purpose\, determined from its foundation in 1645\, is to draw out the best and to enable them to flourish and make a positive impact on others through the course of a healthy\, happy and fulfilling life. \n\n\n\nValour Manor provides training and support for the growing UK Superhero Community. In association with ValourTech PLC and British Lionheart Pharmaceuticals\, Valour Manor provides a strong nurturing environment for heroes to develop their brand\, their persona and their powers. Heroes forged at the Valour Manor go on to careers in the military\, the government and the private sector\, with many getting shortlisted to join the British National Superhero Team\, THE BRIGADE.
URL:https://larpseason.com/event/valour-manor/
LOCATION:Ingestre Hall Arts Centre\, Ingestre Hall Arts Centre ST18 0RF
CATEGORIES:Blockbuster LARPs,UK LARPs,Weekend LARPs
END:VEVENT
BEGIN:VEVENT
DTSTART;TZID=UTC:20250501T080000
DTEND;TZID=UTC:20250504T170000
DTSTAMP:20260423T074658
CREATED:20250219T221022Z
LAST-MODIFIED:20250219T221023Z
UID:3421-1746086400-1746378000@larpseason.com
SUMMARY:Requiem: Reichskinder – Run 19
DESCRIPTION:Requiem is a larp inspired by an uneasy period for Czech–German relationships right after WWII\, which here takes the form of an atmospheric thriller in the fictional Rehabilitation Institute for Problematic Youth. It deals with topics of guilt\, redemption\, personal integrity\, national values and much more in a setting of continuously more and more blurred psychotropic thriller. \n\n\n\nThe game is held in Terezín (Theresienstadt)\, Czech Republic\, town heavily influenced by terrors of WWII so with that in mind we’re working on these topics with maximum piety and gravity and the one of the goals of this game is to bring life back to and old military hospital there.
URL:https://larpseason.com/event/requiem-reichskinder-run-19/
LOCATION:Old Military Hospital\, Terezín\, Czechia\, Principova alej 304\, 411 55 Terezín\, Czechia
CATEGORIES:International LARPs
END:VEVENT
BEGIN:VEVENT
DTSTART;TZID=UTC:20250501T080000
DTEND;TZID=UTC:20250504T170000
DTSTAMP:20260423T074658
CREATED:20240904T183406Z
LAST-MODIFIED:20240904T183407Z
UID:2432-1746086400-1746378000@larpseason.com
SUMMARY:Aniara
DESCRIPTION:Several years have passed since spaceship Aniara got out of her course. The refugees onboard have started to crawl up from their bad attempts at coping with not ever being able to return. They are trying to find something that would give life meaning\, something to fill the years they have left of their lives. \n\n\n\nSome seem to have found purpose in one of the new religions that have appeared on Aniara. Others are clinging on to old habits\, despite them having lost their meaning. Everyone is looking for something more. \n\n\n\nAniara is a nordic larp about normal people in an extreme situation\, and about how they together are trying to cope with it. Focus of the larp is on spirituality and existentialism\, relationships\, emotions and past trauma.
URL:https://larpseason.com/event/aniara/
LOCATION:Alingsås\, Alingsås\, Sweden
CATEGORIES:International LARPs
END:VEVENT
BEGIN:VEVENT
DTSTART;TZID=UTC:20250426T100000
DTEND;TZID=UTC:20250426T170000
DTSTAMP:20260423T074658
CREATED:20250212T174139Z
LAST-MODIFIED:20250212T174140Z
UID:3011-1745661600-1745686800@larpseason.com
SUMMARY:Age of Essence
DESCRIPTION:
URL:https://larpseason.com/event/age-of-essence-13/
LOCATION:Nonsuch Park\, Nonsuch Mansion House\, Fir Walk\, Epsom\, KT17 2\, United Kingdom
CATEGORIES:Club Games,UK LARPs
END:VEVENT
BEGIN:VEVENT
DTSTART;TZID=UTC:20250425T080000
DTEND;TZID=UTC:20250427T170000
DTSTAMP:20260423T074658
CREATED:20250219T213220Z
LAST-MODIFIED:20250219T213221Z
UID:3356-1745568000-1745773200@larpseason.com
SUMMARY:Bellissimo
DESCRIPTION:
URL:https://larpseason.com/event/bellissimo/
LOCATION:Grand Circus Hotel\, Södra Bulltoftavägen 51\, Malmö\, Skåne\, Grand Circus Hotel\, Södra Bulltoftavägen 51\, Malmö\, Skåne
CATEGORIES:International LARPs
END:VEVENT
BEGIN:VEVENT
DTSTART;TZID=UTC:20250425T080000
DTEND;TZID=UTC:20250427T170000
DTSTAMP:20260423T074658
CREATED:20250214T183959Z
LAST-MODIFIED:20250214T184000Z
UID:3212-1745568000-1745773200@larpseason.com
SUMMARY:Shadows in Time: Run 19
DESCRIPTION:Small supernatural family and relationship drama Shadows in Time is a story about immortality and things worth living and dying. About choices we make and the mistakes we can’t undo. This is a larp for 10 players that will happen in three acts over two days. Characters are all prewritten and long (~30 pages) with emphasis on deep and meaningful relations and life changing secrets. The larp was first played in Finland in 2021 and since then it has been run 15 times. Game fee and what is included varies in each run based on location and other costs.
URL:https://larpseason.com/event/shadows-in-time-run-19/
LOCATION:Odenwald near Frankfurt\, Odenwald near Frankfurt\, Germany
CATEGORIES:International LARPs
END:VEVENT
BEGIN:VEVENT
DTSTART;TZID=UTC:20250425T080000
DTEND;TZID=UTC:20250427T170000
DTSTAMP:20260423T074658
CREATED:20241008T183403Z
LAST-MODIFIED:20241008T183404Z
UID:2604-1745568000-1745773200@larpseason.com
SUMMARY:Tales LARP Chapter 31: Precious Things
DESCRIPTION:
URL:https://larpseason.com/event/tales-larp-chapter-31-precious-things/
LOCATION:Ross Wood Campsite\, Ross Wood Campsite\, New Rd.\, Herne Bay
CATEGORIES:UK LARPs,Weekend LARPs
END:VEVENT
BEGIN:VEVENT
DTSTART;TZID=UTC:20250425T080000
DTEND;TZID=UTC:20250427T170000
DTSTAMP:20260423T074658
CREATED:20240919T155930Z
LAST-MODIFIED:20240919T155930Z
UID:2504-1745568000-1745773200@larpseason.com
SUMMARY:Empire Winter Solstice
DESCRIPTION:
URL:https://larpseason.com/event/empire-winter-solstice-2/
LOCATION:Dadford Road Campsite\, Dadford Road Campsite\, Dadford Road\, Stowe\, Silverstone\, Buckinghamshire\, MK18 5LH
CATEGORIES:Fest LARPs,UK LARPs,Weekend LARPs
END:VEVENT
BEGIN:VEVENT
DTSTART;TZID=UTC:20250420T180000
DTEND;TZID=UTC:20250420T230000
DTSTAMP:20260423T074658
CREATED:20250202T212207Z
LAST-MODIFIED:20250202T212208Z
UID:2851-1745172000-1745190000@larpseason.com
SUMMARY:Generation Season 1 Event 3
DESCRIPTION:
URL:https://larpseason.com/event/generation-season-1-event-3/
LOCATION:The Treehouse\, The Treehouse board game cafe 41 Boston Street\, Sheffield\, S2 4QF
CATEGORIES:Club Games,UK LARPs
END:VEVENT
BEGIN:VEVENT
DTSTART;TZID=Europe/Paris:20250418T080000
DTEND;TZID=Europe/Paris:20250421T170000
DTSTAMP:20260423T074658
CREATED:20251006T204422Z
LAST-MODIFIED:20251006T204505Z
UID:3803-1744963200-1745254800@larpseason.com
SUMMARY:Witan Larp: Echoes of the Deep (E2)
DESCRIPTION:
URL:https://larpseason.com/event/witan-larp-echoes-of-the-deep-e2/
LOCATION:Welton Waters Adventure Centre\, Welton Waters Adventure Centre
CATEGORIES:UK LARPs,Weekend LARPs
END:VEVENT
BEGIN:VEVENT
DTSTART;TZID=UTC:20250418T080000
DTEND;TZID=UTC:20250421T170000
DTSTAMP:20260423T074658
CREATED:20250219T212507Z
LAST-MODIFIED:20250219T212508Z
UID:3344-1744963200-1745254800@larpseason.com
SUMMARY:The Zone: Event 16
DESCRIPTION:
URL:https://larpseason.com/event/the-zone-event-16/
LOCATION:Giants Seat Scout Camp\, Giants Seat Scout Camp\, Off Ringley Road West\, Radcliffe\, Manchester M26 1DY
CATEGORIES:UK LARPs,Weekend LARPs
END:VEVENT
BEGIN:VEVENT
DTSTART;TZID=UTC:20250418T080000
DTEND;TZID=UTC:20250420T170000
DTSTAMP:20260423T074658
CREATED:20250219T214055Z
LAST-MODIFIED:20250219T214055Z
UID:3378-1744963200-1745168400@larpseason.com
SUMMARY:Fabula Rasa E1 2025
DESCRIPTION:
URL:https://larpseason.com/event/fabula-rasa-e1-2025/
LOCATION:Pinewood Scouts Activity Centre\, Pinewood Scouts Activity Centre\, Shirley Church Rd\, Croydon CR0 5AJ
CATEGORIES:UK LARPs,Weekend LARPs
END:VEVENT
BEGIN:VEVENT
DTSTART;TZID=UTC:20250418T080000
DTEND;TZID=UTC:20250420T170000
DTSTAMP:20260423T074658
CREATED:20241006T103733Z
LAST-MODIFIED:20241006T103938Z
UID:2559-1744963200-1745168400@larpseason.com
SUMMARY:Wilde Realms Event 1
DESCRIPTION:
URL:https://larpseason.com/event/wilde-realms-event-1/
LOCATION:Ross Wood Campsite\, Ross Wood Campsite\, New Rd.\, Herne Bay
CATEGORIES:UK LARPs,Weekend LARPs
END:VEVENT
BEGIN:VEVENT
DTSTART;TZID=UTC:20250412T080000
DTEND;TZID=UTC:20250413T170000
DTSTAMP:20260423T074658
CREATED:20250219T222152Z
LAST-MODIFIED:20250219T222152Z
UID:3441-1744444800-1744563600@larpseason.com
SUMMARY:Chaosgate
DESCRIPTION:
URL:https://larpseason.com/event/chaosgate-2/
CATEGORIES:UK LARPs,Weekend LARPs
END:VEVENT
BEGIN:VEVENT
DTSTART;TZID=Europe/Paris:20250411T080000
DTEND;TZID=Europe/Paris:20250413T170000
DTSTAMP:20260423T074658
CREATED:20251026T173252Z
LAST-MODIFIED:20251026T173253Z
UID:4101-1744358400-1744563600@larpseason.com
SUMMARY:Dark Shadows and Brilliant Highlights - Event 4.2: Scholar of the Second Sin
DESCRIPTION:
URL:https://larpseason.com/event/dark-shadows-and-brilliant-highlights-event-4-2-scholar-of-the-second-sin/
LOCATION:Horley Scout Camp\, Banbury\, Horley Scout Camp\, Banbury
CATEGORIES:UK LARPs,Weekend LARPs
END:VEVENT
BEGIN:VEVENT
DTSTART;TZID=UTC:20250411T080000
DTEND;TZID=UTC:20250413T170000
DTSTAMP:20260423T074658
CREATED:20250218T193623Z
LAST-MODIFIED:20250218T193800Z
UID:3335-1744358400-1744563600@larpseason.com
SUMMARY:Humanity Ascendant Event 17
DESCRIPTION:
URL:https://larpseason.com/event/humanity-ascendant-event-17/
LOCATION:Silverwood Scout Camp\, Silverwood Scout Camp\, Barnsley Road Silkstone South Yorkshire S75
CATEGORIES:UK LARPs,Weekend LARPs
END:VEVENT
BEGIN:VEVENT
DTSTART;TZID=UTC:20250411T080000
DTEND;TZID=UTC:20250413T170000
DTSTAMP:20260423T074658
CREATED:20250215T201003Z
LAST-MODIFIED:20250215T201004Z
UID:3315-1744358400-1744563600@larpseason.com
SUMMARY:CuPa: Algaia faction event (Algaia sanctioned)
DESCRIPTION:Lyonnesse\, a land ever changing and shifting with the magic of the gods\, is still beset by the Syuri. The Warhost have found a way to combat the spreading mycelium\, and with that Istar has called her family to follow her into the mist shrouded forests to see what remains and who can be saved. But what the Warhost of the Algaia don’t know is what has followed them there… \n\n\n\nTheres going to be a lot going on from playing powerful enemies\, to scheming back stabbers and then some friendly lovely people (maybe). The Event is free for crew with the option to donate if you would like to\, but without pressure. Its still fully catered and you’ll get bunks if you want them.
URL:https://larpseason.com/event/cupa-algaia-faction-event-algaia-sanctioned/
LOCATION:Consall Scout Camp\, Consall Scout Camp\, Blakely Lane\, Dilhorne\, Stoke-on-Trent ST10 2PS
CATEGORIES:Curious Pastimes Sanctioned,Sanctioned Events,UK LARPs
END:VEVENT
BEGIN:VEVENT
DTSTART;TZID=UTC:20250411T080000
DTEND;TZID=UTC:20250413T170000
DTSTAMP:20260423T074658
CREATED:20250202T212802Z
LAST-MODIFIED:20250202T212803Z
UID:2860-1744358400-1744563600@larpseason.com
SUMMARY:Ancient Tides: The Settlement
DESCRIPTION:
URL:https://larpseason.com/event/ancient-tides-the-settlement/
LOCATION:Root ‘n’ Branch Acres\, Root 'n' Branch Acres\, Solihull\, B92 0HQ\, UK
CATEGORIES:UK LARPs,Weekend LARPs
END:VEVENT
BEGIN:VEVENT
DTSTART;TZID=UTC:20250411T080000
DTEND;TZID=UTC:20250413T170000
DTSTAMP:20260423T074658
CREATED:20240312T173039Z
LAST-MODIFIED:20240904T183616Z
UID:1325-1744358400-1744563600@larpseason.com
SUMMARY:Jaeger Event 1
DESCRIPTION:Congratulations Recruit! \n\n\n\nYou have officially passed your Basic Training\, which means that you are now permitted to attend supervised field missions. On these missions\, you will be exposed to a variety of challenges but fear not\, this is what you have been training for. The aim of these field missions is to assess your skills and determine whether you are ready to graduate and become a fully fledged Jaeger. \n\n\n\nYou’re off to Maullac\, where the townsfolk appear to be having a spot of bother with a sudden surge of undead activity. They believe a necromancer is trying to take over their home\, best you get in there to stop them. \n\n\n\nGood luck and remember the code\, it will keep you alive! \n\n\n\n– The Grandmeister
URL:https://larpseason.com/event/jaeger-event-1/
LOCATION:John’s Lee Wood Scout Campsite\, John's Lee Wood Scout Campsite Markfield Lane Markfield Leicestershire LE67 9PS
CATEGORIES:UK LARPs,Weekend LARPs
END:VEVENT
BEGIN:VEVENT
DTSTART;TZID=UTC:20250410T080000
DTEND;TZID=UTC:20250413T170000
DTSTAMP:20260423T074658
CREATED:20250214T132331Z
LAST-MODIFIED:20250214T132332Z
UID:3087-1744272000-1744563600@larpseason.com
SUMMARY:Alma Mater: Run 2
DESCRIPTION:
URL:https://larpseason.com/event/alma-mater-run-2/
LOCATION:The Chellington Centre\, The Chellington Centre\, St Nicholas Church\, Felmersham Road\, Carlton\, Bedford MK43 7NA
CATEGORIES:Blockbuster LARPs,UK LARPs,Weekend LARPs
END:VEVENT
BEGIN:VEVENT
DTSTART;TZID=UTC:20250410T080000
DTEND;TZID=UTC:20250413T170000
DTSTAMP:20260423T074658
CREATED:20240506T130730Z
LAST-MODIFIED:20240506T130731Z
UID:2252-1744272000-1744563600@larpseason.com
SUMMARY:The Rites of Spring
DESCRIPTION:Registration open until 13th May 2024. \n\n\n\nThe Rites of Spring (RoS) is a live action roleplaying game (larp) based on works of English Folk Horror. Participants will take on the roles of the residents and visitors to Spring Island\, a place with a long and mysterious history\, and each individual will have their own goals to strive for and dark secrets to protect. Drawing on themes of the unknown\, insular community and of folklore and ritual\, there will be secrets to uncover\, island politics to compete over\, and ancient traditions to uphold (or break); all sprinkled liberally with a dusting of tension and fear. Each character will spend their days exploring the island and its mysteries\, preparing for the coming festival with their island societies and socialising with their “family” groups.. all in preparation for the Rites of Spring.
URL:https://larpseason.com/event/the-rites-of-spring/
LOCATION:Livø\, Livø\, Denmark
CATEGORIES:International LARPs
END:VEVENT
BEGIN:VEVENT
DTSTART;TZID=Europe/Paris:20250404T080000
DTEND;TZID=Europe/Paris:20250406T170000
DTSTAMP:20260423T074658
CREATED:20251026T175253Z
LAST-MODIFIED:20251026T175253Z
UID:4138-1743753600-1743958800@larpseason.com
SUMMARY:A Very Massaran Affair (Diaspora LARP player event)
DESCRIPTION:
URL:https://larpseason.com/event/a-very-massaran-affair-diaspora-larp-player-event/
LOCATION:Raywell Park Scout Activity Centre\, Raywell Park Scout Activity Centre\, Riplingham Rd\, Raywell\, Cottingham HU16 5YL
CATEGORIES:Non-Fest Sanctioned,Sanctioned Events,UK LARPs
END:VEVENT
BEGIN:VEVENT
DTSTART;TZID=UTC:20250404T080000
DTEND;TZID=UTC:20250406T170000
DTSTAMP:20260423T074658
CREATED:20250220T133228Z
LAST-MODIFIED:20250220T133229Z
UID:3473-1743753600-1743958800@larpseason.com
SUMMARY:No Rest for the Wicked Event 19 - The Law of Baldes
DESCRIPTION:A Doom has come upon Craftworld Tel’Sharr.Yshrak’al the White Huntress\, Prince of Pursuit\, an Ascended Daemon of the She Who Thirsts\, has taken advantage of the split caused by the Cracked Sky Prophecy and begun to corrupt and consume the life force of this colossal star ship. In payment for unknown actions Yshrak’al has promised The Star Father Reborn access to the voidship sized webway gate of Tel’Sharr which would allow him to move his fleets beyond the Maw of Ni’ir bypassing Arkangel’s blockade entirely.Yulis Farwatcher\, Nightsworn Farseer and nominal ally of Arkangel calls upon its Heroes to help counter this threat to both the Aeldari people and the Imperium as a whole. It is time to bring to a final close on the true meaning of the Cracked Sky Prophecy; does it mean death and destruction for all or is it a time of rebirth and transcendence?
URL:https://larpseason.com/event/no-rest-for-the-wicked-event-19-the-law-of-baldes/
LOCATION:Douglaswood Scout Centre\, Douglaswood Scout Centre\, Dundee DD5 3QH
CATEGORIES:UK LARPs,Weekend LARPs
END:VEVENT
END:VCALENDAR