BEGIN:VCALENDAR
VERSION:2.0
PRODID:-//LARP SEASON - ECPv6.15.20//NONSGML v1.0//EN
CALSCALE:GREGORIAN
METHOD:PUBLISH
X-WR-CALNAME:LARP SEASON
X-ORIGINAL-URL:https://larpseason.com
X-WR-CALDESC:Events for LARP SEASON
REFRESH-INTERVAL;VALUE=DURATION:PT1H
X-Robots-Tag:noindex
X-PUBLISHED-TTL:PT1H
BEGIN:VTIMEZONE
TZID:UTC
BEGIN:STANDARD
TZOFFSETFROM:+0000
TZOFFSETTO:+0000
TZNAME:UTC
DTSTART:20230101T000000
END:STANDARD
END:VTIMEZONE
BEGIN:VEVENT
DTSTART;TZID=UTC:20240517T080000
DTEND;TZID=UTC:20240519T170000
DTSTAMP:20260424T113940
CREATED:20240315T191103Z
LAST-MODIFIED:20240316T205941Z
UID:1731-1715932800-1716138000@larpseason.com
SUMMARY:Exiled on the Shores of Carmoa: Event 8 "The Horizon Calls" (Game Finale)
DESCRIPTION:
URL:https://larpseason.com/event/exiled-on-the-shores-of-carmoa-event-8-the-horizon-calls-game-finale/
LOCATION:Kinver Scout Camp\, Kinver Scout Camp\, The Compa\, Kinver\, Stourbridge DY7 6HR
CATEGORIES:UK LARPs,Weekend LARPs
END:VEVENT
BEGIN:VEVENT
DTSTART;TZID=UTC:20240517T170000
DTEND;TZID=UTC:20240519T160000
DTSTAMP:20260424T113940
CREATED:20240211T162146Z
LAST-MODIFIED:20240316T210005Z
UID:618-1715965200-1716134400@larpseason.com
SUMMARY:Archaeus Larp: Incursion
DESCRIPTION:With the Pale Elves pouring out of the Arvum\, overrunning\, and destroying pirate cove.The sheer number forced the Adventurers to abandon camp and fall back to a safe location to assess the situation\, see to their wounded and count their losses.Unfortunately\, it was discovered that many adventurers had been captured by the Pale Elves.A few that escaped gave valuable intelligence\, that the captured were being placed in slave pens and will be soon moved in to the arvum for processing.Adventurers\, you have two choices: \n\n\n\n1. Leave the area and return home\, warning all you see of what hashappened. \n\n\n\nor \n\n\n\n2. reorganise and conduct a cloak and dagger style raid to free your friends.
URL:https://larpseason.com/event/archaeus-larp-incursion/
LOCATION:Goblin Combe Lodge\, Goblin Combe Lodge Cleeve Hill Road Cleeve Bristol BS40 5PP
CATEGORIES:UK LARPs,Weekend LARPs
END:VEVENT
BEGIN:VEVENT
DTSTART;TZID=UTC:20240120T100000
DTEND;TZID=UTC:20240120T180000
DTSTAMP:20260424T113940
CREATED:20240315T214552Z
LAST-MODIFIED:20240316T163839Z
UID:1887-1705744800-1705773600@larpseason.com
SUMMARY:F&H Nottingham
DESCRIPTION:
URL:https://larpseason.com/event/fh-nottingham/
LOCATION:F&H Nottingham 53.37133\, -1.57845\, 53.37133\, -1.57845
CATEGORIES:Club Games
END:VEVENT
BEGIN:VEVENT
DTSTART;TZID=UTC:20240120T100000
DTEND;TZID=UTC:20240120T180000
DTSTAMP:20260424T113940
CREATED:20240315T214659Z
LAST-MODIFIED:20240316T163829Z
UID:1893-1705744800-1705773600@larpseason.com
SUMMARY:F&H Stockport
DESCRIPTION:
URL:https://larpseason.com/event/fh-stockport/
LOCATION:F&H Stockport  53.42253\, -2.15344\, 53.42253\, -2.15344
CATEGORIES:Club Games
END:VEVENT
BEGIN:VEVENT
DTSTART;TZID=UTC:20240121T100000
DTEND;TZID=UTC:20240121T180000
DTSTAMP:20260424T113940
CREATED:20240315T214759Z
LAST-MODIFIED:20240316T163815Z
UID:1899-1705831200-1705860000@larpseason.com
SUMMARY:F&H Bath
DESCRIPTION:
URL:https://larpseason.com/event/fh-bath/
LOCATION:F&H Bath  51.49150\, -2.6642\, 51.49150\, -2.6642
CATEGORIES:Club Games
END:VEVENT
BEGIN:VEVENT
DTSTART;TZID=UTC:20240121T100000
DTEND;TZID=UTC:20240121T180000
DTSTAMP:20260424T113940
CREATED:20240315T214923Z
LAST-MODIFIED:20240316T163806Z
UID:1905-1705831200-1705860000@larpseason.com
SUMMARY:F&H Maidenhead
DESCRIPTION:
URL:https://larpseason.com/event/fh-maidenhead/
LOCATION:F&H Maidenhead 51.51585\, -0.77645\, 51.51585\, -0.77645
CATEGORIES:Club Games
END:VEVENT
BEGIN:VEVENT
DTSTART;TZID=UTC:20240121T100000
DTEND;TZID=UTC:20240121T180000
DTSTAMP:20260424T113940
CREATED:20240315T215030Z
LAST-MODIFIED:20240316T163755Z
UID:1911-1705831200-1705860000@larpseason.com
SUMMARY:F&H Newcastle
DESCRIPTION:
URL:https://larpseason.com/event/fh-newcastle/
LOCATION:F&H Newcastle 54.92022\, -1.78705\, 54.92022\, -1.78705
CATEGORIES:Club Games
END:VEVENT
BEGIN:VEVENT
DTSTART;TZID=UTC:20240121T100000
DTEND;TZID=UTC:20240121T180000
DTSTAMP:20260424T113940
CREATED:20240315T215112Z
LAST-MODIFIED:20240316T165025Z
UID:1915-1705831200-1705860000@larpseason.com
SUMMARY:F&H Peterborough
DESCRIPTION:
URL:https://larpseason.com/event/fh-peterborough-2/
LOCATION:F&H Peterborough 52.17318\, 0.10212\, 52.17318\, 0.10212
CATEGORIES:Club Games
END:VEVENT
BEGIN:VEVENT
DTSTART;TZID=UTC:20240121T100000
DTEND;TZID=UTC:20240121T180000
DTSTAMP:20260424T113940
CREATED:20240316T160452Z
LAST-MODIFIED:20240316T163527Z
UID:2037-1705831200-1705860000@larpseason.com
SUMMARY:F&H St Helens
DESCRIPTION:
URL:https://larpseason.com/event/fh-st-helens-2/
LOCATION:F&H St Helens 53.54806\, -2.74003\, 53.54806\, -2.74003
CATEGORIES:Club Games
END:VEVENT
BEGIN:VEVENT
DTSTART;TZID=UTC:20240524T080000
DTEND;TZID=UTC:20240526T170000
DTSTAMP:20260424T113940
CREATED:20240210T235037Z
LAST-MODIFIED:20240316T210009Z
UID:214-1716537600-1716742800@larpseason.com
SUMMARY:Carum LRP: Event 24
DESCRIPTION:
URL:https://larpseason.com/event/carum-lrp-event-24/
LOCATION:North Yorkshire
CATEGORIES:UK LARPs,Weekend LARPs
END:VEVENT
BEGIN:VEVENT
DTSTART;TZID=UTC:20240524T080000
DTEND;TZID=UTC:20240526T170000
DTSTAMP:20260424T113940
CREATED:20240311T221348Z
LAST-MODIFIED:20240316T210017Z
UID:1190-1716537600-1716742800@larpseason.com
SUMMARY:Heroes and Heroines: Best Left Undisturbed
DESCRIPTION:
URL:https://larpseason.com/event/heroes-and-heroines-best-left-undisturbed/
LOCATION:Consall Scout Camp\, Consall Scout Camp\, Blakely Lane\, Dilhorne\, Stoke-on-Trent ST10 2PS
CATEGORIES:UK LARPs,Weekend LARPs
END:VEVENT
BEGIN:VEVENT
DTSTART;TZID=UTC:20240524T080000
DTEND;TZID=UTC:20240526T170000
DTSTAMP:20260424T113940
CREATED:20240312T183136Z
LAST-MODIFIED:20240312T183137Z
UID:1360-1716537600-1716742800@larpseason.com
SUMMARY:The Grand Elysium 2024
DESCRIPTION:The Grand Elysium 2024 has been summoned!  \n\n\n\nThe shadows deepen over Athens as the Sabbat declares a sinister Crusade. In response\, the Princes of Athens and Larissa summon Kindred far and wide to a Grand Elysium\, a beacon of hope and defiance in these dark times. \n\n\n\n Date: May 24-26\, Athens\, Greece \n\n\n\n Experience: An immersive not-for-profit Vampire: the Masquerade LARP event hosted by the Greece of Darkness community. Forge alliances\, navigate the intrigue\, and shape the fate of the night. \n\n\n\nHighlights: \n\n\n\n– Engage in workshops to immerse yourself fully in the lore and etiquette of our world. \n\n\n\n– Join the Athens by Night Tour\, revealing the city’s hidden darkness. \n\n\n\n– Attend sect meetings\, an audience with the Princes and Elders\, and the climactic Grand Elysium itself. \n\n\n\n– Participate in a strategic offensive against the Sabbat to defend our city. \n\n\n\nWhether you stand with us against the storm or seek to claim victory from chaos\, your actions will echo through the Elysia of Greece. \n\n\n\nBook Now: https://www.greeceofdarkness.com/grand-elysium-2024/ \n\n\n\nEmbrace the night\, Kindred. Your destiny awaits at the Grand Elysium 2024.
URL:https://larpseason.com/event/the-grand-elysium-2024/
LOCATION:North Yorkshire
CATEGORIES:International LARPs
END:VEVENT
BEGIN:VEVENT
DTSTART;TZID=UTC:20240524T080000
DTEND;TZID=UTC:20240526T170000
DTSTAMP:20260424T113940
CREATED:20240315T190702Z
LAST-MODIFIED:20240316T210023Z
UID:1719-1716537600-1716742800@larpseason.com
SUMMARY:Four Pillars: Victory E1 2024
DESCRIPTION:Before the new year\, citizens of Vitalum received an invitation from Daemons to a Crowning Celebration. They were told to discard it and disregard it as a hoax; we all know it’s very real. Taskmaster Re’Taeh has organised The Expeditionary Force to infiltrate the celebration\, report back on it\, and interfere with anything that might threaten the safety of Ásaterra\, and all of Vitalum. \n\n\n\nSo\, who’s up for a party?
URL:https://larpseason.com/event/four-pillars-victory-e1-2024/
LOCATION:Penwood Grange\, Penwood Grange\, Penwood\, Newbury\, Berks\, RG20 9EW
CATEGORIES:UK LARPs,Weekend LARPs
END:VEVENT
BEGIN:VEVENT
DTSTART;TZID=UTC:20240524T080000
DTEND;TZID=UTC:20240527T170000
DTSTAMP:20260424T113940
CREATED:20240211T155517Z
LAST-MODIFIED:20240317T201207Z
UID:577-1716537600-1716829200@larpseason.com
SUMMARY:Lorien Trust Great Erdrejan Fayre
DESCRIPTION:
URL:https://larpseason.com/event/lorien-trust-gef/
LOCATION:Locko Park\, Locko Park\, Derby
CATEGORIES:Fest LARPs,UK LARPs,Weekend LARPs
END:VEVENT
BEGIN:VEVENT
DTSTART;TZID=UTC:20240524T080000
DTEND;TZID=UTC:20240527T170000
DTSTAMP:20260424T113940
CREATED:20240211T203107Z
LAST-MODIFIED:20240316T210033Z
UID:936-1716537600-1716829200@larpseason.com
SUMMARY:Fields of Illusion - Beltane
DESCRIPTION:
URL:https://larpseason.com/event/fields-of-illusion-beltane/
LOCATION:Southcott XC\, Southcott XC\, Southcott Farm\, Winkleigh
CATEGORIES:UK LARPs,Weekend LARPs
END:VEVENT
BEGIN:VEVENT
DTSTART;TZID=UTC:20240524T100000
DTEND;TZID=UTC:20240524T170000
DTSTAMP:20260424T113940
CREATED:20240315T191215Z
LAST-MODIFIED:20240315T210325Z
UID:1735-1716544800-1716570000@larpseason.com
SUMMARY:UKLTA: Dropzone 2024
DESCRIPTION:
URL:https://larpseason.com/event/uklta-dropzone-2024/
LOCATION:North Yorkshire
CATEGORIES:UK LARPs
END:VEVENT
BEGIN:VEVENT
DTSTART;TZID=UTC:20240126T100000
DTEND;TZID=UTC:20240126T180000
DTSTAMP:20260424T113940
CREATED:20240316T160052Z
LAST-MODIFIED:20240316T164927Z
UID:2027-1706263200-1706292000@larpseason.com
SUMMARY:F&H Norwich
DESCRIPTION:
URL:https://larpseason.com/event/fh-norwich-2/
LOCATION:F&H Norwich 52.64427\, 1.31994\, 52.64427\, 1.31994
CATEGORIES:Club Games
END:VEVENT
BEGIN:VEVENT
DTSTART;TZID=UTC:20240524T140000
DTEND;TZID=UTC:20240526T140000
DTSTAMP:20260424T113940
CREATED:20240211T150241Z
LAST-MODIFIED:20240316T210054Z
UID:476-1716559200-1716732000@larpseason.com
SUMMARY:Second Breakfast: Walpurgis Night
DESCRIPTION:Second Breakfast: Walpurgis Night is the night in the Frogmore social calendar where all sorts of things go bump in the night… One part bonfire night\, one part halloween\, one part wassail; we’ll have all manner of local folk traditions to get stuck into\, and a Saturday evening feast to kick off Walpurgis Night!
URL:https://larpseason.com/event/second-breakfast-walpurgis-night/
LOCATION:Gunman Airsoft Eversley Alpha\, Gunman Airsoft - Eversley The Welsh Dr (Off A327) Hook\, Hampshire RG27 0PX United Kingdom
CATEGORIES:UK LARPs,Weekend LARPs
END:VEVENT
BEGIN:VEVENT
DTSTART;TZID=UTC:20240525T100000
DTEND;TZID=UTC:20240525T170000
DTSTAMP:20260424T113940
CREATED:20250212T173310Z
LAST-MODIFIED:20250212T173311Z
UID:2982-1716631200-1716656400@larpseason.com
SUMMARY:Age of Essence
DESCRIPTION:
URL:https://larpseason.com/event/age-of-essence-4/
LOCATION:Nonsuch Park\, Nonsuch Mansion House\, Fir Walk\, Epsom\, KT17 2\, United Kingdom
CATEGORIES:Club Games,UK LARPs
END:VEVENT
BEGIN:VEVENT
DTSTART;TZID=UTC:20240127T100000
DTEND;TZID=UTC:20240127T180000
DTSTAMP:20260424T113940
CREATED:20240316T154909Z
LAST-MODIFIED:20240316T163709Z
UID:1998-1706349600-1706378400@larpseason.com
SUMMARY:F&H Black Country
DESCRIPTION:
URL:https://larpseason.com/event/fh-black-country/
LOCATION:F&H Black Country 52.37342\, -2.00985\, 52.37342\, -2.00985
CATEGORIES:Club Games
END:VEVENT
BEGIN:VEVENT
DTSTART;TZID=UTC:20240127T100000
DTEND;TZID=UTC:20240127T180000
DTSTAMP:20260424T113940
CREATED:20240316T155650Z
LAST-MODIFIED:20240316T163631Z
UID:2015-1706349600-1706378400@larpseason.com
SUMMARY:F&H Hull
DESCRIPTION:
URL:https://larpseason.com/event/fh-hull/
LOCATION:F&H Hull  53.91675\, -0.85624\, 53.91675\, -0.85624
CATEGORIES:Club Games
END:VEVENT
BEGIN:VEVENT
DTSTART;TZID=UTC:20240127T100000
DTEND;TZID=UTC:20240127T180000
DTSTAMP:20260424T113940
CREATED:20240316T161137Z
LAST-MODIFIED:20240316T163407Z
UID:2051-1706349600-1706378400@larpseason.com
SUMMARY:F&H Norwich
DESCRIPTION:
URL:https://larpseason.com/event/fh-norwich-3/
LOCATION:F&H Norwich 52.64427\, 1.31994\, 52.64427\, 1.31994
CATEGORIES:Club Games
END:VEVENT
BEGIN:VEVENT
DTSTART;TZID=UTC:20240525T130000
DTEND;TZID=UTC:20240525T190000
DTSTAMP:20260424T113940
CREATED:20240511T150236Z
LAST-MODIFIED:20240511T150301Z
UID:2329-1716642000-1716663600@larpseason.com
SUMMARY:Royal Academy for the Advancement of Arcane Sciences
DESCRIPTION:Victorian Gothic magic research LARP event. \n\n\n\nCover photo credit of Lloyd Dunkley Photography \n\n\n\nThe Royal Academy for the Advancement of Arcane Sciences (RAAAS) is a prestigious research institute dedicated to the codification and research of magic rituals\, but one of their schools promises magic unconstrained by time-consuming rituals; the School of Primal Magic. Their endeavours have unfortunately all been unsuccessful however\, leading to the department getting a poor reputation. That is until a new discovery might be just the breakthrough they need. \n\n\n\nPlayers will be researchers in the RAAAS School of Primal Magic the day after this first discovery\, attempting to decode this new arcane language\, earn fame and fortune\, and maybe even prevent a couple of disasters in the process. \n\n\n\nSign up form: \n\n\n\nhttps://docs.google.com/forms/d/e/1FAIpQLSemxGExskqlGI2FfO975XKwJ_FJJzvL1vZUsD8PWiIboZa8RA/viewform?usp=sf_link
URL:https://larpseason.com/event/royal-academy-for-the-advancement-of-arcane-sciences/
LOCATION:The Wardwick\, The Wardwick\, Derby Museum and Art Gallery 19-23 Wardwick\, Derby\, DE1 1\, United Kingdom
CATEGORIES:Parlour LARPs,UK LARPs
END:VEVENT
BEGIN:VEVENT
DTSTART;TZID=UTC:20240128T100000
DTEND;TZID=UTC:20240128T180000
DTSTAMP:20260424T113940
CREATED:20240316T155258Z
LAST-MODIFIED:20240316T164230Z
UID:2006-1706436000-1706464800@larpseason.com
SUMMARY:F&H Derby
DESCRIPTION:
URL:https://larpseason.com/event/fh-derby-2/
LOCATION:F&H Derby  52.95979\, -1.49394\, 52.95979\, -1.49394
CATEGORIES:Club Games
END:VEVENT
BEGIN:VEVENT
DTSTART;TZID=UTC:20240128T100000
DTEND;TZID=UTC:20240128T180000
DTSTAMP:20260424T113940
CREATED:20240316T155502Z
LAST-MODIFIED:20240316T164646Z
UID:2012-1706436000-1706464800@larpseason.com
SUMMARY:F&H Guildford
DESCRIPTION:
URL:https://larpseason.com/event/fh-guildford-2/
LOCATION:F&H Guildford 51.32435\, -0.82166\, 51.32435\, -0.82166
CATEGORIES:Club Games
END:VEVENT
BEGIN:VEVENT
DTSTART;TZID=UTC:20240128T100000
DTEND;TZID=UTC:20240128T180000
DTSTAMP:20260424T113940
CREATED:20240316T160842Z
LAST-MODIFIED:20240316T163457Z
UID:2043-1706436000-1706464800@larpseason.com
SUMMARY:F&H Tees Valley
DESCRIPTION:
URL:https://larpseason.com/event/fh-tees-valley/
LOCATION:F&H Tees Valley 54.54398\, -1.14878\, 54.54398\, -1.14878
CATEGORIES:Club Games
END:VEVENT
BEGIN:VEVENT
DTSTART;TZID=UTC:20240529T080000
DTEND;TZID=UTC:20240529T170000
DTSTAMP:20260424T113940
CREATED:20250212T185623Z
LAST-MODIFIED:20250214T131839Z
UID:3078-1716969600-1717002000@larpseason.com
SUMMARY:Cellblock Alpha
DESCRIPTION:Cellblock-Alpha\, formerly called “Lockdown”\, is a game of exploring dark themes and experiencing visceral emotions\, about enduring the oppression of a totalitarian regime\, and finding hope in small acts of defiance and survival.Intended to be a light-in-the-darkness style larp\, players will take on the roles of prisoners of the regime and live their day-to-day struggles\, taking place in a simulated prison. For some\, Cellblock-Alpha will be a game of politics in hell\, making cutthroat deals to sustain their power; for others it will be a game of fighting vainly against oppression\, or being crushed by it; and for still others it will be a game of finding small solace and comfort between the hard walls.Taking place over several acts of increasing tension\, the game will culminate in a prison riot where the prisoners will take control. In these crucial hours\, tensions will boil over\, conflicts will be resolved\, and all will do their best to survive how they can. Whilst the will of the regime will not be overcome\, it can be resisted\, and any act of defiance can be a spark of hope in the darkness. The game will conclude as the regime arrives to retake the prison\, the rioters must accept that their revolt will be quick and fleeting\, and hope they made the best of it. But perhaps any resistance\, even a fleeting one\, is worthwhile.
URL:https://larpseason.com/event/cellblock-alpha/
LOCATION:Gloucester Prison Events\, HMP Gloucester\, Barrack Square\, Gloucester GL1 2JN
CATEGORIES:Blockbuster LARPs,UK LARPs,Weekend LARPs
END:VEVENT
BEGIN:VEVENT
DTSTART;TZID=UTC:20240529T130000
DTEND;TZID=UTC:20240529T160000
DTSTAMP:20260424T113940
CREATED:20240512T180551Z
LAST-MODIFIED:20240512T180552Z
UID:2345-1716987600-1716998400@larpseason.com
SUMMARY:Folklore Realms LARP: Murder of Dreams
DESCRIPTION:
URL:https://larpseason.com/event/folklore-realms-larp-murder-of-dreams/
LOCATION:Hilton Court Gardens\, campsite\, event & wedding venue\, Folkeston Road\, Pembrokeshire\, SA62 6AE\, United Kingdom
CATEGORIES:Club Games,UK LARPs
END:VEVENT
BEGIN:VEVENT
DTSTART;TZID=UTC:20240530T080000
DTEND;TZID=UTC:20240602T170000
DTSTAMP:20260424T113940
CREATED:20240211T135213Z
LAST-MODIFIED:20240211T135213Z
UID:426-1717056000-1717347600@larpseason.com
SUMMARY:The Continental: Run 1
DESCRIPTION:Welcome to The Continental. You’ll be part of the elite of worldwide organized crime\, the High Table. The best assassins meet and rest at this hotel. There’s a single rule: you cannot kill here. \n\n\n\nThe event will take place between the movies John Wick: Chapter 3 – Parabellum and John Wick: Chapter 4; hence\, the events that happen in this last movie have not taken place yet. Some liberties may be taken for the proper development of the larp event and the different plots. \n\n\n\nThere’s no need to know the John Wick universe to take part in this larp.
URL:https://larpseason.com/event/the-continental-run-1/
LOCATION:Calle Figueras\, Calle Figueras\, 2\, 17467 Sant Mori\, Girona
CATEGORIES:International LARPs
END:VEVENT
BEGIN:VEVENT
DTSTART;TZID=UTC:20240531T080000
DTEND;TZID=UTC:20240602T170000
DTSTAMP:20260424T113940
CREATED:20240210T224026Z
LAST-MODIFIED:20241116T143043Z
UID:109-1717142400-1717347600@larpseason.com
SUMMARY:The Secrets We Keep: Run 12
DESCRIPTION:
URL:https://larpseason.com/event/the-secrets-we-keep-run-12/
LOCATION:Convento dell’Incontro\, Convento dell’Incontro. Bagno a Ripoli\, Florence\, Italy
CATEGORIES:International LARPs
END:VEVENT
END:VCALENDAR