BEGIN:VCALENDAR
VERSION:2.0
PRODID:-//LARP SEASON - ECPv6.15.20//NONSGML v1.0//EN
CALSCALE:GREGORIAN
METHOD:PUBLISH
X-WR-CALNAME:LARP SEASON
X-ORIGINAL-URL:https://larpseason.com
X-WR-CALDESC:Events for LARP SEASON
REFRESH-INTERVAL;VALUE=DURATION:PT1H
X-Robots-Tag:noindex
X-PUBLISHED-TTL:PT1H
BEGIN:VTIMEZONE
TZID:UTC
BEGIN:STANDARD
TZOFFSETFROM:+0000
TZOFFSETTO:+0000
TZNAME:UTC
DTSTART:20230101T000000
END:STANDARD
END:VTIMEZONE
BEGIN:VEVENT
DTSTART;TZID=UTC:20240106T180000
DTEND;TZID=UTC:20240106T233000
DTSTAMP:20260423T210402
CREATED:20240315T212251Z
LAST-MODIFIED:20240316T164853Z
UID:1828-1704564000-1704583800@larpseason.com
SUMMARY:F&H Newcastle (evening)
DESCRIPTION:
URL:https://larpseason.com/event/fh-newcastle-evening/
LOCATION:F&H Newcastle 54.99042\, -1.59221\, 54.99042\, -1.59221
CATEGORIES:Club Games
END:VEVENT
BEGIN:VEVENT
DTSTART;TZID=UTC:20240302T163000
DTEND;TZID=UTC:20240302T230000
DTSTAMP:20260423T210402
CREATED:20240211T184848Z
LAST-MODIFIED:20250214T181009Z
UID:786-1709397000-1709420400@larpseason.com
SUMMARY:Empire: Threads of Catazar (player event)
DESCRIPTION:Melkior of Balthazar’s Vineyard invites the Empire’s movers and shakers to his Chapterhouse in Highguard for debates\, talks\, and networking across nations. As befitting the proprietor of one of Anvil’s finest pubs\, the Grapevine\, the night will end with debates\, entertainment\, and dancing.This is a largely social event intended to offer Imperial citizens a chance to network and discuss affairs of the Empire away from the buzz of Anvil; there is no combat planned or expected. There will be IC talks/panels about affairs of the Empire\, as well as facilitated debates.
URL:https://larpseason.com/event/threads-of-catazar-an-empire-lrp-player-event/
LOCATION:Oxford Town Hall\, Oxford Town Hall\, Oxford
CATEGORIES:Empire Sanctioned,Sanctioned Events,UK LARPs
END:VEVENT
BEGIN:VEVENT
DTSTART;TZID=UTC:20240106T100000
DTEND;TZID=UTC:20240106T180000
DTSTAMP:20260423T210402
CREATED:20240315T212145Z
LAST-MODIFIED:20240316T164048Z
UID:1824-1704535200-1704564000@larpseason.com
SUMMARY:F&H St Helens
DESCRIPTION:
URL:https://larpseason.com/event/fh-st-helens/
LOCATION:F&H St Helens  53.51267\, -2.80851\, 53.51267\, -2.80851
CATEGORIES:Club Games
END:VEVENT
BEGIN:VEVENT
DTSTART;TZID=UTC:20240106T100000
DTEND;TZID=UTC:20240106T180000
DTSTAMP:20260423T210402
CREATED:20240315T212029Z
LAST-MODIFIED:20240316T164059Z
UID:1820-1704535200-1704564000@larpseason.com
SUMMARY:F&H Peterborough
DESCRIPTION:
URL:https://larpseason.com/event/fh-peterborough/
LOCATION:F&H Peterborough 52.17318\, 0.10212\, 52.17318\, 0.10212
CATEGORIES:Club Games
END:VEVENT
BEGIN:VEVENT
DTSTART;TZID=UTC:20240106T100000
DTEND;TZID=UTC:20240106T180000
DTSTAMP:20260423T210402
CREATED:20240315T211903Z
LAST-MODIFIED:20240316T164108Z
UID:1816-1704535200-1704564000@larpseason.com
SUMMARY:F&H Glasgow
DESCRIPTION:
URL:https://larpseason.com/event/fh-glasgow/
LOCATION:F&H Glasgow 55.973\, -4.32964\, 55.973\, -4.32964
CATEGORIES:Club Games
END:VEVENT
BEGIN:VEVENT
DTSTART;TZID=UTC:20240106T100000
DTEND;TZID=UTC:20240106T180000
DTSTAMP:20260423T210402
CREATED:20240315T211231Z
LAST-MODIFIED:20250214T131905Z
UID:1802-1704535200-1704564000@larpseason.com
SUMMARY:F&H Bristol
DESCRIPTION:
URL:https://larpseason.com/event/fh-bristol/
LOCATION:F&H Bristol <br>51.64642\, -2.70667\, 51.64642\, -2.70667
CATEGORIES:Club Games
END:VEVENT
BEGIN:VEVENT
DTSTART;TZID=UTC:20240302T093000
DTEND;TZID=UTC:20240302T163000
DTSTAMP:20260423T210402
CREATED:20240311T231229Z
LAST-MODIFIED:20240311T231230Z
UID:1286-1709371800-1709397000@larpseason.com
SUMMARY:Collegium
DESCRIPTION:Have you ever wanted to set institutional policy\, argue with fellow academics about research papers\, or campaign with your students’ union against the injustices of a reactionary establishment… but in an environment that includes fae exchange students\, a dragonology department\, and a lively debate on the ethics of necromancy?  \n\n\n\nWell then\, DO WE HAVE THE MEGAGAME FOR YOU!  \n\n\n\nCollegium takes some of its inspiration from the Oxbridge colleges\, mixes in a healthy dose of Unseen University and the Worst Witch\, and adds a pinch of Rivers of London and some other mythological elements. Yes\, the bursar needs to balance the books and carefully consider the new financial climate in which the college is operating… but the magister (head of the college) wants a new floating enchanted library\, so find that cash from somewhere!  \n\n\n\nTeams are mostly based on the 8 colleges of the University of Hexford (rather than their friendly rivals in the “Odder Place”\, Wyrdbridge)\, made up of a magister\, bursar\, senior tutor\, and student envoy. Each college has its own culture and traditions\, and in addition to these roles there are also those of the University of Hexford Libraries\, Museums and Heritage department\, the central university staff (“life would be so much simpler if the colleges just did what we told them!”)\, and the Students’ Union has its own stake in the game too.  \n\n\n\nWho will take home the Pegasus cup? Who will receive a visit from the Ethics Committee for trying to crossbreed a kraken with a unicorn? Who will HeXtinction Rebellion protest against due to their ties to Big Mana? 
URL:https://larpseason.com/event/collegium/
LOCATION:St Martins House\, St Martins House\, Leicester\, LE1 5PZ
CATEGORIES:Megagames
END:VEVENT
BEGIN:VEVENT
DTSTART;TZID=UTC:20240302T080000
DTEND;TZID=UTC:20240305T170000
DTSTAMP:20260423T210402
CREATED:20240211T130721Z
LAST-MODIFIED:20240211T130722Z
UID:345-1709366400-1709658000@larpseason.com
SUMMARY:Conscience Run 5
DESCRIPTION:This larp is an original creation inspired among other things on HBO’s Westworld TV Show\, but doesn’t use characters or follows the plot from the series. \n\n\n\nFramed in a mixture of western and corporate themes\, Conscience intends to address subjects such as ethical choices\, the nature of humanity\, the consequences of one’s actions\, and the limits of consciousness in AI.
URL:https://larpseason.com/event/conscience-run-5/
LOCATION:Fort Bravo\, Fort Bravo\, Tabernas\, Almería (Spain)
CATEGORIES:International LARPs
END:VEVENT
BEGIN:VEVENT
DTSTART;TZID=UTC:20240302T080000
DTEND;TZID=UTC:20240303T170000
DTSTAMP:20260423T210402
CREATED:20240211T172433Z
LAST-MODIFIED:20240211T172433Z
UID:683-1709366400-1709485200@larpseason.com
SUMMARY:LarpCon 2024 Larpcon & Dragons
DESCRIPTION:
URL:https://larpseason.com/event/larpcon-2024-larpcon-dragons/
LOCATION:Whitwick and Coalville Leisure Centre\, Whitwick and Coalville Leisure Centre\, Stephenson Way\, Coalville LE67 3FE
CATEGORIES:Conventions & Festivals
END:VEVENT
BEGIN:VEVENT
DTSTART;TZID=UTC:20240302T080000
DTEND;TZID=UTC:20240302T170000
DTSTAMP:20260423T210402
CREATED:20250219T222033Z
LAST-MODIFIED:20250219T222034Z
UID:3435-1709366400-1709398800@larpseason.com
SUMMARY:Chaosgate Event 1 2024
DESCRIPTION:
URL:https://larpseason.com/event/chaosgate-event-1-2024/
CATEGORIES:Club Games,UK LARPs
END:VEVENT
BEGIN:VEVENT
DTSTART;TZID=UTC:20240128T100000
DTEND;TZID=UTC:20240128T180000
DTSTAMP:20260423T210402
CREATED:20240316T160842Z
LAST-MODIFIED:20240316T163457Z
UID:2043-1706436000-1706464800@larpseason.com
SUMMARY:F&H Tees Valley
DESCRIPTION:
URL:https://larpseason.com/event/fh-tees-valley/
LOCATION:F&H Tees Valley 54.54398\, -1.14878\, 54.54398\, -1.14878
CATEGORIES:Club Games
END:VEVENT
BEGIN:VEVENT
DTSTART;TZID=UTC:20240128T100000
DTEND;TZID=UTC:20240128T180000
DTSTAMP:20260423T210402
CREATED:20240316T155502Z
LAST-MODIFIED:20240316T164646Z
UID:2012-1706436000-1706464800@larpseason.com
SUMMARY:F&H Guildford
DESCRIPTION:
URL:https://larpseason.com/event/fh-guildford-2/
LOCATION:F&H Guildford 51.32435\, -0.82166\, 51.32435\, -0.82166
CATEGORIES:Club Games
END:VEVENT
BEGIN:VEVENT
DTSTART;TZID=UTC:20240128T100000
DTEND;TZID=UTC:20240128T180000
DTSTAMP:20260423T210402
CREATED:20240316T155258Z
LAST-MODIFIED:20240316T164230Z
UID:2006-1706436000-1706464800@larpseason.com
SUMMARY:F&H Derby
DESCRIPTION:
URL:https://larpseason.com/event/fh-derby-2/
LOCATION:F&H Derby  52.95979\, -1.49394\, 52.95979\, -1.49394
CATEGORIES:Club Games
END:VEVENT
BEGIN:VEVENT
DTSTART;TZID=UTC:20240224T190000
DTEND;TZID=UTC:20240224T235900
DTSTAMP:20260423T210402
CREATED:20240211T184653Z
LAST-MODIFIED:20250214T180957Z
UID:780-1708801200-1708819140@larpseason.com
SUMMARY:Empire: History & Virtue 3 (player event)
DESCRIPTION:Looking to the Past to inform our FutureThe newly formed Chapter of The Navigators of Virtue would like to welcome all upstanding citizens of the Empire to attend an evening to relax\, socialise and to discuss the nature of the Empire’s History and its possible Future.
URL:https://larpseason.com/event/history-virtue-3/
LOCATION:The Roman Baths\, The Roman Baths\, Abbey Churchyard\, Bath BA1 1LZ
CATEGORIES:Empire Sanctioned,Sanctioned Events,UK LARPs
END:VEVENT
BEGIN:VEVENT
DTSTART;TZID=UTC:20240224T113000
DTEND;TZID=UTC:20240224T200000
DTSTAMP:20260423T210402
CREATED:20240211T184028Z
LAST-MODIFIED:20250214T180946Z
UID:773-1708774200-1708804800@larpseason.com
SUMMARY:Empire: A Match Made In Sarvos (player event)
DESCRIPTION:Do you long for a new friend? A confidante or companion? A love connection? A new partner in business\, perhaps? \n\n\n\nFollowing the success of our three previous dazzling events\, the Carta Stellare is once more throwing open the doors of its exclusive country retreat\, in the name of fellowship and festivity. \n\n\n\nJoin us for a party of peerless proportions\, in the sumptuous style you have come to expect from Sarvos’ premier guild of Cicisbei. \n\n\n\nMerely tell us what you wish for in a dining partner and we shall use our expertise to match you with your perfect companion – then you shall dine together in intimate surroundings. \n\n\n\nEach guest will have the chance to have two ‘dates’ – one for dinner and one for dessert. Our charming cicisbei will be on hand for encouragement\, facilitation\, or whatever the pair of you desire. Merely ring the bell upon your table and one of us shall appear! \n\n\n\nAfter dining\, guests may mingle\, enjoying each other’s company and delighting in entertainments from the attendant cicisbei. \n\n\n\nEnjoy the atmosphere\, stroll in the garden – and perhaps find a secret spot or two away from the crowd… \n\n\n\nWe would delight in your company for this special event. \n\n\n\nAmore\, more\, ore\, re\, \n\n\n\nCarta Stellare
URL:https://larpseason.com/event/a-match-made-in-sarvos/
LOCATION:Gildings Barns\, Gildings Barns\, Partridge Lane\, Newdigate\, Dorking\, United Kingdom
CATEGORIES:Empire Sanctioned,Sanctioned Events,UK LARPs
END:VEVENT
BEGIN:VEVENT
DTSTART;TZID=UTC:20240127T100000
DTEND;TZID=UTC:20240127T180000
DTSTAMP:20260423T210402
CREATED:20240316T161137Z
LAST-MODIFIED:20240316T163407Z
UID:2051-1706349600-1706378400@larpseason.com
SUMMARY:F&H Norwich
DESCRIPTION:
URL:https://larpseason.com/event/fh-norwich-3/
LOCATION:F&H Norwich 52.64427\, 1.31994\, 52.64427\, 1.31994
CATEGORIES:Club Games
END:VEVENT
BEGIN:VEVENT
DTSTART;TZID=UTC:20240127T100000
DTEND;TZID=UTC:20240127T180000
DTSTAMP:20260423T210402
CREATED:20240316T155650Z
LAST-MODIFIED:20240316T163631Z
UID:2015-1706349600-1706378400@larpseason.com
SUMMARY:F&H Hull
DESCRIPTION:
URL:https://larpseason.com/event/fh-hull/
LOCATION:F&H Hull  53.91675\, -0.85624\, 53.91675\, -0.85624
CATEGORIES:Club Games
END:VEVENT
BEGIN:VEVENT
DTSTART;TZID=UTC:20240127T100000
DTEND;TZID=UTC:20240127T180000
DTSTAMP:20260423T210402
CREATED:20240316T154909Z
LAST-MODIFIED:20240316T163709Z
UID:1998-1706349600-1706378400@larpseason.com
SUMMARY:F&H Black Country
DESCRIPTION:
URL:https://larpseason.com/event/fh-black-country/
LOCATION:F&H Black Country 52.37342\, -2.00985\, 52.37342\, -2.00985
CATEGORIES:Club Games
END:VEVENT
BEGIN:VEVENT
DTSTART;TZID=UTC:20240224T100000
DTEND;TZID=UTC:20240224T170000
DTSTAMP:20260423T210402
CREATED:20250212T172837Z
LAST-MODIFIED:20250212T173033Z
UID:2974-1708768800-1708794000@larpseason.com
SUMMARY:Age of Essence
DESCRIPTION:
URL:https://larpseason.com/event/age-of-essence-2/
LOCATION:Nonsuch Park\, Nonsuch Mansion House\, Fir Walk\, Epsom\, KT17 2\, United Kingdom
CATEGORIES:Club Games,UK LARPs
END:VEVENT
BEGIN:VEVENT
DTSTART;TZID=UTC:20240224T080000
DTEND;TZID=UTC:20240224T170000
DTSTAMP:20260423T210402
CREATED:20240211T171449Z
LAST-MODIFIED:20240316T204321Z
UID:669-1708761600-1708794000@larpseason.com
SUMMARY:Treasure Trap Banquet 2024: Around the World
DESCRIPTION:
URL:https://larpseason.com/event/treasure-trap-banquet-2024-around-the-world/
LOCATION:Moor House Adventure Centre\, Moor House Adventure Centre\, Rainton Gate\, West Rainton\, Houghton le Spring DH4 6QY
CATEGORIES:Club Games,UK LARPs
END:VEVENT
BEGIN:VEVENT
DTSTART;TZID=UTC:20240223T140000
DTEND;TZID=UTC:20240225T140000
DTSTAMP:20260423T210402
CREATED:20240211T151656Z
LAST-MODIFIED:20240316T204313Z
UID:492-1708696800-1708869600@larpseason.com
SUMMARY:The Forlorn Hope: Episode 2
DESCRIPTION:The Forlorn Hope is a game set during the Peninsular War\, firmly based in the real world\, but featuring a fictional scenario that could have occurred during that conflict. \n\n\n\nThe game will run over three days\, from Friday Evening to Sunday Lunch\, and will be fully catered by our on-site chef for those who purchase a meal ticket\, who will be producing thematic and immersive meals handpicked for this game. This is not reenactment; we will not be critiquing the authenticity of your belt buckle! Costume is aspirational\, however the aesthetics of the Napoleonic period are very striking and thus should be thought of as equally important to the name and traits of the character you wish to play. While primarily a game focused around combat roleplay\, there will be several plotlines aimed at non-combat players\, playing into themes of intelligence-gathering and intrigue\, as well as Bridgerton-esque politics\, social deduction and Austen style ballgowning.
URL:https://larpseason.com/event/the-forlorn-hope-episode-2/
LOCATION:Gunman Airsoft Eversley Alpha\, Gunman Airsoft - Eversley The Welsh Dr (Off A327) Hook\, Hampshire RG27 0PX United Kingdom
CATEGORIES:UK LARPs,Weekend LARPs
END:VEVENT
BEGIN:VEVENT
DTSTART;TZID=UTC:20240126T100000
DTEND;TZID=UTC:20240126T180000
DTSTAMP:20260423T210402
CREATED:20240316T160052Z
LAST-MODIFIED:20240316T164927Z
UID:2027-1706263200-1706292000@larpseason.com
SUMMARY:F&H Norwich
DESCRIPTION:
URL:https://larpseason.com/event/fh-norwich-2/
LOCATION:F&H Norwich 52.64427\, 1.31994\, 52.64427\, 1.31994
CATEGORIES:Club Games
END:VEVENT
BEGIN:VEVENT
DTSTART;TZID=UTC:20240223T080000
DTEND;TZID=UTC:20240225T170000
DTSTAMP:20260423T210402
CREATED:20240211T202447Z
LAST-MODIFIED:20240316T204309Z
UID:931-1708675200-1708880400@larpseason.com
SUMMARY:Ruined Future Event 1: After the End
DESCRIPTION:Together we work for the future\, together we work to survive our world. The world we have created between us\, the survivors.After the end\, event one is set 30 years after a nuclear war. We are plagued with radiation\, The Authority\, Raiders and much more. We must work together where we can\, try and put our differences aside to survive. Our new exchange currency is bullets\, we can trade things that we scavenge for bullets\, do missions\, personal jobs or just help out another survivor are other ways we can earn bullets. If you are not in need of bullets you could always trade in resources.you are welcome to turn up onsite from 3pm however buildings will not be accessible until 6-7pm as that’s when site wardens are due onsite. Weapons check and Player briefing is set to be at 6pm\, with time-in set for 8pm. Any questions please contact us on messenger or via email.Price for the event is £65 up to 14 days before the event\, after this time it will go up to £70 or £75 on the door.
URL:https://larpseason.com/event/ruined-future-event-1-after-the-end/
LOCATION:John’s Lee Wood Scout Campsite\, John's Lee Wood Scout Campsite Markfield Lane Markfield Leicestershire LE67 9PS
CATEGORIES:UK LARPs,Weekend LARPs
END:VEVENT
BEGIN:VEVENT
DTSTART;TZID=UTC:20240223T080000
DTEND;TZID=UTC:20240225T170000
DTSTAMP:20260423T210402
CREATED:20240211T195345Z
LAST-MODIFIED:20240316T204304Z
UID:875-1708675200-1708880400@larpseason.com
SUMMARY:The Zone: Event 11
DESCRIPTION:
URL:https://larpseason.com/event/the-zone-event-11/
LOCATION:Giants Seat Scout Camp\, Giants Seat Scout Camp\, Off Ringley Road West\, Radcliffe\, Manchester M26 1DY
CATEGORIES:UK LARPs,Weekend LARPs
END:VEVENT
BEGIN:VEVENT
DTSTART;TZID=UTC:20240222T080000
DTEND;TZID=UTC:20240225T170000
DTSTAMP:20260423T210402
CREATED:20240211T134702Z
LAST-MODIFIED:20240211T134703Z
UID:424-1708588800-1708880400@larpseason.com
SUMMARY:Something Ends\, Something Begins: Run 4
DESCRIPTION:“Dear vassal\, Empress Cirilla Fiona Elen Riannon invites you to the Northern Realms Feast to elect the new ruler of the Northern Kingdoms and official representative at the Nilfgaardian Court. Get dressed in your finest attire and get ready for a night full of challenges that will allow you to prove your worth to the Empire. Remember\, only the royal court members with an official invitation are allowed to attend.”
URL:https://larpseason.com/event/something-ends-something-begins-run-4/
LOCATION:Sellares Rural\, Sellares Rural\, Sallent\, Barcelona
CATEGORIES:International LARPs
END:VEVENT
BEGIN:VEVENT
DTSTART;TZID=UTC:20240218T180000
DTEND;TZID=UTC:20240218T220000
DTSTAMP:20260423T210402
CREATED:20240210T230028Z
LAST-MODIFIED:20240317T112756Z
UID:142-1708279200-1708293600@larpseason.com
SUMMARY:Arthuriana Event 1
DESCRIPTION:
URL:https://larpseason.com/event/arthuriana-event-1/
LOCATION:The Treehouse\, The Treehouse board game cafe 41 Boston Street\, Sheffield\, S2 4QF
CATEGORIES:Parlour LARPs,UK LARPs
END:VEVENT
BEGIN:VEVENT
DTSTART;TZID=UTC:20240121T100000
DTEND;TZID=UTC:20240121T180000
DTSTAMP:20260423T210402
CREATED:20240316T160452Z
LAST-MODIFIED:20240316T163527Z
UID:2037-1705831200-1705860000@larpseason.com
SUMMARY:F&H St Helens
DESCRIPTION:
URL:https://larpseason.com/event/fh-st-helens-2/
LOCATION:F&H St Helens 53.54806\, -2.74003\, 53.54806\, -2.74003
CATEGORIES:Club Games
END:VEVENT
BEGIN:VEVENT
DTSTART;TZID=UTC:20240121T100000
DTEND;TZID=UTC:20240121T180000
DTSTAMP:20260423T210402
CREATED:20240315T215112Z
LAST-MODIFIED:20240316T165025Z
UID:1915-1705831200-1705860000@larpseason.com
SUMMARY:F&H Peterborough
DESCRIPTION:
URL:https://larpseason.com/event/fh-peterborough-2/
LOCATION:F&H Peterborough 52.17318\, 0.10212\, 52.17318\, 0.10212
CATEGORIES:Club Games
END:VEVENT
BEGIN:VEVENT
DTSTART;TZID=UTC:20240121T100000
DTEND;TZID=UTC:20240121T180000
DTSTAMP:20260423T210402
CREATED:20240315T215030Z
LAST-MODIFIED:20240316T163755Z
UID:1911-1705831200-1705860000@larpseason.com
SUMMARY:F&H Newcastle
DESCRIPTION:
URL:https://larpseason.com/event/fh-newcastle/
LOCATION:F&H Newcastle 54.92022\, -1.78705\, 54.92022\, -1.78705
CATEGORIES:Club Games
END:VEVENT
BEGIN:VEVENT
DTSTART;TZID=UTC:20240121T100000
DTEND;TZID=UTC:20240121T180000
DTSTAMP:20260423T210402
CREATED:20240315T214923Z
LAST-MODIFIED:20240316T163806Z
UID:1905-1705831200-1705860000@larpseason.com
SUMMARY:F&H Maidenhead
DESCRIPTION:
URL:https://larpseason.com/event/fh-maidenhead/
LOCATION:F&H Maidenhead 51.51585\, -0.77645\, 51.51585\, -0.77645
CATEGORIES:Club Games
END:VEVENT
END:VCALENDAR