BEGIN:VCALENDAR
VERSION:2.0
PRODID:-//LARP SEASON - ECPv6.15.20//NONSGML v1.0//EN
CALSCALE:GREGORIAN
METHOD:PUBLISH
X-ORIGINAL-URL:https://larpseason.com
X-WR-CALDESC:Events for LARP SEASON
REFRESH-INTERVAL;VALUE=DURATION:PT1H
X-Robots-Tag:noindex
X-PUBLISHED-TTL:PT1H
BEGIN:VTIMEZONE
TZID:UTC
BEGIN:STANDARD
TZOFFSETFROM:+0000
TZOFFSETTO:+0000
TZNAME:UTC
DTSTART:20230101T000000
END:STANDARD
END:VTIMEZONE
BEGIN:VEVENT
DTSTART;TZID=UTC:20240113T100000
DTEND;TZID=UTC:20240113T180000
DTSTAMP:20260423T134853
CREATED:20240315T213446Z
LAST-MODIFIED:20240316T163958Z
UID:1850-1705140000-1705168800@larpseason.com
SUMMARY:F&H Sheffield
DESCRIPTION:
URL:https://larpseason.com/event/fh-sheffield/
LOCATION:F&H Sheffield 53.37133\, -1.57845\, 53.37133\, -1.57845
CATEGORIES:Club Games
END:VEVENT
BEGIN:VEVENT
DTSTART;TZID=UTC:20240412T193000
DTEND;TZID=UTC:20240414T150000
DTSTAMP:20260423T134853
CREATED:20240210T233128Z
LAST-MODIFIED:20240316T205740Z
UID:182-1712950200-1713106800@larpseason.com
SUMMARY:The Arrivals: The Price of Knowledge
DESCRIPTION:
URL:https://larpseason.com/event/the-arrivals-the-price-of-knowledge/
CATEGORIES:UK LARPs,Weekend LARPs
END:VEVENT
BEGIN:VEVENT
DTSTART;TZID=UTC:20240412T140000
DTEND;TZID=UTC:20240414T140000
DTSTAMP:20260423T134853
CREATED:20240211T150133Z
LAST-MODIFIED:20240316T205730Z
UID:472-1712930400-1713103200@larpseason.com
SUMMARY:OUTLAW - Episode 2: Lauds
DESCRIPTION:Whispered discussions in ale houses… \n\n\n\nLetters entrusted to squires to take to the very outskirts of the Angevin Empire… \n\n\n\nNotes left in hidden knotholes in marked trees of the wild forests… \n\n\n\nA rebellion is brewing. Will you stand with them? \n\n\n\nSpring 1201. Winter is over and those aligned with the rebel William Marshal have weathered a long year: exiled for voicing opinions against King John\, returning from the holy land with little to come back to or simply so poor that the life of an outlaw is no hardship\, since their meeting in Arundel their ranks have swelled a little but it is a rare fool who declares themself for Richard’s heir outright. \n\n\n\nSome members of the secret rebellion returned home to villages or estates that still quietly supported them\, waiting on news and the call to act. Others stayed in the environs of Arundel under the patronage of Lady Juliana\, rebuilding her manor of Middleton using the money now available to her as Lady of Arundel castle. \n\n\n\nGiven a suggestion by Blind Jan\, a beggar of the village\, the Hoods scouted ahead to Gloucester to keep tabs on the cousin of Isobel de Clare\, Gilbert Earl of Gloucester – a young man of uncertain loyalties. With information about the rebellion in his hands\, young Earl Gilbert could make a strong alliance and oust his own family from their seats\, or provide a significant foothold into the Welsh Marches\, where other allies may be found for Marshal and Queen Eleanor. \n\n\n\nWhen the news spread to the Hoods laying low in the Cotswolds and Forest of Dean that Earl Gilbert was celebrating St George’s Day with a hunt\, inviting a variety of nobles of his acquaintance\, Lady Arundel was able to secure a place on the guest list\, along with a select retinue of her own…
URL:https://larpseason.com/event/outlaw-episode-2-lauds/
LOCATION:Gunman Airsoft Eversley Alpha\, Gunman Airsoft - Eversley The Welsh Dr (Off A327) Hook\, Hampshire RG27 0PX United Kingdom
CATEGORIES:UK LARPs,Weekend LARPs
END:VEVENT
BEGIN:VEVENT
DTSTART;TZID=UTC:20240412T080000
DTEND;TZID=UTC:20240414T170000
DTSTAMP:20260423T134853
CREATED:20240316T152658Z
LAST-MODIFIED:20240316T205725Z
UID:1980-1712908800-1713114000@larpseason.com
SUMMARY:Five Oaths LRP - A Season of Scrutiny (E1 2024)
DESCRIPTION:It is a Season of Scrutiny. \n\n\n\nThe Gullet is an inlet from the Shaper’s Sea on the coast of Uasa\, choked with hidden sandbanks\, weeds\, mist\, and worse dangers still. \n\n\n\nOnly the Pilots of Bealcaoch know their way through the Gullet\, and one of their number must be on every ship\, boat\, or dinghy going past the cliffs that guard the entrance to the bay. However\, word has spread that an increasing number of ships are ignoring this rule\, and attempting the trip without a licensed Pilot. \n\n\n\nUnder pressure from the Pilots Guild\, House Velvet Mist\, and the families of those who have perished in the Gullet in such trips Rider Lachtna of Scornach has hired Cumhacht na Réige to set up an encampment by the dock and ensure only legitimate trips are allowed embark. As the band sets up their camp on the 34th Spring\, 802 TR\, several days of scrutiny await them.
URL:https://larpseason.com/event/five-oaths-lrp-a-season-of-scrutiny-e1-2024/
LOCATION:Collon Scout Camp\, Collon Scout Camp\, Collon\, Co. Louth\, Ireland
CATEGORIES:UK LARPs,Weekend LARPs
END:VEVENT
BEGIN:VEVENT
DTSTART;TZID=UTC:20240412T080000
DTEND;TZID=UTC:20240414T170000
DTSTAMP:20260423T134853
CREATED:20240315T182826Z
LAST-MODIFIED:20240316T205721Z
UID:1652-1712908800-1713114000@larpseason.com
SUMMARY:Blood Red Roses: To Bind the Brave
DESCRIPTION:Northern Theasleigh is crossed by thoroughfares between field and hedgerow\, forest and meadow. Many use these routes to avoid the Imperial roads for lawful business; traders cut the distance between markets\, soldiers and squires perform their master’s business\, whilst villeins and freemen walk them searching for trade. Others use them for more nefarious purposes; Men-at-arms and nobles use them to travel free from prying eyes that might report on their movements whilst footpads and cutthroats roam the back routes of Algundy seeking prey.
URL:https://larpseason.com/event/blood-red-roses-to-bind-the-brave/
LOCATION:Taw Bottom Guides Camp Site\, Taw Bottom Devon Guides Camp Site\, Taw Bottom\, South Tawton\, EX20 2LP
CATEGORIES:UK LARPs,Weekend LARPs
END:VEVENT
BEGIN:VEVENT
DTSTART;TZID=UTC:20240412T080000
DTEND;TZID=UTC:20240414T170000
DTSTAMP:20260423T134853
CREATED:20240314T232747Z
LAST-MODIFIED:20240316T205715Z
UID:1605-1712908800-1713114000@larpseason.com
SUMMARY:Pheonix Reborn: Insanatorium
DESCRIPTION:As the demon rains fell\, the ancients were washed from the world. \n\n\n\nOnly we remain\, secure in our walled cities\, defiant against the terrors from beyond. \n\n\n\n​Phoenix Reborn is a live action role playing game which takes place in a world ravaged by foul demons bent on the absolute destruction of the last few surviving enclaves of humanity. Under the benevolent gaze of the sun\, mankind survives\, but the night and all its terrors belong to the demons
URL:https://larpseason.com/event/pheonix-reborn-insanatorium/
LOCATION:Ratlingate Scout Activity Centre\, Ratlingate Scout Activity Centre\, Rattlingate Ln Carlisle CA5 6DW
CATEGORIES:UK LARPs,Weekend LARPs
END:VEVENT
BEGIN:VEVENT
DTSTART;TZID=UTC:20240412T080000
DTEND;TZID=UTC:20240414T170000
DTSTAMP:20260423T134853
CREATED:20240211T204402Z
LAST-MODIFIED:20240316T205651Z
UID:952-1712908800-1713114000@larpseason.com
SUMMARY:Divided We Fall 1: The Corpse of the Old World
DESCRIPTION:
URL:https://larpseason.com/event/divided-we-fall-1-the-corpse-of-the-old-world/
LOCATION:THE GAOL\, THE GAOL AIRSOFT\, OAKHAM\, LE15 7TU
CATEGORIES:UK LARPs,Weekend LARPs
END:VEVENT
BEGIN:VEVENT
DTSTART;TZID=UTC:20240412T080000
DTEND;TZID=UTC:20240414T170000
DTSTAMP:20260423T134853
CREATED:20240211T192848Z
LAST-MODIFIED:20240316T205646Z
UID:859-1712908800-1713114000@larpseason.com
SUMMARY:Wilde Realms Event 1: A Promise Kept
DESCRIPTION:
URL:https://larpseason.com/event/wilde-realms-e1-a-promise-kept/
LOCATION:Ross Wood Campsite\, Ross Wood Campsite\, New Rd.\, Herne Bay
CATEGORIES:UK LARPs,Weekend LARPs
END:VEVENT
BEGIN:VEVENT
DTSTART;TZID=UTC:20240412T080000
DTEND;TZID=UTC:20240414T170000
DTSTAMP:20260423T134853
CREATED:20240211T005809Z
LAST-MODIFIED:20240316T205643Z
UID:319-1712908800-1713114000@larpseason.com
SUMMARY:The Jade Throne: Game 7
DESCRIPTION:
URL:https://larpseason.com/event/the-jade-throne-game-7/
LOCATION:The Grange\, Frogmore Grange\, Frog lane Balsall Common Coventry Warwickshire CV7 7FP United Kingdom
CATEGORIES:UK LARPs,Weekend LARPs
END:VEVENT
BEGIN:VEVENT
DTSTART;TZID=UTC:20240412T080000
DTEND;TZID=UTC:20240414T170000
DTSTAMP:20260423T134853
CREATED:20240211T000310Z
LAST-MODIFIED:20240316T205639Z
UID:234-1712908800-1713114000@larpseason.com
SUMMARY:Beyond Ragnarok Event 1
DESCRIPTION:
URL:https://larpseason.com/event/beyond-ragnarok-event-1/
LOCATION:Bispham Hall Scout Estate\, Bispham Hall Scout Estate\, Orrell
CATEGORIES:UK LARPs,Weekend LARPs
END:VEVENT
BEGIN:VEVENT
DTSTART;TZID=UTC:20240409T160000
DTEND;TZID=UTC:20240410T000000
DTSTAMP:20260423T134853
CREATED:20240312T175947Z
LAST-MODIFIED:20240312T180048Z
UID:1344-1712678400-1712707200@larpseason.com
SUMMARY:The Wild Hunt: 3 AM Forever
DESCRIPTION:The larp 3 AM Forever return in Tampere as part of the A Week in Finland programming before Solmukohta! The larp runs on Tuesday 9th of April and happens between 16:00 and 24:00 in a Tampere venue. \n\n\n\nParticipating in the larp requires a separate sign up and participation fee. \n\n\n\nThe sign up opens in early February. The larp can accommodate 60-80 participants\, depending on how many sign ups we get. \n\n\n\nThe Orpheus Theatre is known for the hazy\, unreal midnight celebrations following its premieres and productions. Actors\, art students\, derelicts\, junkies\, the stars of yesterday\, and the promising talent of tomorrow all creep in for that sordid dance-floor magic\, for the slow\, horny chaos of drugged up 3 AM confusion. Emerging in the early hours\, steeped in bizarre regrets and haunting memories\, you wonder whether everything really happened.There are plenty of rumours that strange tragedies follow people at these parties\, and that being involved in the theatre’s productions is dangerous. Few bother to see the shows – small weird affairs with short runs\, and bizarre\, haunting imagery. They come for the partiesThere is a reason why The Orpheus is too strange to succeed\, yet pulls in the hungry\, the lonely\, and the yearning. The fae lurk in the shadows\, eager to touch the reality and spark of a human being. Eager to be changed by it. The fae feed every ambition and creative impulse\, no matter how dangerous or self-destructive. For the faeries at their eternal party\, there is no beauty as striking as that of human desperation.Dance\, human. Dance at the risk of having to dance for ever.3 AM Forever is a larp set at the party following a premiere at The Orpheus. In the hours from when the show ends to the end of the night\, you will lose yourself in your dreams\, stumbling out as both less and more than what you were before. The memories of what you did might fill you with dread but you’d do it all over again.
URL:https://larpseason.com/event/the-wild-hunt-3-am-forever/
CATEGORIES:International LARPs
END:VEVENT
BEGIN:VEVENT
DTSTART;TZID=UTC:20240408T080000
DTEND;TZID=UTC:20240414T170000
DTSTAMP:20260423T134853
CREATED:20240211T130022Z
LAST-MODIFIED:20240316T174648Z
UID:339-1712563200-1713114000@larpseason.com
SUMMARY:Solmukohta 2024
DESCRIPTION:Solmukohta is a Nordic role-playing game conference and community event. Held annually in the Nordic countries since 1997\, the name of the event is Solmukohta\, Knutepunkt\, Knutpunkt\, or Knudepunkt depending on the country where it’s held. It has been a vital institution in fostering a Nordic role-playing identity\, and in establishing the concept of “Nordic larp” as a unique approach. Originating as a purely larp event\, the conference has since embraced role-playing games more generally. While today the emphasis is still on larp\, Solmukohta is also an event for workshops\, progressive new ideas\, community building and academic research around larp.
URL:https://larpseason.com/event/solmukohta-2024/
LOCATION:Scandic Hotel Rosendahl\, Scandic Hotel Rosendahl
CATEGORIES:International Conventions & Festivals,International LARPs
END:VEVENT
BEGIN:VEVENT
DTSTART;TZID=UTC:20240107T100000
DTEND;TZID=UTC:20240107T180000
DTSTAMP:20260423T134853
CREATED:20240315T212659Z
LAST-MODIFIED:20240316T164008Z
UID:1844-1704621600-1704650400@larpseason.com
SUMMARY:F&H Plymouth
DESCRIPTION:
URL:https://larpseason.com/event/fh-plymouth/
LOCATION:F&H Plymouth\, 50.41857\, -4.0465
CATEGORIES:Club Games
END:VEVENT
BEGIN:VEVENT
DTSTART;TZID=UTC:20240107T100000
DTEND;TZID=UTC:20240107T180000
DTSTAMP:20260423T134853
CREATED:20240315T212553Z
LAST-MODIFIED:20240316T164019Z
UID:1838-1704621600-1704650400@larpseason.com
SUMMARY:F&H Portsmouth
DESCRIPTION:
URL:https://larpseason.com/event/fh-portsmouth/
LOCATION:F&H Portsmouth  50.898111752115405\, -1.0793966218556679\, 50.898111752115405\, -1.0793966218556679
CATEGORIES:Club Games
END:VEVENT
BEGIN:VEVENT
DTSTART;TZID=UTC:20240107T100000
DTEND;TZID=UTC:20240107T180000
DTSTAMP:20260423T134853
CREATED:20240315T212444Z
LAST-MODIFIED:20240316T164028Z
UID:1832-1704621600-1704650400@larpseason.com
SUMMARY:F&H Leeds
DESCRIPTION:
URL:https://larpseason.com/event/fh-leeds/
LOCATION:F&H Leeds 53.84079\, -1.57558\, 53.84079\, -1.57558
CATEGORIES:Club Games
END:VEVENT
BEGIN:VEVENT
DTSTART;TZID=UTC:20240106T180000
DTEND;TZID=UTC:20240106T233000
DTSTAMP:20260423T134853
CREATED:20240315T212251Z
LAST-MODIFIED:20240316T164853Z
UID:1828-1704564000-1704583800@larpseason.com
SUMMARY:F&H Newcastle (evening)
DESCRIPTION:
URL:https://larpseason.com/event/fh-newcastle-evening/
LOCATION:F&H Newcastle 54.99042\, -1.59221\, 54.99042\, -1.59221
CATEGORIES:Club Games
END:VEVENT
BEGIN:VEVENT
DTSTART;TZID=UTC:20240406T133000
DTEND;TZID=UTC:20240406T220000
DTSTAMP:20260423T134853
CREATED:20240211T190459Z
LAST-MODIFIED:20250214T181141Z
UID:824-1712410200-1712440800@larpseason.com
SUMMARY:Empire: The Swifts Rest Grand Opening (player event)
DESCRIPTION:The Fellowship of the Broken Willow are throwing open their doors to guests to celebrate the completion of their grand hall. Come and join us for a day of music\, art\, food and games in a celebration of hospitality\, Pride and Prosperity.‘War Leaves Wounds\, These Wounds Need Healing’OC: this is a wintermark themed social set in a beautiful grade 1 listed venue near Birmingham. More details (including activities and ticket prices) are to follow soon\, but save the date. All nations are welcome. Hope to see you there!
URL:https://larpseason.com/event/the-swifts-rest-grand-opening/
LOCATION:Alcester Town Hall\, Alcester Town Hall\, Alcester
CATEGORIES:Empire Sanctioned,Sanctioned Events,UK LARPs
END:VEVENT
BEGIN:VEVENT
DTSTART;TZID=UTC:20240406T110000
DTEND;TZID=UTC:20240407T150000
DTSTAMP:20260423T134853
CREATED:20240311T215634Z
LAST-MODIFIED:20240316T205633Z
UID:1166-1712401200-1712502000@larpseason.com
SUMMARY:Ilydan LARP Spring 2024 - Undeath and Taxes
DESCRIPTION:We’re a small\, adventure focused high fantasy LARP based in the South West with players from all over. Travel to the newly discovered Isle of Ilydan\, with passage on ship paid for by the Great Emperor. What will new shores hold for you? Adventure? Riches? A chance to settle and put your old life behind you? \n\n\n\nIt doesn’t matter if you are a prince or a peasant\, the moment you step off the boat you are all equal and you have to survive. Forage for food\, gather resources for shelter\, make alliances or wage war against whatever creatures lurk in the forests. \n\n\n\nIlydan LARP has a detailed system focussed around adventuring and developing your character\, with crafting being an integral part of the system. After all\, you’re on a newly discovered island\, you can’t buy food from a local tavern or rely on the village market to provide your needs. Get out in the wilderness and forge your own path!
URL:https://larpseason.com/event/ilydan-larp-spring-2024-undeath-and-taxes/
LOCATION:Goblin Combe Lodge\, Goblin Combe Lodge Cleeve Hill Road Cleeve Bristol BS40 5PP
CATEGORIES:UK LARPs,Weekend LARPs
END:VEVENT
BEGIN:VEVENT
DTSTART;TZID=UTC:20240106T100000
DTEND;TZID=UTC:20240106T180000
DTSTAMP:20260423T134853
CREATED:20240315T212145Z
LAST-MODIFIED:20240316T164048Z
UID:1824-1704535200-1704564000@larpseason.com
SUMMARY:F&H St Helens
DESCRIPTION:
URL:https://larpseason.com/event/fh-st-helens/
LOCATION:F&H St Helens  53.51267\, -2.80851\, 53.51267\, -2.80851
CATEGORIES:Club Games
END:VEVENT
BEGIN:VEVENT
DTSTART;TZID=UTC:20240106T100000
DTEND;TZID=UTC:20240106T180000
DTSTAMP:20260423T134853
CREATED:20240315T212029Z
LAST-MODIFIED:20240316T164059Z
UID:1820-1704535200-1704564000@larpseason.com
SUMMARY:F&H Peterborough
DESCRIPTION:
URL:https://larpseason.com/event/fh-peterborough/
LOCATION:F&H Peterborough 52.17318\, 0.10212\, 52.17318\, 0.10212
CATEGORIES:Club Games
END:VEVENT
BEGIN:VEVENT
DTSTART;TZID=UTC:20240106T100000
DTEND;TZID=UTC:20240106T180000
DTSTAMP:20260423T134853
CREATED:20240315T211903Z
LAST-MODIFIED:20240316T164108Z
UID:1816-1704535200-1704564000@larpseason.com
SUMMARY:F&H Glasgow
DESCRIPTION:
URL:https://larpseason.com/event/fh-glasgow/
LOCATION:F&H Glasgow 55.973\, -4.32964\, 55.973\, -4.32964
CATEGORIES:Club Games
END:VEVENT
BEGIN:VEVENT
DTSTART;TZID=UTC:20240106T100000
DTEND;TZID=UTC:20240106T180000
DTSTAMP:20260423T134853
CREATED:20240315T211231Z
LAST-MODIFIED:20250214T131905Z
UID:1802-1704535200-1704564000@larpseason.com
SUMMARY:F&H Bristol
DESCRIPTION:
URL:https://larpseason.com/event/fh-bristol/
LOCATION:F&H Bristol <br>51.64642\, -2.70667\, 51.64642\, -2.70667
CATEGORIES:Club Games
END:VEVENT
BEGIN:VEVENT
DTSTART;TZID=UTC:20240406T090000
DTEND;TZID=UTC:20240406T170000
DTSTAMP:20260423T134853
CREATED:20240314T222845Z
LAST-MODIFIED:20240316T205602Z
UID:1529-1712394000-1712422800@larpseason.com
SUMMARY:Tales LARP Chapter 23: Bardcore!
DESCRIPTION:
URL:https://larpseason.com/event/tales-larp-chapter-23-bardcore/
LOCATION:Hope Hill Campsite\, Hope Hill Campsite\, Meopham\, Gravesend DA13 0QJ
CATEGORIES:Club Games,UK LARPs
END:VEVENT
BEGIN:VEVENT
DTSTART;TZID=UTC:20240406T080000
DTEND;TZID=UTC:20240407T170000
DTSTAMP:20260423T134853
CREATED:20250219T222104Z
LAST-MODIFIED:20250219T222105Z
UID:3437-1712390400-1712509200@larpseason.com
SUMMARY:Chaosgate Event 2 2024
DESCRIPTION:
URL:https://larpseason.com/event/chaosgate-event-2-2024/
CATEGORIES:UK LARPs,Weekend LARPs
END:VEVENT
BEGIN:VEVENT
DTSTART;TZID=UTC:20240406T080000
DTEND;TZID=UTC:20240407T170000
DTSTAMP:20260423T134853
CREATED:20240317T225412Z
LAST-MODIFIED:20240317T225413Z
UID:2229-1712390400-1712509200@larpseason.com
SUMMARY:Heroes Assemble!
DESCRIPTION:The Anglo-Saxon Village has been taken over by the raiders “Ulfhednars” and we need you to become a action Hero to save us\, just like Beowulf himself.Embark on a L.A.R.P Adventure (Live Action Role Play) with Rattlebox Theatre as you are guided through the Anglo Saxon Village at West Stow with a series of challenges.Be trained up as warriors & hunters\, learning how to search and find key components to craft tools and equipment to help on your Journey. Once in the village solve riddles and tasks to deepen your skills and knowledge\, ready for a final challenge with the Troll Brothers. \n\n\n\nFurther info• Suitable for ages 8-12yrs or 11-14 yrs• Adventure approximately takes 90 minutes to complete.• You must arrive 30 minutes before the scheduled start time\, latecomers may not be able to take part.• One Parent or Guardian accompanies free of charge. Additional family members can enter the Anglo-Saxon Village 50% off the village entry fee (bookable separately on the day)• Max group size 25• Parking at West Stow Country Park\, see charges online• No dogs permitted in the Saxon Village (assistance dogs only)Times:10.30am – ages 8 -12 years12.45pm – ages 8 -12 years3pm – ages 11 -14 yearsTickets: Child £12 (one accompanying adults goes free)Booking: Essential\, please use the ‘book now’ buttons or call the Apex Box Office on 01284 758000Venue: West Stow Anglo-Saxon Village
URL:https://larpseason.com/event/heroes-assemble/
LOCATION:West Stow Anglo-Saxon Village\, West Stow Anglo-Saxon Village\, Icklingham Rd\, West Stow\, Bury Saint Edmunds IP28 6HG
CATEGORIES:Kids LARPs,UK LARPs
END:VEVENT
BEGIN:VEVENT
DTSTART;TZID=UTC:20240405T080000
DTEND;TZID=UTC:20240407T170000
DTSTAMP:20260423T134853
CREATED:20240315T184007Z
LAST-MODIFIED:20240316T205521Z
UID:1674-1712304000-1712509200@larpseason.com
SUMMARY:The Neothera Saga Event 20
DESCRIPTION:
URL:https://larpseason.com/event/the-neothera-saga-event-20/
LOCATION:Taw Bottom Guides Camp Site\, Taw Bottom Devon Guides Camp Site\, Taw Bottom\, South Tawton\, EX20 2LP
CATEGORIES:UK LARPs,Weekend LARPs
END:VEVENT
BEGIN:VEVENT
DTSTART;TZID=UTC:20240405T080000
DTEND;TZID=UTC:20240407T170000
DTSTAMP:20260423T134853
CREATED:20240314T230830Z
LAST-MODIFIED:20240316T205447Z
UID:1569-1712304000-1712509200@larpseason.com
SUMMARY:No Rest For The Wicked Event 16 - Who Wants To Live Forever?
DESCRIPTION:An Inquisitor of the Ordos Hereticus seeks an audience with the Captain’s Table of Arkangel. Hot on the trail of an Arch Heretic\, a fiendish criminal and killer\, the Inquisitor beseeches the assembled dignitaries for assistance\, as the trail has led far beyond the legal reach of their Authority. \n\n\n\nOne would think that escaping beyond the line might put you beyond the reach of Imperial Authorities\, however this Inquisitor is willing to venture deep into unexplored space to bring his quarry to justice. Arkangel will have the chance to settle a long standing vendetta against one of their own that turned rogue long ago – the esteemed Navis Nobilite Scion – Marneus Hellzagoa-Gygax. \n\n\n\nThe Inquisitor will lead the Arkangel fleet through a void maze\, behind a veil crafted from the very warp to reveal a secluded moon that has been turned to a dark purpose. Making a covert drop\, they must work through the danger of the moon\, gathering the evidence to uncover the true depths of Gygax crimes while avoiding the horrific surprises that lie in wait. \n\n\n\nBut with all that this foe is known for – will anything be as it seems?
URL:https://larpseason.com/event/no-rest-for-the-wicked-event-16-who-wants-to-live-forever/
LOCATION:Douglaswood Scout Centre\, Douglaswood Scout Centre\, Dundee DD5 3QH
CATEGORIES:UK LARPs,Weekend LARPs
END:VEVENT
BEGIN:VEVENT
DTSTART;TZID=UTC:20240405T080000
DTEND;TZID=UTC:20240407T170000
DTSTAMP:20260423T134853
CREATED:20240314T224250Z
LAST-MODIFIED:20240316T205416Z
UID:1543-1712304000-1712509200@larpseason.com
SUMMARY:The Good The Bad And The Dead Event 28
DESCRIPTION:The year is 1857 and the new world of the Americas is slowly being tamed. America in which the game is set is a place both familiar and very different. Much like the traditional wild west the gun is king and the gunfighter a legend\, tribes still live free beyond the frontier and a man or woman can carve out a reputation and a fortune from the dusty trails. \n\n\n\nAs a Regulator\, you are a gun for hire making a living on the new frontier. Play as a gunslinger or prospector\, doctor or preacher your character could be called upon to deal with local bandito attacks to finding a lost Spanish gold shipment.
URL:https://larpseason.com/event/the-good-the-bad-and-the-dead-event-28/
LOCATION:Deadwood Town\, Wattlehurst Farm\, Horsham\, West Sussex
CATEGORIES:UK LARPs,Weekend LARPs
END:VEVENT
BEGIN:VEVENT
DTSTART;TZID=UTC:20240405T080000
DTEND;TZID=UTC:20240407T170000
DTSTAMP:20260423T134853
CREATED:20240311T220137Z
LAST-MODIFIED:20240316T205405Z
UID:1170-1712304000-1712509200@larpseason.com
SUMMARY:Fabula Rasa 2024 E1
DESCRIPTION:
URL:https://larpseason.com/event/fabula-rasa-2024-e1/
LOCATION:Cherrywood Scout Camp\, Cherrywood Campsite\, Arterial Rd\, Purfleet RM19 1TS
CATEGORIES:UK LARPs,Weekend LARPs
END:VEVENT
BEGIN:VEVENT
DTSTART;TZID=UTC:20240405T080000
DTEND;TZID=UTC:20240407T170000
DTSTAMP:20260423T134853
CREATED:20240211T205325Z
LAST-MODIFIED:20240316T205343Z
UID:960-1712304000-1712509200@larpseason.com
SUMMARY:Steamweave: Spring Dawn
DESCRIPTION:
URL:https://larpseason.com/event/steamweave-spring-dawn/
LOCATION:The Grange\, Frogmore Grange\, Frog lane Balsall Common Coventry Warwickshire CV7 7FP United Kingdom
CATEGORIES:UK LARPs,Weekend LARPs
END:VEVENT
END:VCALENDAR