BEGIN:VCALENDAR
VERSION:2.0
PRODID:-//LARP SEASON - ECPv6.15.20//NONSGML v1.0//EN
CALSCALE:GREGORIAN
METHOD:PUBLISH
X-WR-CALNAME:LARP SEASON
X-ORIGINAL-URL:https://larpseason.com
X-WR-CALDESC:Events for LARP SEASON
REFRESH-INTERVAL;VALUE=DURATION:PT1H
X-Robots-Tag:noindex
X-PUBLISHED-TTL:PT1H
BEGIN:VTIMEZONE
TZID:UTC
BEGIN:STANDARD
TZOFFSETFROM:+0000
TZOFFSETTO:+0000
TZNAME:UTC
DTSTART:20240101T000000
END:STANDARD
END:VTIMEZONE
BEGIN:VTIMEZONE
TZID:Europe/Paris
BEGIN:DAYLIGHT
TZOFFSETFROM:+0100
TZOFFSETTO:+0200
TZNAME:CEST
DTSTART:20240331T010000
END:DAYLIGHT
BEGIN:STANDARD
TZOFFSETFROM:+0200
TZOFFSETTO:+0100
TZNAME:CET
DTSTART:20241027T010000
END:STANDARD
BEGIN:DAYLIGHT
TZOFFSETFROM:+0100
TZOFFSETTO:+0200
TZNAME:CEST
DTSTART:20250330T010000
END:DAYLIGHT
BEGIN:STANDARD
TZOFFSETFROM:+0200
TZOFFSETTO:+0100
TZNAME:CET
DTSTART:20251026T010000
END:STANDARD
BEGIN:DAYLIGHT
TZOFFSETFROM:+0100
TZOFFSETTO:+0200
TZNAME:CEST
DTSTART:20260329T010000
END:DAYLIGHT
BEGIN:STANDARD
TZOFFSETFROM:+0200
TZOFFSETTO:+0100
TZNAME:CET
DTSTART:20261025T010000
END:STANDARD
END:VTIMEZONE
BEGIN:VEVENT
DTSTART;TZID=UTC:20250606T080000
DTEND;TZID=UTC:20250608T170000
DTSTAMP:20260423T062029
CREATED:20250218T193225Z
LAST-MODIFIED:20250218T193242Z
UID:3330-1749196800-1749402000@larpseason.com
SUMMARY:We Are Legends Event 6
DESCRIPTION:
URL:https://larpseason.com/event/we-are-legends-event-6/
LOCATION:Huntley Wood\, Huntley Wood
CATEGORIES:UK LARPs,Weekend LARPs
END:VEVENT
BEGIN:VEVENT
DTSTART;TZID=UTC:20250606T080000
DTEND;TZID=UTC:20250608T170000
DTSTAMP:20260423T062029
CREATED:20250202T211603Z
LAST-MODIFIED:20250211T214739Z
UID:2837-1749196800-1749402000@larpseason.com
SUMMARY:Orion Sphere: Event 12
DESCRIPTION:
URL:https://larpseason.com/event/orion-sphere-event-12/
LOCATION:Snowball Plantation\, Snowball Plantation\, Common Ln\, Stockton on the Forest\, York YO19 5XS
CATEGORIES:UK LARPs,Weekend LARPs
END:VEVENT
BEGIN:VEVENT
DTSTART;TZID=UTC:20250606T080000
DTEND;TZID=UTC:20250608T170000
DTSTAMP:20260423T062029
CREATED:20241008T183453Z
LAST-MODIFIED:20241008T183453Z
UID:2606-1749196800-1749402000@larpseason.com
SUMMARY:Tales LARP Chapter 32: Scorched Earth
DESCRIPTION:
URL:https://larpseason.com/event/tales-larp-chapter-32-scorched-earth/
LOCATION:Ross Wood Campsite\, Ross Wood Campsite\, New Rd.\, Herne Bay
CATEGORIES:UK LARPs,Weekend LARPs
END:VEVENT
BEGIN:VEVENT
DTSTART;TZID=UTC:20250606T080000
DTEND;TZID=UTC:20250608T170000
DTSTAMP:20260423T062029
CREATED:20240909T190018Z
LAST-MODIFIED:20240909T190244Z
UID:2492-1749196800-1749402000@larpseason.com
SUMMARY:Curious Pastimes Event 2
DESCRIPTION:
URL:https://larpseason.com/event/curious-pastimes-event-2-2/
LOCATION:Weston Park\, Weston Park\, Weston-under-Lizard\, Shifnal\, TF11 8LE
CATEGORIES:Fest LARPs,UK LARPs,Weekend LARPs
END:VEVENT
BEGIN:VEVENT
DTSTART;TZID=UTC:20250531T100000
DTEND;TZID=UTC:20250531T170000
DTSTAMP:20260423T062029
CREATED:20250212T174211Z
LAST-MODIFIED:20250212T174212Z
UID:3013-1748685600-1748710800@larpseason.com
SUMMARY:Age of Essence
DESCRIPTION:
URL:https://larpseason.com/event/age-of-essence-14/
LOCATION:Nonsuch Park\, Nonsuch Mansion House\, Fir Walk\, Epsom\, KT17 2\, United Kingdom
CATEGORIES:Club Games,UK LARPs
END:VEVENT
BEGIN:VEVENT
DTSTART;TZID=Europe/Paris:20250531T080000
DTEND;TZID=Europe/Paris:20250531T170000
DTSTAMP:20260423T062029
CREATED:20251026T180359Z
LAST-MODIFIED:20251026T180400Z
UID:4152-1748678400-1748710800@larpseason.com
SUMMARY:The Goblin Ball: The Beltane Ball
DESCRIPTION:
URL:https://larpseason.com/event/the-goblin-ball-the-beltane-ball/
LOCATION:Òran Mór\, Òran Mór\, Byres Road Glasgow G12 8QX
CATEGORIES:Parlour LARPs,UK LARPs
END:VEVENT
BEGIN:VEVENT
DTSTART;TZID=UTC:20250530T080000
DTEND;TZID=UTC:20250601T170000
DTSTAMP:20260423T062029
CREATED:20241009T154825Z
LAST-MODIFIED:20241009T154826Z
UID:2630-1748592000-1748797200@larpseason.com
SUMMARY:Outlaw
DESCRIPTION:
URL:https://larpseason.com/event/outlaw/
LOCATION:Gunman Airsoft Eversley Alpha\, Gunman Airsoft - Eversley The Welsh Dr (Off A327) Hook\, Hampshire RG27 0PX United Kingdom
CATEGORIES:UK LARPs,Weekend LARPs
END:VEVENT
BEGIN:VEVENT
DTSTART;TZID=UTC:20250529T000000
DTEND;TZID=UTC:20250601T235959
DTSTAMP:20260423T062029
CREATED:20250212T172202Z
LAST-MODIFIED:20250212T172403Z
UID:2948-1748476800-1748822399@larpseason.com
SUMMARY:Outpost Elysium
DESCRIPTION:Outpost Elysium is a Nordic campaign-like larp in a post-apocalyptic setting\, with the first chapter successfully ran in 2024. It is a spinoff of the much loved Blodsband Reloaded (BBR)\, but without airsoft and with more focus on roleplay. Players portray inhabitants or visitors in a gritty outpost settlement called Elysium. There will be every day life\, trade\, conflicts to resolve\, parties to be held\, deals to be made and broken\, all the stuff you and your imagination can come up with. \n\n\n\nOutpost Elysium is a semi sandbox style larp\, where players co-create the fiction. Players will be given much freedom to create their own characters\, group culture\, events and intrigues. \n\n\n\nThe organizers’ vision is that this larp will be slow paced and focus on stories and role playing\, to further continue the story in the next instalments of the larp. \n\n\n\nBoth light and dark themes exist and coexist – and specifically\, there is a theme of discrimination against mutant characters. Cooperation as well as conflict is present\, but this is not a larp about revolution. Organizers will plan some events and themes. The rest is up to the players.
URL:https://larpseason.com/event/outpost-elysium/
LOCATION:Bockaby Urban Warfare Training Grounds\, Bockaby\, Sweden
CATEGORIES:International LARPs
ORGANIZER;CN="Outpost Elysium":MAILTO:info@outpostelysium.com
END:VEVENT
BEGIN:VEVENT
DTSTART;TZID=Europe/Paris:20250528T190000
DTEND;TZID=Europe/Paris:20250528T220000
DTSTAMP:20260423T062029
CREATED:20251006T210423Z
LAST-MODIFIED:20251006T210424Z
UID:3833-1748458800-1748469600@larpseason.com
SUMMARY:Do You Hear The People Sing
DESCRIPTION:
URL:https://larpseason.com/event/do-you-hear-the-people-sing/
LOCATION:South Oxford Community Centre\, South Oxford Community Centre
CATEGORIES:Parlour LARPs,UK LARPs
END:VEVENT
BEGIN:VEVENT
DTSTART;TZID=UTC:20250524T090000
DTEND;TZID=UTC:20250526T163000
DTSTAMP:20260423T062029
CREATED:20250212T173604Z
LAST-MODIFIED:20250214T181729Z
UID:2972-1748077200-1748277000@larpseason.com
SUMMARY:The Lost tribes
DESCRIPTION:Time is a river… and this event is a chance to take a raft up its roiling waters. To stand on the shores of the past. And experience a moment at the dawn of time\, when two tribes have been drawn together by bitter circumstance. \n\n\n\nJoin them. Decide their future. \n\n\n\nThis is a living theatre or Live Action Role Playing Game\, you take the part of members of one of two prehistorc tribes. Forced to gather in shared space\, the tribes must decide if they are willing to share their resources\, to hunt together or to drive the other away. \n\n\n\nWhat will bring the most strength\, the best chance of survival\, against the rigours of nature\, and the ever present threat of the hill tribes who raid and harry the tribes when they sense weakness. \n\n\n\nThe participants get to don costumes\, take part in workshops where you will learn crafts and get to take away keepsakes\, fight off raids using safe props\, attempt various types of mock hunting\, and engage in roleplayed rituals\, healing\, herbalism etc.
URL:https://larpseason.com/event/the-lost-tribes/
LOCATION:Wyndham Park\, Wyndham Park 4 Hill Avenue Grantham NG31 7XY
CATEGORIES:Freeforms & Nordic,UK LARPs
END:VEVENT
BEGIN:VEVENT
DTSTART;TZID=UTC:20250523T080000
DTEND;TZID=UTC:20250526T170000
DTSTAMP:20260423T062029
CREATED:20240919T160902Z
LAST-MODIFIED:20251006T211329Z
UID:2514-1747987200-1748278800@larpseason.com
SUMMARY:Lorien Trust Great Erdrejan Fayre
DESCRIPTION:
URL:https://larpseason.com/event/lorien-trust-great-erdrejan-fayre/
LOCATION:Locko Park\, Locko Park\, Derby
CATEGORIES:Fest LARPs,UK LARPs,Weekend LARPs
END:VEVENT
BEGIN:VEVENT
DTSTART;TZID=Europe/Paris:20250523T080000
DTEND;TZID=Europe/Paris:20250525T170000
DTSTAMP:20260423T062029
CREATED:20251006T210038Z
LAST-MODIFIED:20251006T210039Z
UID:3825-1747987200-1748192400@larpseason.com
SUMMARY:Carum LRP E2: Footprints In The Ash
DESCRIPTION:
URL:https://larpseason.com/event/carum-lrp-e2-footprints-in-the-ash/
LOCATION:Root ‘n’ Branch Acres\, Root 'n' Branch Acres\, Solihull\, B92 0HQ\, UK
CATEGORIES:UK LARPs,Weekend LARPs
END:VEVENT
BEGIN:VEVENT
DTSTART;TZID=UTC:20250523T080000
DTEND;TZID=UTC:20250525T170000
DTSTAMP:20260423T062029
CREATED:20250214T184040Z
LAST-MODIFIED:20250214T184041Z
UID:3213-1747987200-1748192400@larpseason.com
SUMMARY:Shadows in Time: Run 20
DESCRIPTION:Small supernatural family and relationship drama Shadows in Time is a story about immortality and things worth living and dying. About choices we make and the mistakes we can’t undo. This is a larp for 10 players that will happen in three acts over two days. Characters are all prewritten and long (~30 pages) with emphasis on deep and meaningful relations and life changing secrets. The larp was first played in Finland in 2021 and since then it has been run 15 times. Game fee and what is included varies in each run based on location and other costs.
URL:https://larpseason.com/event/shadows-in-time-run-20/
LOCATION:Clarion Collection Hotel Mektagonen Göteborg\, Clarion Collection Hotel Mektagonen Göteborg\, Sweden
CATEGORIES:International LARPs
END:VEVENT
BEGIN:VEVENT
DTSTART;TZID=UTC:20250523T080000
DTEND;TZID=UTC:20250525T170000
DTSTAMP:20260423T062029
CREATED:20250212T200613Z
LAST-MODIFIED:20250212T200614Z
UID:3080-1747987200-1748192400@larpseason.com
SUMMARY:Four Pillars: The Hunt
DESCRIPTION:
URL:https://larpseason.com/event/four-pillars-the-hunt/
LOCATION:Penwood Grange\, Penwood Grange\, Penwood\, Newbury\, Berks\, RG20 9EW
CATEGORIES:UK LARPs,Weekend LARPs
END:VEVENT
BEGIN:VEVENT
DTSTART;TZID=UTC:20250523T000000
DTEND;TZID=UTC:20250525T235959
DTSTAMP:20260423T062029
CREATED:20250212T165708Z
LAST-MODIFIED:20250214T180507Z
UID:2937-1747958400-1748217599@larpseason.com
SUMMARY:Heroes and Heroines: At What Costs?
DESCRIPTION:Rumblings in the Fae Forest mean another diplomatic mission for the Auxhiliaries. With tension on the borders rising all efforts are in place to keep our allies on side and trouble at bay.
URL:https://larpseason.com/event/heroes-and-heroines-at-what-costs/
LOCATION:Forest Scout Camp\, Forest Scout Camp\, Birchwood\, Kennel Lane\, Sandiway\, Northwich\, Cheshire. CW8 2E
CATEGORIES:Club Games,UK LARPs,Weekend LARPs
END:VEVENT
BEGIN:VEVENT
DTSTART;TZID=UTC:20250522T080000
DTEND;TZID=UTC:20250526T170000
DTSTAMP:20260423T062029
CREATED:20240513T182341Z
LAST-MODIFIED:20240513T182342Z
UID:2351-1747900800-1748278800@larpseason.com
SUMMARY:Listen 2 Your Heart
DESCRIPTION:Signups will start Thursday\, 1st August 2024 and remain open until Saturday\, 17th August 2024. \n\n\n\nReally Listen 2 Your Heart is a larp inspired by the hit Netflix show “Love is blind”. \n\n\n\nAll characters sign up for a TV show where they want to find a spouse to legally marry at the end of the experience\, without ever having seen them. \n\n\n\nThe show is designed to target queer audiences and highlight / represent queer stories in reality TV. \n\n\n\nAll characters are some degree of bisexual\, we are not going to divide people into gendered groups. \n\n\n\nThere will be drama\, feelings\, tears\, love\, hate\, “confession cam” interviews and maybe even a proposal or two.
URL:https://larpseason.com/event/listen-2-your-heart/
LOCATION:Château-d’Œx\, Saanen\, Obersimmental-Saanen District\, Switzerland
CATEGORIES:International LARPs
END:VEVENT
BEGIN:VEVENT
DTSTART;TZID=Europe/Paris:20250516T080000
DTEND;TZID=Europe/Paris:20250518T170000
DTSTAMP:20260423T062029
CREATED:20251026T175912Z
LAST-MODIFIED:20251026T175913Z
UID:4148-1747382400-1747587600@larpseason.com
SUMMARY:Just Another Weekend at Malebolge Village
DESCRIPTION:
URL:https://larpseason.com/event/just-another-weekend-at-malebolge-village/
CATEGORIES:International LARPs
END:VEVENT
BEGIN:VEVENT
DTSTART;TZID=UTC:20250516T080000
DTEND;TZID=UTC:20250518T170000
DTSTAMP:20260423T062029
CREATED:20250219T215900Z
LAST-MODIFIED:20250219T220022Z
UID:3408-1747382400-1747587600@larpseason.com
SUMMARY:The 28th Tithing Arena
DESCRIPTION:Take part in the UK’s ONLY battle royale LARP*. Inspired by the Hunger Games\, experience the highs and lows of survival in a game where the odds are never in your favour\, where many enter but only ONE can leave…
URL:https://larpseason.com/event/the-28th-tithing-arena/
LOCATION:Horley Scout Camp\, Banbury\, Horley Scout Camp\, Banbury
CATEGORIES:UK LARPs,Weekend LARPs
END:VEVENT
BEGIN:VEVENT
DTSTART;TZID=UTC:20250516T080000
DTEND;TZID=UTC:20250518T170000
DTSTAMP:20260423T062029
CREATED:20240827T120533Z
LAST-MODIFIED:20251006T212610Z
UID:2398-1747382400-1747587600@larpseason.com
SUMMARY:Northern Kingdoms Event 11: The calm before the storm
DESCRIPTION:
URL:https://larpseason.com/event/northern-kingdoms-event-11-provisional-date/
LOCATION:Frank Chapman Centre\, Frank Chapman Centre\, Park End\, Bewdley DY12 2TY
CATEGORIES:UK LARPs,Weekend LARPs
END:VEVENT
BEGIN:VEVENT
DTSTART;TZID=UTC:20250515T080000
DTEND;TZID=UTC:20250517T170000
DTSTAMP:20260423T062029
CREATED:20250214T133315Z
LAST-MODIFIED:20250214T133316Z
UID:3099-1747296000-1747501200@larpseason.com
SUMMARY:The Fog LARP: Fortune - Run 2
DESCRIPTION:Fortune is a live action role-playing game about funding a rebellion by unlocking an ancient treasury.It is also the latest instalment of The Fog – the largest LARP series on the Balkans. \n\n\n\nWhile it does share much with the previous chapters of the adventure\, Fortune also offers a multitude of novelties that make it a new experience – an exciting and authentic new location\, innovative gameplay features\, an 80-people multi-run structure with limited replayabity and much more.All this while remaining true to the series’ relentless pursuit of meaningful gameplay governed by a mature plot. \n\n\n\nAn overview of the game’s features is available below\, additional details will be disclosed at a later time\, but of course the only way to learn everything is to visit the game itself. \n\n\n\nSo\, don’t hesitate\, join us and become Tenebria’s wind of change.
URL:https://larpseason.com/event/the-fog-larp-fortune-run-2/
LOCATION:The village of Dolen\, Dolen\, Bulgaria
CATEGORIES:International LARPs
END:VEVENT
BEGIN:VEVENT
DTSTART;TZID=Europe/Paris:20250509T080000
DTEND;TZID=Europe/Paris:20250511T170000
DTSTAMP:20260423T062029
CREATED:20251026T174258Z
LAST-MODIFIED:20251026T174258Z
UID:4121-1746777600-1746982800@larpseason.com
SUMMARY:Tales From the Rogues Forest - Till The Last Shield Shatters
DESCRIPTION:
URL:https://larpseason.com/event/tales-from-the-rogues-forest-till-the-last-shield-shatters/
LOCATION:Taw Bottom Guides Camp Site\, Taw Bottom Devon Guides Camp Site\, Taw Bottom\, South Tawton\, EX20 2LP
CATEGORIES:UK LARPs,Weekend LARPs
END:VEVENT
BEGIN:VEVENT
DTSTART;TZID=UTC:20250509T080000
DTEND;TZID=UTC:20250511T170000
DTSTAMP:20260423T062029
CREATED:20240724T185243Z
LAST-MODIFIED:20240904T191849Z
UID:2385-1746777600-1746982800@larpseason.com
SUMMARY:Menhir's Fate: Event 2
DESCRIPTION:
URL:https://larpseason.com/event/menhirs-fate-event-2/
LOCATION:Bygrave Woods\, Bygrave\, Hertfordshire\, SG7\, United Kingdom
CATEGORIES:Fest LARPs,UK LARPs,Weekend LARPs
END:VEVENT
BEGIN:VEVENT
DTSTART;TZID=UTC:20250509T080000
DTEND;TZID=UTC:20250511T170000
DTSTAMP:20260423T062029
CREATED:20240512T114908Z
LAST-MODIFIED:20240512T114910Z
UID:2339-1746777600-1746982800@larpseason.com
SUMMARY:Wing and a Prayer run #3
DESCRIPTION:We’re thrilled to announce that we’re finally launching a third run of Wing and a Prayer! \n\n\n\nRunning 9th-11th May 2025 in Essex on a functioning aerodrome\, the game focuses on the roles of women during the Battle of Britain in September of 1940. \n\n\n\nAll the information is on our website www.wingandaprayer.org.uk\, and our Facebook page Wing and a Prayer . \n\n\n\nBooking opens 9th June 2024.
URL:https://larpseason.com/event/wing-and-a-prayer-run-3/
LOCATION:Stow Maries Aerodrome\, Hackmans Lane\, Essex\, CM3 6RJ\, United Kingdom
CATEGORIES:Blockbuster LARPs,UK LARPs,Weekend LARPs
END:VEVENT
BEGIN:VEVENT
DTSTART;TZID=UTC:20250508T080000
DTEND;TZID=UTC:20250510T170000
DTSTAMP:20260423T062029
CREATED:20250214T132958Z
LAST-MODIFIED:20250214T133243Z
UID:3095-1746691200-1746896400@larpseason.com
SUMMARY:The Fog LARP: Fortune - Run 1
DESCRIPTION:Fortune is a live action role-playing game about funding a rebellion by unlocking an ancient treasury.It is also the latest instalment of The Fog – the largest LARP series on the Balkans. \n\n\n\nWhile it does share much with the previous chapters of the adventure\, Fortune also offers a multitude of novelties that make it a new experience – an exciting and authentic new location\, innovative gameplay features\, an 80-people multi-run structure with limited replayabity and much more.All this while remaining true to the series’ relentless pursuit of meaningful gameplay governed by a mature plot. \n\n\n\nAn overview of the game’s features is available below\, additional details will be disclosed at a later time\, but of course the only way to learn everything is to visit the game itself. \n\n\n\nSo\, don’t hesitate\, join us and become Tenebria’s wind of change.
URL:https://larpseason.com/event/the-fog-larp-fortune-run-1/
LOCATION:The village of Dolen\, Dolen\, Bulgaria
CATEGORIES:International LARPs
END:VEVENT
BEGIN:VEVENT
DTSTART;TZID=UTC:20250508T080000
DTEND;TZID=UTC:20250510T170000
DTSTAMP:20260423T062029
CREATED:20241007T190939Z
LAST-MODIFIED:20241007T190940Z
UID:2585-1746691200-1746896400@larpseason.com
SUMMARY:Herofest May 2025
DESCRIPTION:
URL:https://larpseason.com/event/herofest-may-2025/
LOCATION:Huntley Wood\, Huntley Wood
CATEGORIES:Fest LARPs,UK LARPs,Weekend LARPs
END:VEVENT
BEGIN:VEVENT
DTSTART;TZID=UTC:20250502T080000
DTEND;TZID=UTC:20250505T170000
DTSTAMP:20260423T062029
CREATED:20250219T213731Z
LAST-MODIFIED:20250219T213732Z
UID:3372-1746172800-1746464400@larpseason.com
SUMMARY:Stargate LRP: Event 1
DESCRIPTION:
URL:https://larpseason.com/event/stargate-lrp-event-1/
LOCATION:Consall Scout Camp\, Consall Scout Camp\, Blakely Lane\, Dilhorne\, Stoke-on-Trent ST10 2PS
CATEGORIES:UK LARPs,Weekend LARPs
END:VEVENT
BEGIN:VEVENT
DTSTART;TZID=UTC:20250502T080000
DTEND;TZID=UTC:20250505T170000
DTSTAMP:20260423T062029
CREATED:20241210T213835Z
LAST-MODIFIED:20241210T213923Z
UID:2772-1746172800-1746464400@larpseason.com
SUMMARY:Dumnonni Chronicles Outlore
DESCRIPTION:
URL:https://larpseason.com/event/dumnonni-chronicles-outlore/
LOCATION:Dumnonni\, Dumnonni\, Okehampton\, EX20 3QZ
CATEGORIES:UK LARPs,Weekend LARPs
END:VEVENT
BEGIN:VEVENT
DTSTART;TZID=UTC:20250502T080000
DTEND;TZID=UTC:20250505T170000
DTSTAMP:20260423T062029
CREATED:20240919T160813Z
LAST-MODIFIED:20251006T211335Z
UID:2512-1746172800-1746464400@larpseason.com
SUMMARY:Lorien Trust Spring Moot
DESCRIPTION:
URL:https://larpseason.com/event/lorien-trust-spring-moot/
LOCATION:Locko Park\, Locko Park\, Derby
CATEGORIES:Fest LARPs,UK LARPs,Weekend LARPs
END:VEVENT
BEGIN:VEVENT
DTSTART;TZID=UTC:20250502T080000
DTEND;TZID=UTC:20250505T170000
DTSTAMP:20260423T062029
CREATED:20240508T144020Z
LAST-MODIFIED:20240508T144041Z
UID:2315-1746172800-1746464400@larpseason.com
SUMMARY:Eclipse - A New Home Run #2
DESCRIPTION:A major new Chaos League production\, a deep and thrilling Sci-fi Drama\, inspired by genre masterpieces such as “Interstellar” and “The Arrival”\, set in a planetary base with gigantic domes and working technology reconstructed to the smallest detail on an 18\,000 m2 area. \n\n\n\nSet in a near future where planet Earth is rapidly becoming uninhabitable\, “Eclipse – A New Home” tells the story of a group of explorers and researchers on an alien planet where an extraordinary encounter will change them forever and will force them to face their fears\, hopes and contradictions. \n\n\n\n Pre-register now to get priority when registration opens. \n\n\n\n\nEclipse Larp [ENG]
URL:https://larpseason.com/event/eclipse-a-new-home-run-2/
LOCATION:Alvernia Planet\, Alvernia Planet\, Ferdynanda Wspaniałego 1\, 32-566 Nieporaz\, Poland
CATEGORIES:International LARPs
END:VEVENT
BEGIN:VEVENT
DTSTART;TZID=UTC:20250502T080000
DTEND;TZID=UTC:20250504T170000
DTSTAMP:20260423T062029
CREATED:20250212T173949Z
LAST-MODIFIED:20250212T173949Z
UID:3004-1746172800-1746378000@larpseason.com
SUMMARY:Age of Essence: Non-such town and county fair
DESCRIPTION:
URL:https://larpseason.com/event/age-of-essence-non-such-town-and-county-fair-2/
LOCATION:Nonsuch Park\, Nonsuch Mansion House\, Fir Walk\, Epsom\, KT17 2\, United Kingdom
CATEGORIES:Club Games,UK LARPs
END:VEVENT
END:VCALENDAR