BEGIN:VCALENDAR
VERSION:2.0
PRODID:-//LARP SEASON - ECPv6.15.20//NONSGML v1.0//EN
CALSCALE:GREGORIAN
METHOD:PUBLISH
X-WR-CALNAME:LARP SEASON
X-ORIGINAL-URL:https://larpseason.com
X-WR-CALDESC:Events for LARP SEASON
REFRESH-INTERVAL;VALUE=DURATION:PT1H
X-Robots-Tag:noindex
X-PUBLISHED-TTL:PT1H
BEGIN:VTIMEZONE
TZID:UTC
BEGIN:STANDARD
TZOFFSETFROM:+0000
TZOFFSETTO:+0000
TZNAME:UTC
DTSTART:20230101T000000
END:STANDARD
END:VTIMEZONE
BEGIN:VEVENT
DTSTART;TZID=UTC:20240126T100000
DTEND;TZID=UTC:20240126T180000
DTSTAMP:20260423T025409
CREATED:20240316T160052Z
LAST-MODIFIED:20240316T164927Z
UID:2027-1706263200-1706292000@larpseason.com
SUMMARY:F&H Norwich
DESCRIPTION:
URL:https://larpseason.com/event/fh-norwich-2/
LOCATION:F&H Norwich 52.64427\, 1.31994\, 52.64427\, 1.31994
CATEGORIES:Club Games
END:VEVENT
BEGIN:VEVENT
DTSTART;TZID=UTC:20240628T080000
DTEND;TZID=UTC:20240630T170000
DTSTAMP:20260423T025409
CREATED:20250219T222000Z
LAST-MODIFIED:20250219T222000Z
UID:3429-1719561600-1719766800@larpseason.com
SUMMARY:Chaosgate Event 3 2024
DESCRIPTION:Across Newgate homes and buildings fell to the inferno\, crumbling to ashy wreckage under the onslaught. The Tavern though\, covered with protective wards that prevented harm to its patrons\, began to quake. Sigils filled with more destructive energy than they were ever designed to hold glowed white as they overloaded. Stone walls erupted outwards\, the thunderous crack of its detonation heard throughout Tehiddith. When the echoes and radiance subsided all that remained of The Broken Claw Tavern was a void\, gently smoking in the receding rain.On the Northern Cliffs\, hidden in a tumble of rocks a tiny pair of rat eyes reflected the figure of a cloth man\, his arms raised up to the rolling clouds above the town. His robes and eyes the same bloody crimson as the lightning storm.
URL:https://larpseason.com/event/chaosgate-event-3-2024/
LOCATION:Tehidy Country Park Education Field\, Tehidy Country Park Education Field
CATEGORIES:UK LARPs,Weekend LARPs
END:VEVENT
BEGIN:VEVENT
DTSTART;TZID=UTC:20240628T080000
DTEND;TZID=UTC:20240630T170000
DTSTAMP:20260423T025409
CREATED:20240314T230918Z
LAST-MODIFIED:20240316T210229Z
UID:1575-1719561600-1719766800@larpseason.com
SUMMARY:No Rest For The Wicked Event 17
DESCRIPTION:
URL:https://larpseason.com/event/no-rest-for-the-wicked-event-17/
LOCATION:Douglaswood Scout Centre\, Douglaswood Scout Centre\, Dundee DD5 3QH
CATEGORIES:UK LARPs,Weekend LARPs
END:VEVENT
BEGIN:VEVENT
DTSTART;TZID=UTC:20240628T080000
DTEND;TZID=UTC:20240630T170000
DTSTAMP:20260423T025409
CREATED:20240314T224334Z
LAST-MODIFIED:20240316T210224Z
UID:1549-1719561600-1719766800@larpseason.com
SUMMARY:The Good The Bad And The Dead Event 29
DESCRIPTION:The year is 1857 and the new world of the Americas is slowly being tamed. America in which the game is set is a place both familiar and very different. Much like the traditional wild west the gun is king and the gunfighter a legend\, tribes still live free beyond the frontier and a man or woman can carve out a reputation and a fortune from the dusty trails. \n\n\n\nAs a Regulator\, you are a gun for hire making a living on the new frontier. Play as a gunslinger or prospector\, doctor or preacher your character could be called upon to deal with local bandito attacks to finding a lost Spanish gold shipment.
URL:https://larpseason.com/event/the-good-the-bad-and-the-dead-event-29/
LOCATION:Deadwood Town\, Wattlehurst Farm\, Horsham\, West Sussex
CATEGORIES:UK LARPs,Weekend LARPs
END:VEVENT
BEGIN:VEVENT
DTSTART;TZID=UTC:20240628T080000
DTEND;TZID=UTC:20240630T170000
DTSTAMP:20260423T025409
CREATED:20240314T223002Z
LAST-MODIFIED:20240316T210219Z
UID:1531-1719561600-1719766800@larpseason.com
SUMMARY:Tales LARP Chapter 24: Dvann Festival
DESCRIPTION:
URL:https://larpseason.com/event/tales-larp-chapter-24-dvann-festival/
LOCATION:Ross Wood Campsite\, Ross Wood Campsite\, New Rd.\, Herne Bay
CATEGORIES:UK LARPs,Weekend LARPs
END:VEVENT
BEGIN:VEVENT
DTSTART;TZID=UTC:20240628T080000
DTEND;TZID=UTC:20240630T170000
DTSTAMP:20260423T025409
CREATED:20240311T221509Z
LAST-MODIFIED:20240316T210214Z
UID:1192-1719561600-1719766800@larpseason.com
SUMMARY:Heroes and Heroines: Roses For The Dead
DESCRIPTION:
URL:https://larpseason.com/event/heroes-and-heroines-roses-for-the-dead/
LOCATION:Rough Close Scout Campsite\, Rough Close Scout Campsite\, Tanners Lane Berkswell\, CV7 &DD
CATEGORIES:UK LARPs,Weekend LARPs
END:VEVENT
BEGIN:VEVENT
DTSTART;TZID=UTC:20240628T080000
DTEND;TZID=UTC:20240630T170000
DTSTAMP:20260423T025409
CREATED:20240211T205415Z
LAST-MODIFIED:20240316T210210Z
UID:964-1719561600-1719766800@larpseason.com
SUMMARY:Steamweave: Summer Flame
DESCRIPTION:
URL:https://larpseason.com/event/steamweave-summer-flame/
LOCATION:The Grange\, Frogmore Grange\, Frog lane Balsall Common Coventry Warwickshire CV7 7FP United Kingdom
CATEGORIES:UK LARPs,Weekend LARPs
END:VEVENT
BEGIN:VEVENT
DTSTART;TZID=UTC:20240628T080000
DTEND;TZID=UTC:20240630T170000
DTSTAMP:20260423T025409
CREATED:20240211T200252Z
LAST-MODIFIED:20240316T210204Z
UID:900-1719561600-1719766800@larpseason.com
SUMMARY:Humanity Ascendant Event 15: Reckoning
DESCRIPTION:
URL:https://larpseason.com/event/humanity-ascendant-event-15-reckoning/
LOCATION:Silverwood Scout Camp\, Silverwood Scout Camp\, Barnsley Road Silkstone South Yorkshire S75
CATEGORIES:UK LARPs,Weekend LARPs
END:VEVENT
BEGIN:VEVENT
DTSTART;TZID=UTC:20240628T080000
DTEND;TZID=UTC:20240630T170000
DTSTAMP:20260423T025409
CREATED:20240211T000351Z
LAST-MODIFIED:20240316T210159Z
UID:242-1719561600-1719766800@larpseason.com
SUMMARY:Beyond Ragnarok Event 2
DESCRIPTION:
URL:https://larpseason.com/event/beyond-ragnarok-event-2/
LOCATION:Bispham Hall Scout Estate\, Bispham Hall Scout Estate\, Orrell
CATEGORIES:UK LARPs,Weekend LARPs
END:VEVENT
BEGIN:VEVENT
DTSTART;TZID=UTC:20240128T100000
DTEND;TZID=UTC:20240128T180000
DTSTAMP:20260423T025409
CREATED:20240316T160842Z
LAST-MODIFIED:20240316T163457Z
UID:2043-1706436000-1706464800@larpseason.com
SUMMARY:F&H Tees Valley
DESCRIPTION:
URL:https://larpseason.com/event/fh-tees-valley/
LOCATION:F&H Tees Valley 54.54398\, -1.14878\, 54.54398\, -1.14878
CATEGORIES:Club Games
END:VEVENT
BEGIN:VEVENT
DTSTART;TZID=UTC:20240128T100000
DTEND;TZID=UTC:20240128T180000
DTSTAMP:20260423T025409
CREATED:20240316T155502Z
LAST-MODIFIED:20240316T164646Z
UID:2012-1706436000-1706464800@larpseason.com
SUMMARY:F&H Guildford
DESCRIPTION:
URL:https://larpseason.com/event/fh-guildford-2/
LOCATION:F&H Guildford 51.32435\, -0.82166\, 51.32435\, -0.82166
CATEGORIES:Club Games
END:VEVENT
BEGIN:VEVENT
DTSTART;TZID=UTC:20240128T100000
DTEND;TZID=UTC:20240128T180000
DTSTAMP:20260423T025409
CREATED:20240316T155258Z
LAST-MODIFIED:20240316T164230Z
UID:2006-1706436000-1706464800@larpseason.com
SUMMARY:F&H Derby
DESCRIPTION:
URL:https://larpseason.com/event/fh-derby-2/
LOCATION:F&H Derby  52.95979\, -1.49394\, 52.95979\, -1.49394
CATEGORIES:Club Games
END:VEVENT
BEGIN:VEVENT
DTSTART;TZID=UTC:20240623T080000
DTEND;TZID=UTC:20240623T170000
DTSTAMP:20260423T025409
CREATED:20240211T173801Z
LAST-MODIFIED:20240211T173802Z
UID:701-1719129600-1719162000@larpseason.com
SUMMARY:Elderwyrm School of Magic
DESCRIPTION:
URL:https://larpseason.com/event/elderwyrm-school-of-magic/
LOCATION:Bonar Hall\, Bonar Hall\, Dundee
CATEGORIES:Conventions & Festivals
END:VEVENT
BEGIN:VEVENT
DTSTART;TZID=UTC:20240127T100000
DTEND;TZID=UTC:20240127T180000
DTSTAMP:20260423T025409
CREATED:20240316T161137Z
LAST-MODIFIED:20240316T163407Z
UID:2051-1706349600-1706378400@larpseason.com
SUMMARY:F&H Norwich
DESCRIPTION:
URL:https://larpseason.com/event/fh-norwich-3/
LOCATION:F&H Norwich 52.64427\, 1.31994\, 52.64427\, 1.31994
CATEGORIES:Club Games
END:VEVENT
BEGIN:VEVENT
DTSTART;TZID=UTC:20240127T100000
DTEND;TZID=UTC:20240127T180000
DTSTAMP:20260423T025409
CREATED:20240316T155650Z
LAST-MODIFIED:20240316T163631Z
UID:2015-1706349600-1706378400@larpseason.com
SUMMARY:F&H Hull
DESCRIPTION:
URL:https://larpseason.com/event/fh-hull/
LOCATION:F&H Hull  53.91675\, -0.85624\, 53.91675\, -0.85624
CATEGORIES:Club Games
END:VEVENT
BEGIN:VEVENT
DTSTART;TZID=UTC:20240127T100000
DTEND;TZID=UTC:20240127T180000
DTSTAMP:20260423T025409
CREATED:20240316T154909Z
LAST-MODIFIED:20240316T163709Z
UID:1998-1706349600-1706378400@larpseason.com
SUMMARY:F&H Black Country
DESCRIPTION:
URL:https://larpseason.com/event/fh-black-country/
LOCATION:F&H Black Country 52.37342\, -2.00985\, 52.37342\, -2.00985
CATEGORIES:Club Games
END:VEVENT
BEGIN:VEVENT
DTSTART;TZID=UTC:20240621T140000
DTEND;TZID=UTC:20240623T140000
DTSTAMP:20260423T025409
CREATED:20240211T153324Z
LAST-MODIFIED:20250214T182228Z
UID:531-1718978400-1719151200@larpseason.com
SUMMARY:5K: Sanctioned Event
DESCRIPTION:
URL:https://larpseason.com/event/the-five-kingdoms-sanctioned-event/
LOCATION:Gunman Airsoft Eversley Alpha\, Gunman Airsoft - Eversley The Welsh Dr (Off A327) Hook\, Hampshire RG27 0PX United Kingdom
CATEGORIES:Non-Fest Sanctioned,Sanctioned Events,UK LARPs
END:VEVENT
BEGIN:VEVENT
DTSTART;TZID=UTC:20240621T080000
DTEND;TZID=UTC:20240623T170000
DTSTAMP:20260423T025409
CREATED:20240314T221004Z
LAST-MODIFIED:20240316T210151Z
UID:1501-1718956800-1719162000@larpseason.com
SUMMARY:Skullduggery E2
DESCRIPTION:
URL:https://larpseason.com/event/skullduggery-e2/
LOCATION:Ross Wood Campsite\, Ross Wood Campsite\, New Rd.\, Herne Bay
CATEGORIES:UK LARPs,Weekend LARPs
END:VEVENT
BEGIN:VEVENT
DTSTART;TZID=UTC:20240621T080000
DTEND;TZID=UTC:20240623T170000
DTSTAMP:20260423T025409
CREATED:20240211T174236Z
LAST-MODIFIED:20240316T210147Z
UID:713-1718956800-1719162000@larpseason.com
SUMMARY:Warriors of Middle Earth
DESCRIPTION:W.O.M.E. is a 18+ live action roleplay event inspired by the events of The Lord of The Rings. \n\n\n\nHere you will help the Dunedain rangers defend the town of Bree and investigate dark forces that may be present. \n\n\n\nThe Dunedain rangers have occupied a fort near the town of Bree after multiple orc attacks have terrorized the town. This is where you will join them. Bree stands as one of the last free Northern towns for the race of men and if it falls\, then so too shall the race of man in the North. \n\n\n\nOrcs have infested the surrounding area – killing locals\, corrupting lands\, and spreading misery everywhere they appear. The Dunedain have put a call out to any and all people for assistance in beating back this dark presence. \n\n\n\nBy purchasing this ticket – you accept their call.
URL:https://larpseason.com/event/warriors-of-middle-earth/
LOCATION:Duncarron Medieval Village\, Duncarron Medieval Village\, Denny FK6 5JL
CATEGORIES:UK LARPs,Weekend LARPs
END:VEVENT
BEGIN:VEVENT
DTSTART;TZID=UTC:20240621T080000
DTEND;TZID=UTC:20240623T170000
DTSTAMP:20260423T025409
CREATED:20240211T131939Z
LAST-MODIFIED:20240211T131940Z
UID:369-1718956800-1719162000@larpseason.com
SUMMARY:Emergency LARP 2024 - English run
DESCRIPTION:The wait is over: the popular LARP in the hospital setting is taking place again. Are you ready? \n\n\n\nThe doors swing open and the hospital bed is pushed hectically through the hallway. A doctor gives quick instructions. A nurse keeps the distraught relatives at a distance. Meanwhile\, the head of surgery and the hospital’s commercial director are fighting a shouting duel in the break room. And the shift has just begun… \n\n\n\nBased on popular hospital series such as Grey’s Anatomy and Emergency Room\, the Emergency Larp scenario offers a mix of drama and action. Playing style dramedy instead of realism. We don’t want to simulate a hospital that is as realistic as possible\, but rather play with its dramatic series version. The characters can and should show great emotions and occasionally fail spectacularly in their actions. Like “real” doctors\, nurses and patients\, your roles should still take themselves and their actions seriously. We try to convey the flair of a hospital through props and scenery (including hospital beds)\, but we don’t aim for a perfect 360° illusion.
URL:https://larpseason.com/event/emergency-larp-2024-english-run/
LOCATION:Kreativ.Campus\, Kreativ.Campus\, Ewaldstr. 20\, 45699 Herten\, Germany
CATEGORIES:International LARPs
END:VEVENT
BEGIN:VEVENT
DTSTART;TZID=UTC:20240621T080000
DTEND;TZID=UTC:20240623T170000
DTSTAMP:20260423T025409
CREATED:20240210T233845Z
LAST-MODIFIED:20240316T210140Z
UID:193-1718956800-1719162000@larpseason.com
SUMMARY:Orion Sphere Event 10
DESCRIPTION:
URL:https://larpseason.com/event/orion-sphere-event-10/
LOCATION:Silverwood Scout Camp\, Silverwood Scout Camp\, Barnsley Road Silkstone South Yorkshire S75
CATEGORIES:UK LARPs,Weekend LARPs
END:VEVENT
BEGIN:VEVENT
DTSTART;TZID=UTC:20240621T080000
DTEND;TZID=UTC:20240623T170000
DTSTAMP:20260423T025409
CREATED:20240210T230659Z
LAST-MODIFIED:20240316T210136Z
UID:154-1718956800-1719162000@larpseason.com
SUMMARY:Frontier LRP Event 1
DESCRIPTION:
URL:https://larpseason.com/event/frontier-lrp-event-1/
LOCATION:The Grange\, Frogmore Grange\, Frog lane Balsall Common Coventry Warwickshire CV7 7FP United Kingdom
CATEGORIES:UK LARPs,Weekend LARPs
END:VEVENT
BEGIN:VEVENT
DTSTART;TZID=UTC:20240618T080000
DTEND;TZID=UTC:20240623T170000
DTSTAMP:20260423T025409
CREATED:20240211T201921Z
LAST-MODIFIED:20240316T210132Z
UID:923-1718697600-1719162000@larpseason.com
SUMMARY:Ascendancy Event 2: Return of the Betrayers
DESCRIPTION:
URL:https://larpseason.com/event/ascendancy-event-2/
LOCATION:Candleston\, Merthyr Mawr Road\, Merthyr Mawr\, Bridgend\, CF32 0LS United Kingdom
CATEGORIES:UK LARPs,Weekend LARPs
END:VEVENT
BEGIN:VEVENT
DTSTART;TZID=UTC:20240121T100000
DTEND;TZID=UTC:20240121T180000
DTSTAMP:20260423T025409
CREATED:20240316T160452Z
LAST-MODIFIED:20240316T163527Z
UID:2037-1705831200-1705860000@larpseason.com
SUMMARY:F&H St Helens
DESCRIPTION:
URL:https://larpseason.com/event/fh-st-helens-2/
LOCATION:F&H St Helens 53.54806\, -2.74003\, 53.54806\, -2.74003
CATEGORIES:Club Games
END:VEVENT
BEGIN:VEVENT
DTSTART;TZID=UTC:20240121T100000
DTEND;TZID=UTC:20240121T180000
DTSTAMP:20260423T025409
CREATED:20240315T215112Z
LAST-MODIFIED:20240316T165025Z
UID:1915-1705831200-1705860000@larpseason.com
SUMMARY:F&H Peterborough
DESCRIPTION:
URL:https://larpseason.com/event/fh-peterborough-2/
LOCATION:F&H Peterborough 52.17318\, 0.10212\, 52.17318\, 0.10212
CATEGORIES:Club Games
END:VEVENT
BEGIN:VEVENT
DTSTART;TZID=UTC:20240121T100000
DTEND;TZID=UTC:20240121T180000
DTSTAMP:20260423T025409
CREATED:20240315T215030Z
LAST-MODIFIED:20240316T163755Z
UID:1911-1705831200-1705860000@larpseason.com
SUMMARY:F&H Newcastle
DESCRIPTION:
URL:https://larpseason.com/event/fh-newcastle/
LOCATION:F&H Newcastle 54.92022\, -1.78705\, 54.92022\, -1.78705
CATEGORIES:Club Games
END:VEVENT
BEGIN:VEVENT
DTSTART;TZID=UTC:20240121T100000
DTEND;TZID=UTC:20240121T180000
DTSTAMP:20260423T025409
CREATED:20240315T214923Z
LAST-MODIFIED:20240316T163806Z
UID:1905-1705831200-1705860000@larpseason.com
SUMMARY:F&H Maidenhead
DESCRIPTION:
URL:https://larpseason.com/event/fh-maidenhead/
LOCATION:F&H Maidenhead 51.51585\, -0.77645\, 51.51585\, -0.77645
CATEGORIES:Club Games
END:VEVENT
BEGIN:VEVENT
DTSTART;TZID=UTC:20240121T100000
DTEND;TZID=UTC:20240121T180000
DTSTAMP:20260423T025409
CREATED:20240315T214759Z
LAST-MODIFIED:20240316T163815Z
UID:1899-1705831200-1705860000@larpseason.com
SUMMARY:F&H Bath
DESCRIPTION:
URL:https://larpseason.com/event/fh-bath/
LOCATION:F&H Bath  51.49150\, -2.6642\, 51.49150\, -2.6642
CATEGORIES:Club Games
END:VEVENT
BEGIN:VEVENT
DTSTART;TZID=UTC:20240616T100000
DTEND;TZID=UTC:20240616T173000
DTSTAMP:20260423T025409
CREATED:20240315T185844Z
LAST-MODIFIED:20240317T112712Z
UID:1704-1718532000-1718559000@larpseason.com
SUMMARY:Camarilla Invictus: Episode 122 Stagger
DESCRIPTION:
URL:https://larpseason.com/event/camarilla-invictus-episode-122-stagger/
LOCATION:The Priory\, The Priory\, Orpington BR6 0HH
CATEGORIES:Club Games,Parlour LARPs,UK LARPs
END:VEVENT
BEGIN:VEVENT
DTSTART;TZID=UTC:20240120T100000
DTEND;TZID=UTC:20240120T180000
DTSTAMP:20260423T025409
CREATED:20240315T214659Z
LAST-MODIFIED:20240316T163829Z
UID:1893-1705744800-1705773600@larpseason.com
SUMMARY:F&H Stockport
DESCRIPTION:
URL:https://larpseason.com/event/fh-stockport/
LOCATION:F&H Stockport  53.42253\, -2.15344\, 53.42253\, -2.15344
CATEGORIES:Club Games
END:VEVENT
END:VCALENDAR