BEGIN:VCALENDAR
VERSION:2.0
PRODID:-//LARP SEASON - ECPv6.15.20//NONSGML v1.0//EN
CALSCALE:GREGORIAN
METHOD:PUBLISH
X-WR-CALNAME:LARP SEASON
X-ORIGINAL-URL:https://larpseason.com
X-WR-CALDESC:Events for LARP SEASON
REFRESH-INTERVAL;VALUE=DURATION:PT1H
X-Robots-Tag:noindex
X-PUBLISHED-TTL:PT1H
BEGIN:VTIMEZONE
TZID:UTC
BEGIN:STANDARD
TZOFFSETFROM:+0000
TZOFFSETTO:+0000
TZNAME:UTC
DTSTART:20230101T000000
END:STANDARD
END:VTIMEZONE
BEGIN:VEVENT
DTSTART;TZID=UTC:20241011T080000
DTEND;TZID=UTC:20241013T170000
DTSTAMP:20260423T220858
CREATED:20240211T140625Z
LAST-MODIFIED:20240316T211331Z
UID:440-1728633600-1728838800@larpseason.com
SUMMARY:Daemon LARP
DESCRIPTION:“Daemon” is a collaborative\, vintage style steampunk’ish larp that focuses on the connection between a human and their manifested inner self or soul – the Daemon. \n\n\n\nThe core vision for this larp is experiencing how it is to play the same character as someone else and be in symbiosis with them. You don’t sign up in pairs to be family\, lovers or anything of the sort – but two parts of the same being. \n\n\n\n“He is more myself than I am. Whatever our souls are made of\, his and mine are the same” \n\n\n\n– Emily Brontë\, Wuthering Heights
URL:https://larpseason.com/event/daemon-larp/
LOCATION:The Castle\, County Durham\, The Castle\, County Durham
CATEGORIES:Freeforms & Nordic,UK LARPs
END:VEVENT
BEGIN:VEVENT
DTSTART;TZID=UTC:20241010T140000
DTEND;TZID=UTC:20241013T100000
DTSTAMP:20260423T220858
CREATED:20240311T224922Z
LAST-MODIFIED:20240311T224922Z
UID:1245-1728568800-1728813600@larpseason.com
SUMMARY:Expedition Asphodel
DESCRIPTION:The 19th century\, the Heroic Age of Polar Exploration and the race to the final frontiers of the Earth. As even the most hostile corners of this world are swallowed up by the British Empire and her insatiable hunger for Imperialism\, not all of her soldiers make it home to the motherland alive. The tempestuous waves or the frozen planes claim their lives and their ambitious dreams but not before dissolving what is left of their humanity and driving them to unspeakable acts of hubris. \n\n\n\nWe can all but guess the true fates of those departed souls but we can explore a world where death may not have been their end. Join us and see where these stories lead. How far will you go to cling to hope as your humanity wanes? What will you do?? \n\n\n\nExpedition Asphodel is a larp about exploration and imperialism\, about hubris \, hopelessness and the slow descent into madness\, about what makes us humans and what it takes to turn us into monsters. We will place real emotions and aspects of history into a fantastical frame. It will be dark\, gritty and tragic.
URL:https://larpseason.com/event/expedition-asphodel/
LOCATION:Haidburg\, Haidburg\, Süderlügum\, Northern Germany
CATEGORIES:International LARPs
END:VEVENT
BEGIN:VEVENT
DTSTART;TZID=UTC:20241010T080000
DTEND;TZID=UTC:20241013T170000
DTSTAMP:20260423T220858
CREATED:20240904T185603Z
LAST-MODIFIED:20240904T185603Z
UID:2458-1728547200-1728838800@larpseason.com
SUMMARY:Perfect Match Season 2
DESCRIPTION:In this show\, a group of queer singles mix and mingle as they try to identify their predetermined perfect match – with a million dollars on the line for the whole group to share! \n\n\n\nPerfect Match is a larp about a TV production. Every playable character participates in the show named Perfect Match\, and every character is attracted to all genders. It is a larp about hopes and dreams of love\, high drama and plenty of emotions\, lust and jealousy\, queer love stories\, and about having a lot of fun!
URL:https://larpseason.com/event/perfect-match-season-2/
LOCATION:Sämsholms Gård\, SÄMSHOLMS GÅRD\, 524 93\, Sweden
CATEGORIES:International LARPs
END:VEVENT
BEGIN:VEVENT
DTSTART;TZID=UTC:20241010T080000
DTEND;TZID=UTC:20241013T170000
DTSTAMP:20260423T220858
CREATED:20240211T132811Z
LAST-MODIFIED:20240211T132811Z
UID:383-1728547200-1728838800@larpseason.com
SUMMARY:Adventurers Academy - Year 1 Dimension 1
DESCRIPTION:
URL:https://larpseason.com/event/adventurers-academy-year-1-dimension-1/
LOCATION:Czocha Castle\, Czocha Castle\, Lesna\, Poland
CATEGORIES:International LARPs
END:VEVENT
BEGIN:VEVENT
DTSTART;TZID=UTC:20240107T100000
DTEND;TZID=UTC:20240107T180000
DTSTAMP:20260423T220858
CREATED:20240315T212659Z
LAST-MODIFIED:20240316T164008Z
UID:1844-1704621600-1704650400@larpseason.com
SUMMARY:F&H Plymouth
DESCRIPTION:
URL:https://larpseason.com/event/fh-plymouth/
LOCATION:F&H Plymouth\, 50.41857\, -4.0465
CATEGORIES:Club Games
END:VEVENT
BEGIN:VEVENT
DTSTART;TZID=UTC:20240107T100000
DTEND;TZID=UTC:20240107T180000
DTSTAMP:20260423T220858
CREATED:20240315T212553Z
LAST-MODIFIED:20240316T164019Z
UID:1838-1704621600-1704650400@larpseason.com
SUMMARY:F&H Portsmouth
DESCRIPTION:
URL:https://larpseason.com/event/fh-portsmouth/
LOCATION:F&H Portsmouth  50.898111752115405\, -1.0793966218556679\, 50.898111752115405\, -1.0793966218556679
CATEGORIES:Club Games
END:VEVENT
BEGIN:VEVENT
DTSTART;TZID=UTC:20240107T100000
DTEND;TZID=UTC:20240107T180000
DTSTAMP:20260423T220858
CREATED:20240315T212444Z
LAST-MODIFIED:20240316T164028Z
UID:1832-1704621600-1704650400@larpseason.com
SUMMARY:F&H Leeds
DESCRIPTION:
URL:https://larpseason.com/event/fh-leeds/
LOCATION:F&H Leeds 53.84079\, -1.57558\, 53.84079\, -1.57558
CATEGORIES:Club Games
END:VEVENT
BEGIN:VEVENT
DTSTART;TZID=UTC:20240106T180000
DTEND;TZID=UTC:20240106T233000
DTSTAMP:20260423T220858
CREATED:20240315T212251Z
LAST-MODIFIED:20240316T164853Z
UID:1828-1704564000-1704583800@larpseason.com
SUMMARY:F&H Newcastle (evening)
DESCRIPTION:
URL:https://larpseason.com/event/fh-newcastle-evening/
LOCATION:F&H Newcastle 54.99042\, -1.59221\, 54.99042\, -1.59221
CATEGORIES:Club Games
END:VEVENT
BEGIN:VEVENT
DTSTART;TZID=UTC:20240106T100000
DTEND;TZID=UTC:20240106T180000
DTSTAMP:20260423T220858
CREATED:20240315T212145Z
LAST-MODIFIED:20240316T164048Z
UID:1824-1704535200-1704564000@larpseason.com
SUMMARY:F&H St Helens
DESCRIPTION:
URL:https://larpseason.com/event/fh-st-helens/
LOCATION:F&H St Helens  53.51267\, -2.80851\, 53.51267\, -2.80851
CATEGORIES:Club Games
END:VEVENT
BEGIN:VEVENT
DTSTART;TZID=UTC:20240106T100000
DTEND;TZID=UTC:20240106T180000
DTSTAMP:20260423T220858
CREATED:20240315T212029Z
LAST-MODIFIED:20240316T164059Z
UID:1820-1704535200-1704564000@larpseason.com
SUMMARY:F&H Peterborough
DESCRIPTION:
URL:https://larpseason.com/event/fh-peterborough/
LOCATION:F&H Peterborough 52.17318\, 0.10212\, 52.17318\, 0.10212
CATEGORIES:Club Games
END:VEVENT
BEGIN:VEVENT
DTSTART;TZID=UTC:20240106T100000
DTEND;TZID=UTC:20240106T180000
DTSTAMP:20260423T220858
CREATED:20240315T211903Z
LAST-MODIFIED:20240316T164108Z
UID:1816-1704535200-1704564000@larpseason.com
SUMMARY:F&H Glasgow
DESCRIPTION:
URL:https://larpseason.com/event/fh-glasgow/
LOCATION:F&H Glasgow 55.973\, -4.32964\, 55.973\, -4.32964
CATEGORIES:Club Games
END:VEVENT
BEGIN:VEVENT
DTSTART;TZID=UTC:20240106T100000
DTEND;TZID=UTC:20240106T180000
DTSTAMP:20260423T220858
CREATED:20240315T211231Z
LAST-MODIFIED:20250214T131905Z
UID:1802-1704535200-1704564000@larpseason.com
SUMMARY:F&H Bristol
DESCRIPTION:
URL:https://larpseason.com/event/fh-bristol/
LOCATION:F&H Bristol <br>51.64642\, -2.70667\, 51.64642\, -2.70667
CATEGORIES:Club Games
END:VEVENT
BEGIN:VEVENT
DTSTART;TZID=UTC:20241005T080000
DTEND;TZID=UTC:20241005T170000
DTSTAMP:20260423T220858
CREATED:20240608T214435Z
LAST-MODIFIED:20250214T182546Z
UID:2366-1728115200-1728147600@larpseason.com
SUMMARY:Whispers by Gaslight
DESCRIPTION:
URL:https://larpseason.com/event/whispers-by-gaslight/
CATEGORIES:Parlour LARPs,UK LARPs
END:VEVENT
BEGIN:VEVENT
DTSTART;TZID=UTC:20241004T140000
DTEND;TZID=UTC:20241006T140000
DTSTAMP:20260423T220858
CREATED:20240211T153719Z
LAST-MODIFIED:20240316T211301Z
UID:537-1728050400-1728223200@larpseason.com
SUMMARY:The Dragon's Hunt
DESCRIPTION:
URL:https://larpseason.com/event/the-dragons-hunt/
LOCATION:Gunman Airsoft Eversley Alpha\, Gunman Airsoft - Eversley The Welsh Dr (Off A327) Hook\, Hampshire RG27 0PX United Kingdom
CATEGORIES:UK LARPs,Weekend LARPs
END:VEVENT
BEGIN:VEVENT
DTSTART;TZID=UTC:20241004T080000
DTEND;TZID=UTC:20241006T170000
DTSTAMP:20260423T220858
CREATED:20240904T182746Z
LAST-MODIFIED:20250214T180637Z
UID:2422-1728028800-1728234000@larpseason.com
SUMMARY:CuPa: Fir Cruthen event (Sanctioned)
DESCRIPTION:
URL:https://larpseason.com/event/cupa-sanctioned-fir-cruthen/
LOCATION:Squirrel Wood Scout Camp\, SQUIRREL WOOD SCOUT CAMP\, DONCASTER DN6 9JF
CATEGORIES:Curious Pastimes Sanctioned,Sanctioned Events,UK LARPs
END:VEVENT
BEGIN:VEVENT
DTSTART;TZID=UTC:20241004T080000
DTEND;TZID=UTC:20241006T170000
DTSTAMP:20260423T220858
CREATED:20240211T174026Z
LAST-MODIFIED:20240602T185952Z
UID:707-1728028800-1728234000@larpseason.com
SUMMARY:Bastion: Event 1
DESCRIPTION:Bastion is a post-apocalyptic survival horror LARP based on media such as The Last of Us\, The Walking Dead\, 28 Days Later\, Fallout and Black Summer. The LARP aims to give players a taste of what the end of the world may feel like\, with stealth and creative thinking often being the best option when facing the spore filled undead and bandits that inhabit the world. Tickets include a £35 non refundable deposit. BASTION IS A 18+ EVENT
URL:https://larpseason.com/event/bastion-event-1/
LOCATION:HQ Airsoft\, HQ Airsoft\, A164\, Driffield YO25 9EY
CATEGORIES:UK LARPs,Weekend LARPs
END:VEVENT
BEGIN:VEVENT
DTSTART;TZID=UTC:20241004T080000
DTEND;TZID=UTC:20241006T170000
DTSTAMP:20260423T220858
CREATED:20240211T003712Z
LAST-MODIFIED:20240211T003714Z
UID:289-1728028800-1728234000@larpseason.com
SUMMARY:Gothic: Run 5
DESCRIPTION:Inspired by Ken Russell’s 1986 film\, Gothic\, and the historical events of 1816\, Avalon Larp Studio brings you the story of a night with Lord Byron\, Mary Godwin\, Percy Shelley\, Claire Clairmont and Dr. Polidori. Five poets trapped in an erotic\, psychological horror story\, created by their own imagination… \n\n\n\nPlay first as a poet; write poetry\, drink\, dance\, dream laudanum dreams! Play again as their servant where you will escalate the story and take the lead in creating the horrors that haunt them; you will decide whether to guide your poet towards redemption or reconciliation\, or destroy them to save yourself.Sign-Up will open 14th February 2024 and will remain open until 3rd March 2024.
URL:https://larpseason.com/event/gothic-run-5/
LOCATION:Gerdrup Gods\, Gerdrup\, Slagelse\, Denmark
CATEGORIES:International LARPs
END:VEVENT
BEGIN:VEVENT
DTSTART;TZID=UTC:20241003T080000
DTEND;TZID=UTC:20241006T170000
DTSTAMP:20260423T220858
CREATED:20240211T133841Z
LAST-MODIFIED:20240316T211249Z
UID:404-1727942400-1728234000@larpseason.com
SUMMARY:Alma Mater
DESCRIPTION:It is the year of our Lord\, 1535. \n\n\n\nThe convent of Whitwood Abbey\, dedicated to the Nurturing Mother (Alma Mater)\, has stood on this spot for nearly three hundred years. For you\, the religious sisters who dwell within\, it provides a protection; a vocation; a routine – and above all a strict Rule of life. \n\n\n\nThe great mother Church provided well-born ladies\, like you\, a shelter outside of the cultural norms of marriage and motherhood. In return\, you provide spiritual connection by reciting the psalms\, and by following the ancient laws of stability and obedience. \n\n\n\nFrom time to time\, your obedience would be assessed by visiting Church officials; but your Abbey has never been found wanting. \n\n\n\nBut times are changing. The King\, Henry viii\, battled to end his first marriage for years. The dispute between the King and the Church allowed powerful men into the government – men whose goal is Protestant reform. The new Queen has brought this closer. \n\n\n\nYou are now – whether you will or no – part of a new church\, the Church of England. \n\n\n\nThere is no certainty. There is no stability. There is to be an inspection.
URL:https://larpseason.com/event/alma-mater/
LOCATION:The Chellington Centre\, The Chellington Centre\, St Nicholas Church\, Felmersham Road\, Carlton\, Bedford MK43 7NA
CATEGORIES:Freeforms & Nordic,UK LARPs,Weekend LARPs
END:VEVENT
BEGIN:VEVENT
DTSTART;TZID=UTC:20241003T080000
DTEND;TZID=UTC:20241006T170000
DTSTAMP:20260423T220858
CREATED:20240211T003707Z
LAST-MODIFIED:20240211T003708Z
UID:288-1727942400-1728234000@larpseason.com
SUMMARY:Gothic: Run 4
DESCRIPTION:Inspired by Ken Russell’s 1986 film\, Gothic\, and the historical events of 1816\, Avalon Larp Studio brings you the story of a night with Lord Byron\, Mary Godwin\, Percy Shelley\, Claire Clairmont and Dr. Polidori. Five poets trapped in an erotic\, psychological horror story\, created by their own imagination… \n\n\n\nPlay first as a poet; write poetry\, drink\, dance\, dream laudanum dreams! Play again as their servant where you will escalate the story and take the lead in creating the horrors that haunt them; you will decide whether to guide your poet towards redemption or reconciliation\, or destroy them to save yourself.Sign-Up will open 14th February 2024 and will remain open until 3rd March 2024.
URL:https://larpseason.com/event/gothic-run-4/
LOCATION:Gerdrup Gods\, Gerdrup\, Slagelse\, Denmark
CATEGORIES:International LARPs
END:VEVENT
BEGIN:VEVENT
DTSTART;TZID=UTC:20241002T080000
DTEND;TZID=UTC:20241005T170000
DTSTAMP:20260423T220858
CREATED:20240211T003446Z
LAST-MODIFIED:20240211T003446Z
UID:286-1727856000-1728147600@larpseason.com
SUMMARY:Gothic: Run 3
DESCRIPTION:Inspired by Ken Russell’s 1986 film\, Gothic\, and the historical events of 1816\, Avalon Larp Studio brings you the story of a night with Lord Byron\, Mary Godwin\, Percy Shelley\, Claire Clairmont and Dr. Polidori. Five poets trapped in an erotic\, psychological horror story\, created by their own imagination… \n\n\n\nPlay first as a poet; write poetry\, drink\, dance\, dream laudanum dreams! Play again as their servant where you will escalate the story and take the lead in creating the horrors that haunt them; you will decide whether to guide your poet towards redemption or reconciliation\, or destroy them to save yourself.Sign-Up will open 14th February 2024 and will remain open until 3rd March 2024.
URL:https://larpseason.com/event/gothic-run-3/
LOCATION:Gerdrup Gods\, Gerdrup\, Slagelse\, Denmark
CATEGORIES:International LARPs
END:VEVENT
BEGIN:VEVENT
DTSTART;TZID=UTC:20241001T080000
DTEND;TZID=UTC:20241004T170000
DTSTAMP:20260423T220858
CREATED:20240211T003301Z
LAST-MODIFIED:20240211T003311Z
UID:282-1727769600-1728061200@larpseason.com
SUMMARY:Gothic: Run 2
DESCRIPTION:Inspired by Ken Russell’s 1986 film\, Gothic\, and the historical events of 1816\, Avalon Larp Studio brings you the story of a night with Lord Byron\, Mary Godwin\, Percy Shelley\, Claire Clairmont and Dr. Polidori. Five poets trapped in an erotic\, psychological horror story\, created by their own imagination… \n\n\n\nPlay first as a poet; write poetry\, drink\, dance\, dream laudanum dreams! Play again as their servant where you will escalate the story and take the lead in creating the horrors that haunt them; you will decide whether to guide your poet towards redemption or reconciliation\, or destroy them to save yourself.Sign-Up will open 14th February 2024 and will remain open until 3rd March 2024.
URL:https://larpseason.com/event/gothic-run-2/
LOCATION:Gerdrup Gods\, Gerdrup\, Slagelse\, Denmark
CATEGORIES:International LARPs
END:VEVENT
BEGIN:VEVENT
DTSTART;TZID=UTC:20240930T080000
DTEND;TZID=UTC:20241003T170000
DTSTAMP:20260423T220858
CREATED:20240211T003121Z
LAST-MODIFIED:20240211T003121Z
UID:274-1727683200-1727974800@larpseason.com
SUMMARY:Gothic: Run 1
DESCRIPTION:Inspired by Ken Russell’s 1986 film\, Gothic\, and the historical events of 1816\, Avalon Larp Studio brings you the story of a night with Lord Byron\, Mary Godwin\, Percy Shelley\, Claire Clairmont and Dr. Polidori. Five poets trapped in an erotic\, psychological horror story\, created by their own imagination… \n\n\n\nPlay first as a poet; write poetry\, drink\, dance\, dream laudanum dreams! Play again as their servant where you will escalate the story and take the lead in creating the horrors that haunt them; you will decide whether to guide your poet towards redemption or reconciliation\, or destroy them to save yourself.Sign-Up will open 14th February 2024 and will remain open until 3rd March 2024.
URL:https://larpseason.com/event/gothic-run-1/
LOCATION:Gerdrup Gods\, Gerdrup\, Slagelse\, Denmark
CATEGORIES:International LARPs
END:VEVENT
BEGIN:VEVENT
DTSTART;TZID=UTC:20240331T100000
DTEND;TZID=UTC:20240331T180000
DTSTAMP:20260423T220858
CREATED:20240316T155831Z
LAST-MODIFIED:20240316T164752Z
UID:2020-1711879200-1711908000@larpseason.com
SUMMARY:F&H Leeds
DESCRIPTION:
URL:https://larpseason.com/event/fh-leeds-2/
LOCATION:F&H Leeds 53.84079\, -1.57558\, 53.84079\, -1.57558
CATEGORIES:Club Games
END:VEVENT
BEGIN:VEVENT
DTSTART;TZID=UTC:20240127T100000
DTEND;TZID=UTC:20240127T180000
DTSTAMP:20260423T220858
CREATED:20240316T161137Z
LAST-MODIFIED:20240316T163407Z
UID:2051-1706349600-1706378400@larpseason.com
SUMMARY:F&H Norwich
DESCRIPTION:
URL:https://larpseason.com/event/fh-norwich-3/
LOCATION:F&H Norwich 52.64427\, 1.31994\, 52.64427\, 1.31994
CATEGORIES:Club Games
END:VEVENT
BEGIN:VEVENT
DTSTART;TZID=UTC:20240127T100000
DTEND;TZID=UTC:20240127T180000
DTSTAMP:20260423T220858
CREATED:20240316T155650Z
LAST-MODIFIED:20240316T163631Z
UID:2015-1706349600-1706378400@larpseason.com
SUMMARY:F&H Hull
DESCRIPTION:
URL:https://larpseason.com/event/fh-hull/
LOCATION:F&H Hull  53.91675\, -0.85624\, 53.91675\, -0.85624
CATEGORIES:Club Games
END:VEVENT
BEGIN:VEVENT
DTSTART;TZID=UTC:20240127T100000
DTEND;TZID=UTC:20240127T180000
DTSTAMP:20260423T220858
CREATED:20240316T154909Z
LAST-MODIFIED:20240316T163709Z
UID:1998-1706349600-1706378400@larpseason.com
SUMMARY:F&H Black Country
DESCRIPTION:
URL:https://larpseason.com/event/fh-black-country/
LOCATION:F&H Black Country 52.37342\, -2.00985\, 52.37342\, -2.00985
CATEGORIES:Club Games
END:VEVENT
BEGIN:VEVENT
DTSTART;TZID=UTC:20240928T100000
DTEND;TZID=UTC:20240928T170000
DTSTAMP:20260423T220858
CREATED:20250212T173646Z
LAST-MODIFIED:20250212T173647Z
UID:2992-1727517600-1727542800@larpseason.com
SUMMARY:Age of Essence
DESCRIPTION:
URL:https://larpseason.com/event/age-of-essence-7/
LOCATION:Nonsuch Park\, Nonsuch Mansion House\, Fir Walk\, Epsom\, KT17 2\, United Kingdom
CATEGORIES:Club Games,UK LARPs
END:VEVENT
BEGIN:VEVENT
DTSTART;TZID=UTC:20240928T080000
DTEND;TZID=UTC:20240929T170000
DTSTAMP:20260423T220858
CREATED:20240211T220317Z
LAST-MODIFIED:20240211T220317Z
UID:1053-1727510400-1727629200@larpseason.com
SUMMARY:Locksmith's Dream: Equinox (Weekend)
DESCRIPTION:
URL:https://larpseason.com/event/locksmiths-dream-equinox-weekend/
LOCATION:Treowen\, Treowen\, Wonastow\, Monmouth\, NP25 4DL
CATEGORIES:Immersive Experience
END:VEVENT
BEGIN:VEVENT
DTSTART;TZID=UTC:20240927T140000
DTEND;TZID=UTC:20240929T140000
DTSTAMP:20260423T220858
CREATED:20240211T152532Z
LAST-MODIFIED:20240316T211227Z
UID:515-1727445600-1727618400@larpseason.com
SUMMARY:Hoist the Colours: Episode 5
DESCRIPTION:The year is 1721. The Pirate Republic is no more. Calico Jack and Mary Read are dead. Blackbeard’s head adorns the entrance to Chesapeake Bay as a warning to all who would call themselves “Pirate”. The last armada of free people in Nassau sailed together and was crushed\, without mercy.Of the gross of ships who once stood against the might of the British Navy\, now only a handful remain. Limping away from the final stand\, and giving succour to those survivors left to drown in the Caribbean Sea when their ships sank beneath them\, they follow a map to Blackbeard’s last gift – the location of an island unknown to the British Crown.From there they might create a new Nassau\, free of Kings\, Empires and the shackles of “Civilization”…
URL:https://larpseason.com/event/hoist-the-colours-episode-5/
LOCATION:Gunman Airsoft Eversley Alpha\, Gunman Airsoft - Eversley The Welsh Dr (Off A327) Hook\, Hampshire RG27 0PX United Kingdom
CATEGORIES:UK LARPs,Weekend LARPs
END:VEVENT
BEGIN:VEVENT
DTSTART;TZID=UTC:20240126T100000
DTEND;TZID=UTC:20240126T180000
DTSTAMP:20260423T220858
CREATED:20240316T160052Z
LAST-MODIFIED:20240316T164927Z
UID:2027-1706263200-1706292000@larpseason.com
SUMMARY:F&H Norwich
DESCRIPTION:
URL:https://larpseason.com/event/fh-norwich-2/
LOCATION:F&H Norwich 52.64427\, 1.31994\, 52.64427\, 1.31994
CATEGORIES:Club Games
END:VEVENT
END:VCALENDAR