BEGIN:VCALENDAR
VERSION:2.0
PRODID:-//LARP SEASON - ECPv6.15.20//NONSGML v1.0//EN
CALSCALE:GREGORIAN
METHOD:PUBLISH
X-WR-CALNAME:LARP SEASON
X-ORIGINAL-URL:https://larpseason.com
X-WR-CALDESC:Events for LARP SEASON
REFRESH-INTERVAL;VALUE=DURATION:PT1H
X-Robots-Tag:noindex
X-PUBLISHED-TTL:PT1H
BEGIN:VTIMEZONE
TZID:UTC
BEGIN:STANDARD
TZOFFSETFROM:+0000
TZOFFSETTO:+0000
TZNAME:UTC
DTSTART:20220101T000000
END:STANDARD
END:VTIMEZONE
BEGIN:VTIMEZONE
TZID:Europe/Paris
BEGIN:DAYLIGHT
TZOFFSETFROM:+0100
TZOFFSETTO:+0200
TZNAME:CEST
DTSTART:20220327T010000
END:DAYLIGHT
BEGIN:STANDARD
TZOFFSETFROM:+0200
TZOFFSETTO:+0100
TZNAME:CET
DTSTART:20221030T010000
END:STANDARD
BEGIN:DAYLIGHT
TZOFFSETFROM:+0100
TZOFFSETTO:+0200
TZNAME:CEST
DTSTART:20230326T010000
END:DAYLIGHT
BEGIN:STANDARD
TZOFFSETFROM:+0200
TZOFFSETTO:+0100
TZNAME:CET
DTSTART:20231029T010000
END:STANDARD
BEGIN:DAYLIGHT
TZOFFSETFROM:+0100
TZOFFSETTO:+0200
TZNAME:CEST
DTSTART:20240331T010000
END:DAYLIGHT
BEGIN:STANDARD
TZOFFSETFROM:+0200
TZOFFSETTO:+0100
TZNAME:CET
DTSTART:20241027T010000
END:STANDARD
END:VTIMEZONE
BEGIN:VEVENT
DTSTART;TZID=UTC:20231208T080000
DTEND;TZID=UTC:20231210T170000
DTSTAMP:20260424T130639
CREATED:20250214T141249Z
LAST-MODIFIED:20250214T141250Z
UID:3121-1702022400-1702227600@larpseason.com
SUMMARY:Reunion: Run 2
DESCRIPTION:Dirty Laundry were the hardest-living of rock bands\, whose wild shenanigans were more than a match for their incandescent performances. Indigo Crush were the slickest of manufactured pop outfits\, with a charming kids-next-door image to complement their chirpy and catchy tunes. Both had their peak of success 25 years ago – before it all went wrong. \n\n\n\n​Now\, they’ve been gathered together by their record company\, Zenith\, at a quiet country house. The plan is for a reunion tour with both bands together\, to tap into two very different but equally nostalgic fanbases. But for that to happen\, there are going to need to be some conversations – some airing of old grievances\, some opening-up of wounds\, some skeletons coming out of cupboards. Who did what to whom\, and why? Where did the money go? Can we even still talk to each other? Was it ever really about the music?This larp is designed to portray authentic middle-aged characters in the present day\, designed in collaboration with the participants. The themes of this larp include aging\, regrets\, changes\, memory\, joy\, and freedom. Reunion also explores self-discovery\, self-acceptance\, and how one’s past can shape one’s future: and the possible tension between public image and private reality.
URL:https://larpseason.com/event/reunion-run-2/
LOCATION:Lattice Lodge\, Lattice Lodge 499 Woodbridge Road Ipswich IP4 4EP United Kingdom
CATEGORIES:Blockbuster LARPs,UK LARPs,Weekend LARPs
END:VEVENT
BEGIN:VEVENT
DTSTART;TZID=Europe/Paris:20230901T080000
DTEND;TZID=Europe/Paris:20230903T170000
DTSTAMP:20260424T130639
CREATED:20251026T173351Z
LAST-MODIFIED:20251026T173352Z
UID:4103-1693555200-1693760400@larpseason.com
SUMMARY:Dark Shadows and Brilliant Highlights - Event 3: Ghosts
DESCRIPTION:
URL:https://larpseason.com/event/dark-shadows-and-brilliant-highlights-event-3-ghosts/
LOCATION:Fox Coverts Scout Campsite\, Fox Coverts Scout Campsite\, Newbold Rd\, Kirkby Mallory LE9 7QG
CATEGORIES:UK LARPs,Weekend LARPs
END:VEVENT
BEGIN:VEVENT
DTSTART;TZID=UTC:20230317T080000
DTEND;TZID=UTC:20230320T170000
DTSTAMP:20260424T130639
CREATED:20250214T141719Z
LAST-MODIFIED:20250214T170606Z
UID:3123-1679040000-1679331600@larpseason.com
SUMMARY:Reunion: Run 1
DESCRIPTION:
URL:https://larpseason.com/event/reunion-run-1/
CATEGORIES:Blockbuster LARPs,UK LARPs,Weekend LARPs
END:VEVENT
END:VCALENDAR