BEGIN:VCALENDAR
VERSION:2.0
PRODID:-//LARP SEASON - ECPv6.15.20//NONSGML v1.0//EN
CALSCALE:GREGORIAN
METHOD:PUBLISH
X-ORIGINAL-URL:https://larpseason.com
X-WR-CALDESC:Events for LARP SEASON
REFRESH-INTERVAL;VALUE=DURATION:PT1H
X-Robots-Tag:noindex
X-PUBLISHED-TTL:PT1H
BEGIN:VTIMEZONE
TZID:Europe/Paris
BEGIN:DAYLIGHT
TZOFFSETFROM:+0100
TZOFFSETTO:+0200
TZNAME:CEST
DTSTART:20260329T010000
END:DAYLIGHT
BEGIN:STANDARD
TZOFFSETFROM:+0200
TZOFFSETTO:+0100
TZNAME:CET
DTSTART:20261025T010000
END:STANDARD
BEGIN:DAYLIGHT
TZOFFSETFROM:+0100
TZOFFSETTO:+0200
TZNAME:CEST
DTSTART:20270328T010000
END:DAYLIGHT
BEGIN:STANDARD
TZOFFSETFROM:+0200
TZOFFSETTO:+0100
TZNAME:CET
DTSTART:20271031T010000
END:STANDARD
BEGIN:DAYLIGHT
TZOFFSETFROM:+0100
TZOFFSETTO:+0200
TZNAME:CEST
DTSTART:20280326T010000
END:DAYLIGHT
BEGIN:STANDARD
TZOFFSETFROM:+0200
TZOFFSETTO:+0100
TZNAME:CET
DTSTART:20281029T010000
END:STANDARD
BEGIN:DAYLIGHT
TZOFFSETFROM:+0100
TZOFFSETTO:+0200
TZNAME:CEST
DTSTART:20290325T010000
END:DAYLIGHT
BEGIN:STANDARD
TZOFFSETFROM:+0200
TZOFFSETTO:+0100
TZNAME:CET
DTSTART:20291028T010000
END:STANDARD
END:VTIMEZONE
BEGIN:VEVENT
DTSTART;TZID=Europe/Paris:20270123T140000
DTEND;TZID=Europe/Paris:20270123T213000
DTSTAMP:20260424T191251
CREATED:20260304T133327Z
LAST-MODIFIED:20260304T133328Z
UID:4383-1800712800-1800739800@larpseason.com
SUMMARY:Empire: Night of the Last Candle II (player event)
DESCRIPTION:Ever wanted to spend a day playing board games in character? \n\n\n\nFollowing the success of our first event\, the Flame Beneath the Earth are again inviting guests to attend a day of friendly competition\, socialising and philosophy. \n\n\n\nThis year we will be inviting you to attend our larger main hall to accommodate more guests. \n\n\n\nThere will be even more games on offer including more ways to get involved in competition.
URL:https://larpseason.com/event/empire-night-of-the-last-candle-ii-player-event/
LOCATION:Poppleton Tithe Barn\, Poppleton Tithe Barn
CATEGORIES:Empire Sanctioned,Sanctioned Events,UK LARPs
END:VEVENT
BEGIN:VEVENT
DTSTART;TZID=Europe/Paris:20270318T080000
DTEND;TZID=Europe/Paris:20270321T170000
DTSTAMP:20260424T191251
CREATED:20260215T154623Z
LAST-MODIFIED:20260215T154623Z
UID:4336-1805356800-1805648400@larpseason.com
SUMMARY:A Hundred Days
DESCRIPTION:Sunray Games Ltd. is pleased to announce its second game: \n\n\n\n“A Hundred Days” – A weekend social LARP set in the Regency period. \n\n\n\nCamp on the grounds of the phenomenal Middleton Hall & Gardens from the 18th – 21st of March 2027\, take part in workshops about etiquette and dancing in the Regency period\, and attend a public ball as your characters amongst the backdrop of a Georgian great hall and a live string quartet. \n\n\n\nThe game has 80 player tickets available priced at £100 each. Once your place has been confirmed you will receive a confirmation email with payment information.
URL:https://larpseason.com/event/a-hundred-days/
LOCATION:Middleton Hall and Gardens\, Middleton Hall and Gardens\, Tamworth\, B78 2AE
CATEGORIES:UK LARPs,Weekend LARPs
END:VEVENT
BEGIN:VEVENT
DTSTART;TZID=Europe/Paris:20270331T080000
DTEND;TZID=Europe/Paris:20270404T170000
DTSTAMP:20260424T191251
CREATED:20251026T171742Z
LAST-MODIFIED:20251026T171743Z
UID:4067-1806480000-1806858000@larpseason.com
SUMMARY:iHunt Ep 2
DESCRIPTION:
URL:https://larpseason.com/event/ihunt-ep-2/
LOCATION:Petershof\, Germany\, Petershof\, Talweg 5 - 64711 Erbach - Germany
CATEGORIES:International LARPs
END:VEVENT
BEGIN:VEVENT
DTSTART;TZID=Europe/Paris:20270813T080000
DTEND;TZID=Europe/Paris:20270816T170000
DTSTAMP:20260424T191251
CREATED:20251106T211655Z
LAST-MODIFIED:20251119T004720Z
UID:4180-1818144000-1818435600@larpseason.com
SUMMARY:Fable Academy
DESCRIPTION:  Fable Academy: For the Instruction and Education of Legacies   \n\n\n\nSet in a world full of fantasy realms\, Fable Academy is a LARP about the descendants of iconic fairytale characters attending an academy to prepare them for their own happily ever afters... \n\n\n\nThe event is being held from the 13th August to the 16th August 2027\, at the Preston Montford hall in Shrewsbury\, an 18th century grade II listed building in a 12-hectare estate. We provide indoor accommodation and full catering. \n\n\n\nTickets go on sale at 8:00 pm on the 14th of November 2025\, in two weeks’ time. Tickets are £270 each\, but only a £50 deposit is required to secure your place\, and there is a payment plan for the rest of the balance. We have 90 player spaces available. (Crew applications will open closer to the event\, and it’s £10 to crew!) \n\n\n\nThe LARP design document as well as the pre-written character briefs are available\, along with all practical information\, on our website: https://fableacademy.my.canva.site/ \n\n\n\nIf urban fantasy fairytales and magical boarding schools are up your alley\, check out the website or the event interest page!
URL:https://larpseason.com/event/fable-academy/
LOCATION:Preston Montford\, Shrewsbury\, Preston Montford\, Shrewsbury
CATEGORIES:Blockbuster LARPs,UK LARPs,Weekend LARPs
END:VEVENT
BEGIN:VEVENT
DTSTART;TZID=Europe/Paris:20280419T080000
DTEND;TZID=Europe/Paris:20280423T170000
DTSTAMP:20260424T191251
CREATED:20251026T171823Z
LAST-MODIFIED:20251026T171824Z
UID:4069-1839744000-1840122000@larpseason.com
SUMMARY:iHunt Ep 3
DESCRIPTION:
URL:https://larpseason.com/event/ihunt-ep-3/
LOCATION:Petershof\, Germany\, Petershof\, Talweg 5 - 64711 Erbach - Germany
CATEGORIES:International LARPs
END:VEVENT
END:VCALENDAR