BEGIN:VCALENDAR
VERSION:2.0
PRODID:-//LARP SEASON - ECPv6.15.20//NONSGML v1.0//EN
CALSCALE:GREGORIAN
METHOD:PUBLISH
X-ORIGINAL-URL:https://larpseason.com
X-WR-CALDESC:Events for LARP SEASON
REFRESH-INTERVAL;VALUE=DURATION:PT1H
X-Robots-Tag:noindex
X-PUBLISHED-TTL:PT1H
BEGIN:VTIMEZONE
TZID:UTC
BEGIN:STANDARD
TZOFFSETFROM:+0000
TZOFFSETTO:+0000
TZNAME:UTC
DTSTART:20240101T000000
END:STANDARD
END:VTIMEZONE
BEGIN:VTIMEZONE
TZID:Europe/Paris
BEGIN:DAYLIGHT
TZOFFSETFROM:+0100
TZOFFSETTO:+0200
TZNAME:CEST
DTSTART:20240331T010000
END:DAYLIGHT
BEGIN:STANDARD
TZOFFSETFROM:+0200
TZOFFSETTO:+0100
TZNAME:CET
DTSTART:20241027T010000
END:STANDARD
BEGIN:DAYLIGHT
TZOFFSETFROM:+0100
TZOFFSETTO:+0200
TZNAME:CEST
DTSTART:20250330T010000
END:DAYLIGHT
BEGIN:STANDARD
TZOFFSETFROM:+0200
TZOFFSETTO:+0100
TZNAME:CET
DTSTART:20251026T010000
END:STANDARD
BEGIN:DAYLIGHT
TZOFFSETFROM:+0100
TZOFFSETTO:+0200
TZNAME:CEST
DTSTART:20260329T010000
END:DAYLIGHT
BEGIN:STANDARD
TZOFFSETFROM:+0200
TZOFFSETTO:+0100
TZNAME:CET
DTSTART:20261025T010000
END:STANDARD
END:VTIMEZONE
BEGIN:VEVENT
DTSTART;TZID=UTC:20251003T080000
DTEND;TZID=UTC:20251003T170000
DTSTAMP:20260423T003936
CREATED:20251004T133442Z
LAST-MODIFIED:20251004T133443Z
UID:3688-1759478400-1759510800@larpseason.com
SUMMARY:Petty Kingdoms Event 3
DESCRIPTION:
URL:https://larpseason.com/event/petty-kingdoms-event-3/
LOCATION:Hive Shrewsbury\, Hive Shrewsbury
CATEGORIES:Parlour LARPs,UK LARPs
END:VEVENT
BEGIN:VEVENT
DTSTART;TZID=UTC:20251003T080000
DTEND;TZID=UTC:20251005T170000
DTSTAMP:20260423T003936
CREATED:20241006T104017Z
LAST-MODIFIED:20251005T145432Z
UID:2565-1759478400-1759683600@larpseason.com
SUMMARY:Wilde Realms E4: Fire in the Sky
DESCRIPTION:
URL:https://larpseason.com/event/wilde-realms-event-4/
LOCATION:Ross Wood Campsite\, Ross Wood Campsite\, New Rd.\, Herne Bay
CATEGORIES:UK LARPs,Weekend LARPs
END:VEVENT
BEGIN:VEVENT
DTSTART;TZID=UTC:20251003T080000
DTEND;TZID=UTC:20251005T170000
DTSTAMP:20260423T003936
CREATED:20241011T154732Z
LAST-MODIFIED:20241011T154733Z
UID:2665-1759478400-1759683600@larpseason.com
SUMMARY:Arrivals: Light of Discovery
DESCRIPTION:
URL:https://larpseason.com/event/arrivals-light-of-discovery/
LOCATION:Root ‘n’ Branch Acres\, Root 'n' Branch Acres\, Solihull\, B92 0HQ\, UK
CATEGORIES:UK LARPs,Weekend LARPs
END:VEVENT
BEGIN:VEVENT
DTSTART;TZID=UTC:20251003T080000
DTEND;TZID=UTC:20251005T170000
DTSTAMP:20260423T003936
CREATED:20250202T220111Z
LAST-MODIFIED:20250202T220112Z
UID:2864-1759478400-1759683600@larpseason.com
SUMMARY:Anomalous LARP E1
DESCRIPTION:+++ FIELD INCIDENT: BIRCH HALL SCOUT CAMP – SCARBOROUGH +++Following multiple corroborated reports of unexplained phenomena at Birch Hall Scout Camp – Scarborough\, North Yorkshire – the Cross Foundation is dispatching a large scale incident team to investigate and contain the situation.Presence of multiple anomalies is high\, and risk to local civilian population is also high: be prepared.C. McIvan – Regional Logistics Manager
URL:https://larpseason.com/event/anomalous-larp-e1/
LOCATION:Birch Hall Scout Campsite\, Birch Hall Scout Campsite\, Langdale End\, Scarborough\, North Yorkshire\, YO13 0BW\, United Kingdom
CATEGORIES:UK LARPs,Weekend LARPs
END:VEVENT
BEGIN:VEVENT
DTSTART;TZID=UTC:20251003T080000
DTEND;TZID=UTC:20251005T170000
DTSTAMP:20260423T003936
CREATED:20250219T214346Z
LAST-MODIFIED:20250219T214347Z
UID:3384-1759478400-1759683600@larpseason.com
SUMMARY:Empire: Calvary's End (player event)
DESCRIPTION:A philosophical exploration of the value of morality\, legality and Virtue. The qualities of cruelty and mercy. The candour of the Imperial State. \n\n\n\nThis event will feature high-peril\, inconsistent combat\, and heavy elements of traumatic roleplay. Designed with the intent to promote player agency\, this event will enable players to focus on; ethical dilemmas and human scenarios affecting a population that has recently come under Imperial control.
URL:https://larpseason.com/event/empire-calvarys-end-player-event/
LOCATION:Gunman Airsoft Eversley Alpha\, Gunman Airsoft - Eversley The Welsh Dr (Off A327) Hook\, Hampshire RG27 0PX United Kingdom
CATEGORIES:Empire Sanctioned,Sanctioned Events,UK LARPs
END:VEVENT
BEGIN:VEVENT
DTSTART;TZID=UTC:20251003T080000
DTEND;TZID=UTC:20251005T170000
DTSTAMP:20260423T003936
CREATED:20250219T214847Z
LAST-MODIFIED:20250219T214848Z
UID:3394-1759478400-1759683600@larpseason.com
SUMMARY:Lumen: The Journey to Hope
DESCRIPTION:Lumen is a larp about a group of seeming strangers – the seekers – who attend a retreat at a mysterious location known only as Hope. There is magic to be found at Hope\, for those who truly need it. Through unorthodox rituals and mystical practices the seekers confront their deepest struggles and guide others through processes of transformation. Secrets unravel\, bonds form\, and relationships are tested. Will they find healing – or something far more unexpected? \n\n\n\nEmbrace the journey of change\, build a community\, support others\, and rediscover hope in this unique\, immersive experience. Lumen is designed to teach elements of transformational analog role-playing game design through play itself.
URL:https://larpseason.com/event/lumen-the-journey-to-hope/
LOCATION:Convento Dell’incontro\, Convento Dell'incontro
CATEGORIES:International LARPs
END:VEVENT
BEGIN:VEVENT
DTSTART;TZID=UTC:20251003T080000
DTEND;TZID=UTC:20251005T170000
DTSTAMP:20260423T003936
CREATED:20251004T130712Z
LAST-MODIFIED:20251004T130713Z
UID:3627-1759478400-1759683600@larpseason.com
SUMMARY:Empire: Salt and Silence: An Ossium Story (player event)
DESCRIPTION:
URL:https://larpseason.com/event/empire-salt-and-silence-an-ossium-story-player-event/
LOCATION:The Green\, Ubbeston\, The Green\, Ubbeston\, Halesworth\, Suffolk\, IP19 0HB
CATEGORIES:Empire Sanctioned,Sanctioned Events,UK LARPs
END:VEVENT
BEGIN:VEVENT
DTSTART;TZID=UTC:20251003T080000
DTEND;TZID=UTC:20251005T170000
DTSTAMP:20260423T003936
CREATED:20251004T135306Z
LAST-MODIFIED:20251004T135544Z
UID:3714-1759478400-1759683600@larpseason.com
SUMMARY:Hard Law: Run 2
DESCRIPTION:
URL:https://larpseason.com/event/hard-law-run-2/
LOCATION:Deadwood Town\, Wattlehurst Farm\, Horsham\, West Sussex
CATEGORIES:UK LARPs,Weekend LARPs
END:VEVENT
BEGIN:VEVENT
DTSTART;TZID=Europe/Paris:20251003T080000
DTEND;TZID=Europe/Paris:20251005T170000
DTSTAMP:20260423T003936
CREATED:20251006T204319Z
LAST-MODIFIED:20251006T204319Z
UID:3801-1759478400-1759683600@larpseason.com
SUMMARY:Witan Larp: The Path of Ashes (E3)
DESCRIPTION:
URL:https://larpseason.com/event/witan-larp-the-path-of-ashes-e3/
LOCATION:Welton Waters Adventure Centre\, Welton Waters Adventure Centre
CATEGORIES:UK LARPs,Weekend LARPs
END:VEVENT
BEGIN:VEVENT
DTSTART;TZID=Europe/Paris:20251003T080000
DTEND;TZID=Europe/Paris:20251005T170000
DTSTAMP:20260423T003936
CREATED:20251006T205045Z
LAST-MODIFIED:20251006T205046Z
UID:3815-1759478400-1759683600@larpseason.com
SUMMARY:High Frontier: The Weyland Factor
DESCRIPTION:
URL:https://larpseason.com/event/high-frontier-the-weyland-factor/
LOCATION:The Grange\, Frogmore Grange\, Frog lane Balsall Common Coventry Warwickshire CV7 7FP United Kingdom
CATEGORIES:UK LARPs,Weekend LARPs
END:VEVENT
BEGIN:VEVENT
DTSTART;TZID=UTC:20251004T080000
DTEND;TZID=UTC:20251004T170000
DTSTAMP:20260423T003936
CREATED:20250902T101818Z
LAST-MODIFIED:20250902T101819Z
UID:3588-1759564800-1759597200@larpseason.com
SUMMARY:Jaeger Event 1.5: Not All Returned
DESCRIPTION:
URL:https://larpseason.com/event/jaeger-event-1-5-not-all-returned/
LOCATION:Donington Park Farmhouse Hotel\, Donington Park Farmhouse Hotel
CATEGORIES:Parlour LARPs,UK LARPs
END:VEVENT
BEGIN:VEVENT
DTSTART;TZID=UTC:20251004T080000
DTEND;TZID=UTC:20251007T170000
DTSTAMP:20260423T003936
CREATED:20250202T211423Z
LAST-MODIFIED:20250202T211423Z
UID:2835-1759564800-1759856400@larpseason.com
SUMMARY:Strike the Colours
DESCRIPTION:The Golden Age of Piracy is over. Peace in Europe and the powers of Spain\, England and France have ousted the pirate threat from the Caribbean. One ship flees to its former home in the Baltic Sea. Their future looks bleak\, for this is centuries since the time of the Likedeelers whose names have faded into legend.Now predators have become prey and crewmate turns against crewmate in a struggle to make it out alive. How far are you willing to go to protect your way of life and all that you hold dear? What will win between loyalty to your crew\, the call of treasure or the temptation of freedom? What meaning does life have for you if piracy is no longer possible?Strike the Colours is a Nordic-inspired larp played on a real sailing ship on the Baltic Sea. Prepare to experience deadly adventure\, explore the kinship of swashbucklers\, sing shanties with salty seadogs and brace yourself for the tides of change.Location: aboard the Pippilotta\, starting from Kappeln then sailing to various locations on the Baltic SeaFurther details coming soon!
URL:https://larpseason.com/event/strike-the-colours/
CATEGORIES:International LARPs
END:VEVENT
BEGIN:VEVENT
DTSTART;TZID=Europe/Paris:20251006T080000
DTEND;TZID=Europe/Paris:20251006T170000
DTSTAMP:20260423T003936
CREATED:20251006T215537Z
LAST-MODIFIED:20251006T215538Z
UID:3880-1759737600-1759770000@larpseason.com
SUMMARY:Archaeus LARP: The Pursuit of Justice
DESCRIPTION:
URL:https://larpseason.com/event/archaeus-larp-the-pursuit-of-justice/
LOCATION:Goblin Combe Lodge\, Goblin Combe Lodge Cleeve Hill Road Cleeve Bristol BS40 5PP
CATEGORIES:UK LARPs,Weekend LARPs
END:VEVENT
BEGIN:VEVENT
DTSTART;TZID=UTC:20251010T080000
DTEND;TZID=UTC:20251012T170000
DTSTAMP:20260423T003936
CREATED:20240918T152517Z
LAST-MODIFIED:20251005T145233Z
UID:2501-1760083200-1760288400@larpseason.com
SUMMARY:DreamLands Event 2
DESCRIPTION:
URL:https://larpseason.com/event/dreamlands-event-2/
LOCATION:The Grange\, Frogmore Grange\, Frog lane Balsall Common Coventry Warwickshire CV7 7FP United Kingdom
CATEGORIES:UK LARPs,Weekend LARPs
END:VEVENT
BEGIN:VEVENT
DTSTART;TZID=UTC:20251010T080000
DTEND;TZID=UTC:20251012T170000
DTSTAMP:20260423T003936
CREATED:20241007T191431Z
LAST-MODIFIED:20241018T191724Z
UID:2594-1760083200-1760288400@larpseason.com
SUMMARY:Warriors of Middle Earth Event 2
DESCRIPTION:The Rangers of Fort Narwain have won their battle against the Nazgûl and its orc horde\, but no victory songs shall be sung today… \n\n\n\nThey have mended their fort\, buried their dead\, and a sense of regular life has returned—yet some wounds never fade… \n\n\n\nA year has passed. Some have stayed to support the fort\, some have left to gather more aid\, and some can never leave behind the memory of the battle… \n\n\n\nThe Palantír has been sent off to Rivendell for safekeeping\, though it\, too\, has left its mark… \n\n\n\nA new captain has taken command\, and a time of peace lies ahead—though only for a short while… \n\n\n\nFamiliar faces return to the fort\, and more answer the call. From all over Middle-earth\, many have come to celebrate the simple life… \n\n\n\nA hobbit’s birthday celebration may be the beginning of many tales… \n\n\n\nWarriors of Middle-earth returns on 10th – 12th of October 2025 at Duncarron Medieval village \n\n\n\nTickets will go on sale 01/03/2025 at 7pm on our new website which is still being worked on but we will share more information when we have it\, let’s start spreading the word and get excited for another amazing event
URL:https://larpseason.com/event/warriors-of-middle-earth-event-2/
LOCATION:Duncarron Medieval Village\, Duncarron Medieval Village\, Denny FK6 5JL
CATEGORIES:UK LARPs,Weekend LARPs
END:VEVENT
BEGIN:VEVENT
DTSTART;TZID=UTC:20251010T080000
DTEND;TZID=UTC:20251012T170000
DTSTAMP:20260423T003936
CREATED:20241009T155215Z
LAST-MODIFIED:20241009T155216Z
UID:2640-1760083200-1760288400@larpseason.com
SUMMARY:Outlaw
DESCRIPTION:
URL:https://larpseason.com/event/outlaw-2/
LOCATION:Gunman Airsoft Eversley Alpha\, Gunman Airsoft - Eversley The Welsh Dr (Off A327) Hook\, Hampshire RG27 0PX United Kingdom
CATEGORIES:UK LARPs,Weekend LARPs
END:VEVENT
BEGIN:VEVENT
DTSTART;TZID=UTC:20251010T080000
DTEND;TZID=UTC:20251012T170000
DTSTAMP:20260423T003936
CREATED:20241114T132407Z
LAST-MODIFIED:20241114T132407Z
UID:2721-1760083200-1760288400@larpseason.com
SUMMARY:The Whitewood Files: The Abbey Mystery
DESCRIPTION:My dear friends\, colleagues and fellow scholars of the unknown\, \n\n\n\nYou have my most sincere apologies for my silence as of late\, I have made some truly remarkable progress in my investigations on the nature of our world and others beyond it and I have found myself utterly consumed. \n\n\n\nI find the clean air of the Lake District to be much suited to my scholarly inquiries and constitution and can become so engrossed in my work that I lose all cognisance of the passage of time. \n\n\n\nI cordially invite you to my estate\, Whitewood Abbey\, for a relaxing weekend of study\, debate\, and intellectual pursuits pertaining to the occult and border sciences. \n\n\n\nIt is my hope that by this time I will have been able to put into words the progress I have made to share with you all. \n\n\n\nI hope to see you again soon\, \n\n\n\nSincerely\, \n\n\n\nProfessor Abraham Solomon Grimwood
URL:https://larpseason.com/event/the-whitewood-files-the-abbey-mystery/
LOCATION:The Birks\, The Birks Field Centre\, Duddon Valley\, Seathwaite\, Cumbria LA20 6EF
CATEGORIES:UK LARPs,Weekend LARPs
END:VEVENT
BEGIN:VEVENT
DTSTART;TZID=UTC:20251010T080000
DTEND;TZID=UTC:20251012T170000
DTSTAMP:20260423T003936
CREATED:20250214T190438Z
LAST-MODIFIED:20250214T190439Z
UID:3255-1760083200-1760288400@larpseason.com
SUMMARY:Diaspora Event 6 - Morel Quandaries
DESCRIPTION:
URL:https://larpseason.com/event/diaspora-event-6-morel-quandaries/
LOCATION:Raywell Park Scout Activity Centre\, Raywell Park Scout Activity Centre\, Riplingham Rd\, Raywell\, Cottingham HU16 5YL
CATEGORIES:UK LARPs,Weekend LARPs
END:VEVENT
BEGIN:VEVENT
DTSTART;TZID=Europe/Paris:20251010T080000
DTEND;TZID=Europe/Paris:20251012T170000
DTSTAMP:20260423T003936
CREATED:20251006T210613Z
LAST-MODIFIED:20251026T170601Z
UID:3837-1760083200-1760288400@larpseason.com
SUMMARY:THE PITS - Labyrinth of the Lost
DESCRIPTION:
URL:https://larpseason.com/event/the-pits-labyrinth-of-the-lost/
LOCATION:Chislehurst Caves\, Chislehurst Caves\, Caveside Cl\, Old Hill\, Chislehurst BR7 5NL
CATEGORIES:Blockbuster LARPs,UK LARPs,Weekend LARPs
END:VEVENT
BEGIN:VEVENT
DTSTART;TZID=Europe/Paris:20251010T080000
DTEND;TZID=Europe/Paris:20251012T170000
DTSTAMP:20260423T003936
CREATED:20251006T213809Z
LAST-MODIFIED:20251006T213810Z
UID:3866-1760083200-1760288400@larpseason.com
SUMMARY:LT Sanctioned: Blood Red Ruby: Return to the Massacre
DESCRIPTION:
URL:https://larpseason.com/event/lt-sanctioned-blood-red-ruby-return-to-the-massacre/
LOCATION:Huntley Wood\, Huntley Wood
CATEGORIES:Lorien Trust Sanctioned,Sanctioned Events,UK LARPs
END:VEVENT
BEGIN:VEVENT
DTSTART;TZID=Europe/Paris:20251010T080000
DTEND;TZID=Europe/Paris:20251012T170000
DTSTAMP:20260423T003936
CREATED:20251026T173150Z
LAST-MODIFIED:20251026T173151Z
UID:4097-1760083200-1760288400@larpseason.com
SUMMARY:Dark Shadows and Brilliant Highlights - Event 5: The Last Light of the Sun
DESCRIPTION:
URL:https://larpseason.com/event/dark-shadows-and-brilliant-highlights-event-5-the-last-light-of-the-sun/
LOCATION:Birch Hall Scout Campsite\, Birch Hall Scout Campsite\, Langdale End\, Scarborough\, North Yorkshire\, YO13 0BW\, United Kingdom
CATEGORIES:UK LARPs,Weekend LARPs
END:VEVENT
BEGIN:VEVENT
DTSTART;TZID=UTC:20251011T080000
DTEND;TZID=UTC:20251011T170000
DTSTAMP:20260423T003936
CREATED:20251004T130849Z
LAST-MODIFIED:20251004T130850Z
UID:3631-1760169600-1760202000@larpseason.com
SUMMARY:Empire: Sigehold's Feast of Storms 387YE
DESCRIPTION:
URL:https://larpseason.com/event/empire-sigeholds-feast-of-storms-387ye/
LOCATION:Holiday Inn Bolton Centre\, Holiday Inn Bolton Centre
CATEGORIES:Empire Sanctioned,Sanctioned Events,UK LARPs
END:VEVENT
BEGIN:VEVENT
DTSTART;TZID=Europe/Paris:20251011T180000
DTEND;TZID=Europe/Paris:20251011T233000
DTSTAMP:20260423T003936
CREATED:20251006T204142Z
LAST-MODIFIED:20251006T204142Z
UID:3795-1760205600-1760225400@larpseason.com
SUMMARY:As Night Falls: The Auction
DESCRIPTION:As Night Falls: The Auction is a rules-light live roleplay (LARP) set in the modern day. This will be a purely social-based LARP\, with zero combat\, allowing participants the opportunity to immerse themselves in the bloody world of vampire politics\, within a gothic stately home. \n\n\n\nPresented as part of The Derby Dracula\, an AHRC-funded research project led by the University of Derby in partnership with Derby Museums\, Derby Theatre\, Bournemouth University and Sheffield Hallam University. A series of public workshops and events that connect the city with the world’s most famous vampire.
URL:https://larpseason.com/event/as-night-falls-the-auction/
LOCATION:Elvaston Castle\, Derby\, Elvaston Castle\, Derby
CATEGORIES:Parlour LARPs,UK LARPs
END:VEVENT
BEGIN:VEVENT
DTSTART;TZID=UTC:20251013T080000
DTEND;TZID=UTC:20251017T170000
DTSTAMP:20260423T003936
CREATED:20241215T185420Z
LAST-MODIFIED:20250202T221615Z
UID:2788-1760342400-1760720400@larpseason.com
SUMMARY:Liminal Domain
DESCRIPTION:When a Witchards’ time comes to an end\, their Essence is whisked away to the Liminal Domain\, where they are sorted back to the flow of the universe and continue their journey in a new existence… \n\n\n\n“So\, you’ve died. Unexpected\, perhaps\, or possibly right on schedule. And rather than finding yourself before any gatekeeper or in a pit of poetic justice\, you’ve arrived somewhere… stranger. A peculiar sort of nowhere called the Liminal Domain\, floating outside the boundaries of time and space\, guarded by Dragons\, where Essences of passed Witchards and other magical beings gather\, caught in an in-between place where unfinished business\, old regrets\, and unexpected revelations await.” \n\n\n\nYou\, dear player\, are hereby invited to roam this delightful cosmic waystation. \n\n\n\nBe an Essence trying to sort out your unfinished business. (beginners friendly) \n\n\n\nBe a Guide who’s not quite ready to move on but is more than happy to meddle in the lives (afterlives?) of others. \n\n\n\nBe a Passer with the unenviable task of deciding where these Essences will go next\, all while avoiding an existential crisis of your own. \n\n\n\nJoin us for a time of whimsy\, a pinch of existential dread and a last dance. There’ll be strange assemblies\, curious trials\, and a bar (because what’s an afterlife without a drink or two?). \n\n\n\nDeath is just the beginning. And how do you choose to navigate what comes after? Well\, that’s entirely up to you.
URL:https://larpseason.com/event/liminal-domain/
LOCATION:Ehrenfels Castle\, Sils Switzerland\, Ehrenfels Castle\, Sils Switzerland
CATEGORIES:International LARPs
END:VEVENT
BEGIN:VEVENT
DTSTART;TZID=Europe/Paris:20251016T080000
DTEND;TZID=Europe/Paris:20251019T170000
DTSTAMP:20260423T003936
CREATED:20251026T174617Z
LAST-MODIFIED:20251026T174617Z
UID:4125-1760601600-1760893200@larpseason.com
SUMMARY:Purges
DESCRIPTION:There’s only a few days left until the Central Congress of the Party. While the Leader is busy working in his office\, politicians from individual Soviet republics gather in his vicinity. Agitators\, artists\, ideologues\, academics\, NKVD agents\, soldiers and representatives of foreign Communist parties are all vying for The Leader’s approval. They are eager to prove to the Congress that they can fulfil the Leader’s will better than anyone else. \n\n\n\nBe vigilant! The real enemies of the revolution could be hiding ANYWHERE! \n\n\n\nPurges is a darkly comedic LARP inspired both by the totalitarian regimes and modern party politics\, for ~40 players\, by Rolling International
URL:https://larpseason.com/event/purges/
LOCATION:Old Military Hospital\, Terezín\, Czechia\, Principova alej 304\, 411 55 Terezín\, Czechia
CATEGORIES:International LARPs
END:VEVENT
BEGIN:VEVENT
DTSTART;TZID=UTC:20251017T080000
DTEND;TZID=UTC:20251019T170000
DTSTAMP:20260423T003936
CREATED:20241008T183731Z
LAST-MODIFIED:20241008T183731Z
UID:2612-1760688000-1760893200@larpseason.com
SUMMARY:Tales LARP Chapter 35: Market Forces
DESCRIPTION:
URL:https://larpseason.com/event/tales-larp-chapter-35-market-forces/
LOCATION:Ross Wood Campsite\, Ross Wood Campsite\, New Rd.\, Herne Bay
CATEGORIES:UK LARPs,Weekend LARPs
END:VEVENT
BEGIN:VEVENT
DTSTART;TZID=Europe/Paris:20251019T080000
DTEND;TZID=Europe/Paris:20251019T170000
DTSTAMP:20260423T003936
CREATED:20251006T214959Z
LAST-MODIFIED:20251006T214959Z
UID:3872-1760860800-1760893200@larpseason.com
SUMMARY:Furthest Frontiers: Halo: Contingency (Game 7)
DESCRIPTION:
URL:https://larpseason.com/event/furthest-frontiers-halo-contingency-game-7/
LOCATION:Ultimate Wargames\, Ultimate Wargames\, school lane\, kent
CATEGORIES:UK LARPs
END:VEVENT
BEGIN:VEVENT
DTSTART;TZID=UTC:20251021T080000
DTEND;TZID=UTC:20251025T170000
DTSTAMP:20260423T003936
CREATED:20250214T185341Z
LAST-MODIFIED:20250214T185342Z
UID:3235-1761033600-1761411600@larpseason.com
SUMMARY:Mayfair – A Regency Fantasy Larp: Run 1
DESCRIPTION:Welcome to the year 1815 and to Mayfair\, one of the most fashionable parts of London. During this year’s social season\, eligible young people and their parents will spend their mornings on social calls\, afternoons with activities in the park\, and evenings at extravagant dinners and romantic balls. It’s time for the young people to fall in love and to make their families proud by securing good matches. Sometimes those two are not compatible. \n\n\n\nMayfair is a larp about romance\, family\, stories\, and the London season. It is inspired by the romantic takes on regency society that can be found in shows such as Bridgerton and Sanditon and at larps such as Social Season\, Lies & Liability\, and Banbury Tales. Mayfair is not a historically accurate event\, but rather uses the popular culture perception of the Regency era to create a vibes-based setting. Therefore\, we are calling it a Regency fantasy larp. This also means that costumes do not need to be period-appropriate and that this might be the time to pull out costumes that fit the general silhouette but are made of very unhistoric materials or where you incorporate slightly earlier or later fashion in your character’s wardrobe.
URL:https://larpseason.com/event/mayfair-a-regency-fantasy-larp-run-1/
LOCATION:Úsobí Castle\, Úsobí Castle\, Czech Republic
CATEGORIES:International LARPs
END:VEVENT
BEGIN:VEVENT
DTSTART;TZID=UTC:20251023T080000
DTEND;TZID=UTC:20251026T170000
DTSTAMP:20260423T003936
CREATED:20240513T182810Z
LAST-MODIFIED:20240513T182811Z
UID:2355-1761206400-1761498000@larpseason.com
SUMMARY:Whispering Isle
DESCRIPTION:“To Whispering Isle\, where faeries playStray not or you will lose your way;For faeries there\, with wily game\,Will bind your soul and steal your name…“Fae vs. mortals\, an ancient struggle that haunts nursery rhymes since the dawn of time. \n\n\n\nWhere does true power lie? Is it in ancient magic and favours granted by moonlight? Or in the power of love\, forgiveness\, and compassion? \n\n\n\nIn October 2025\, for three fabulous nights filled with dancing\, secrets\, and magic\, the supernatural will meet the mundane – and none of them will ever be the same.
URL:https://larpseason.com/event/whispering-isle/
LOCATION:Moszna Castle\, Moszna Castle\, POLAND
CATEGORIES:International LARPs
END:VEVENT
BEGIN:VEVENT
DTSTART;TZID=UTC:20251024T080000
DTEND;TZID=UTC:20251026T170000
DTSTAMP:20260423T003936
CREATED:20241210T214033Z
LAST-MODIFIED:20241210T214034Z
UID:2778-1761292800-1761498000@larpseason.com
SUMMARY:Dumnonni Chronicles Samhain
DESCRIPTION:
URL:https://larpseason.com/event/dumnonni-chronicles-samhain-2/
LOCATION:Dumnonni\, Dumnonni\, Okehampton\, EX20 3QZ
CATEGORIES:UK LARPs,Weekend LARPs
END:VEVENT
END:VCALENDAR