BEGIN:VCALENDAR
VERSION:2.0
PRODID:-//LARP SEASON - ECPv6.15.20//NONSGML v1.0//EN
CALSCALE:GREGORIAN
METHOD:PUBLISH
X-WR-CALNAME:LARP SEASON
X-ORIGINAL-URL:https://larpseason.com
X-WR-CALDESC:Events for LARP SEASON
REFRESH-INTERVAL;VALUE=DURATION:PT1H
X-Robots-Tag:noindex
X-PUBLISHED-TTL:PT1H
BEGIN:VTIMEZONE
TZID:UTC
BEGIN:STANDARD
TZOFFSETFROM:+0000
TZOFFSETTO:+0000
TZNAME:UTC
DTSTART:20240101T000000
END:STANDARD
END:VTIMEZONE
BEGIN:VTIMEZONE
TZID:Europe/Paris
BEGIN:DAYLIGHT
TZOFFSETFROM:+0100
TZOFFSETTO:+0200
TZNAME:CEST
DTSTART:20240331T010000
END:DAYLIGHT
BEGIN:STANDARD
TZOFFSETFROM:+0200
TZOFFSETTO:+0100
TZNAME:CET
DTSTART:20241027T010000
END:STANDARD
BEGIN:DAYLIGHT
TZOFFSETFROM:+0100
TZOFFSETTO:+0200
TZNAME:CEST
DTSTART:20250330T010000
END:DAYLIGHT
BEGIN:STANDARD
TZOFFSETFROM:+0200
TZOFFSETTO:+0100
TZNAME:CET
DTSTART:20251026T010000
END:STANDARD
BEGIN:DAYLIGHT
TZOFFSETFROM:+0100
TZOFFSETTO:+0200
TZNAME:CEST
DTSTART:20260329T010000
END:DAYLIGHT
BEGIN:STANDARD
TZOFFSETFROM:+0200
TZOFFSETTO:+0100
TZNAME:CET
DTSTART:20261025T010000
END:STANDARD
END:VTIMEZONE
BEGIN:VEVENT
DTSTART;TZID=UTC:20250814T080000
DTEND;TZID=UTC:20250817T170000
DTSTAMP:20260423T023921
CREATED:20250214T202106Z
LAST-MODIFIED:20250214T202107Z
UID:3279-1755158400-1755450000@larpseason.com
SUMMARY:Become Human v2
DESCRIPTION:
URL:https://larpseason.com/event/become-human-v2/
LOCATION:ZSA Bleiche\, ZSA Bleiche\, Switzerland
CATEGORIES:International LARPs
END:VEVENT
BEGIN:VEVENT
DTSTART;TZID=UTC:20250808T080000
DTEND;TZID=UTC:20250810T170000
DTSTAMP:20260423T023921
CREATED:20250219T213805Z
LAST-MODIFIED:20250219T213806Z
UID:3374-1754640000-1754845200@larpseason.com
SUMMARY:Stargate LRP: Event 2
DESCRIPTION:
URL:https://larpseason.com/event/stargate-lrp-event-2/
LOCATION:Silverwood Scout Camp\, Silverwood Scout Camp\, Barnsley Road Silkstone South Yorkshire S75
CATEGORIES:UK LARPs,Weekend LARPs
END:VEVENT
BEGIN:VEVENT
DTSTART;TZID=UTC:20250808T080000
DTEND;TZID=UTC:20250810T170000
DTSTAMP:20260423T023921
CREATED:20250214T185052Z
LAST-MODIFIED:20250214T185053Z
UID:3231-1754640000-1754845200@larpseason.com
SUMMARY:Pieces of Eight: Event 1
DESCRIPTION:
URL:https://larpseason.com/event/pieces-of-eight-event-1/
LOCATION:Kinver Scout Camp\, Kinver Scout Camp\, The Compa\, Kinver\, Stourbridge DY7 6HR
CATEGORIES:UK LARPs,Weekend LARPs
END:VEVENT
BEGIN:VEVENT
DTSTART;TZID=UTC:20250808T080000
DTEND;TZID=UTC:20250810T170000
DTSTAMP:20260423T023921
CREATED:20250202T212835Z
LAST-MODIFIED:20250202T212836Z
UID:2862-1754640000-1754845200@larpseason.com
SUMMARY:Ancient Tides: The Outbreak
DESCRIPTION:
URL:https://larpseason.com/event/ancient-tides-the-outbreak/
LOCATION:Root ‘n’ Branch Acres\, Root 'n' Branch Acres\, Solihull\, B92 0HQ\, UK
CATEGORIES:UK LARPs,Weekend LARPs
END:VEVENT
BEGIN:VEVENT
DTSTART;TZID=UTC:20250808T080000
DTEND;TZID=UTC:20250810T170000
DTSTAMP:20260423T023921
CREATED:20241009T073632Z
LAST-MODIFIED:20241220T170545Z
UID:2620-1754640000-1754845200@larpseason.com
SUMMARY:Ardent Spacers Event 1
DESCRIPTION:
URL:https://larpseason.com/event/ardent-spacers-event-1/
LOCATION:Leslie Sell Activity Centre\, Leslie Sell Activity Centre\, Bedford
CATEGORIES:UK LARPs,Weekend LARPs
END:VEVENT
BEGIN:VEVENT
DTSTART;TZID=UTC:20250808T080000
DTEND;TZID=UTC:20250809T170000
DTSTAMP:20260423T023921
CREATED:20240904T184413Z
LAST-MODIFIED:20240904T184414Z
UID:2448-1754640000-1754758800@larpseason.com
SUMMARY:Immersion Larp Festival
DESCRIPTION:
URL:https://larpseason.com/event/immersion-larp-festival-2/
LOCATION:Tehdas Teatteri\, Tehdas Teatteri\, Turku
CATEGORIES:International Conventions & Festivals,International LARPs
END:VEVENT
BEGIN:VEVENT
DTSTART;TZID=UTC:20250806T080000
DTEND;TZID=UTC:20250810T170000
DTSTAMP:20260423T023921
CREATED:20240902T121811Z
LAST-MODIFIED:20240902T121812Z
UID:2409-1754467200-1754845200@larpseason.com
SUMMARY:ConQuest of Mythodea: Fields of Bones
DESCRIPTION:
URL:https://larpseason.com/event/conquest-of-mythodea-fields-of-bones/
LOCATION:Brokeloh\, Hanover\, 30\, Germany
CATEGORIES:International LARPs
END:VEVENT
BEGIN:VEVENT
DTSTART;TZID=UTC:20250801T160000
DTEND;TZID=UTC:20250802T000000
DTSTAMP:20260423T023921
CREATED:20250203T183829Z
LAST-MODIFIED:20250203T183941Z
UID:2899-1754064000-1754092800@larpseason.com
SUMMARY:The Great Goblin Moot
DESCRIPTION:The Great Goblin Moot \n\n\n\nYou are cordially invited to a night of mischief\, mayhem and chaotisisms! \n\n\n\nThe Great Goblin King has vanished and a new one must be found. But goblin politics is as entirely useless as the goblins themselves\, so this process will likely take a while. \n\n\n\nLuckily\, the decision takes place on the same night as The Great Moot\, where the entire tribe is gathered for godly rituals\, games and merrymaking. But between interpersonal bickering and the nasty\, rusty blades of ambition\, it truly is anyone’s guess who might be unfortunate enough to end out on top. \n\n\n\nBacks will be stabbed\, songs will be gibbered\, and maybe\, just maybe\, a new goblin king will be found. \n\n\n\nJoin us for a night of silly goblin rituals\, competitions benign and deadly\, screaming matches over dysfunctional political systems\, general chaotic tomfoolery and rabble rousing under an uncaring summer sky. \n\n\n\nWhat to expect:\n\n\n\n\nShort and highly perishable characters\n\n\n\nA game designed for humor\n\n\n\nBrief but intense gameplay\n\n\n\nLow effort costume requirements (bodypaint and prosthetics entirely optional)\n\n\n\nA sandbox game where you control what happens during the larp\n\n\n\nNordic Bong; a well planned design aimed specifically at serious ridiculousness\n\n\n\nA steal-everything-but-the-kitchen-sink take on goblin culture and society\n\n\n\nAn outdoor larp in the danish summer\n\n\n\n\nWhat NOT to expect:\n\n\n\n\nA deep and meaningful experience\n\n\n\nHigh levels of preparation and cost\n\n\n\nQuiet moments\n\n\n\nTo live a long and fulfilling goblin life\n\n\n\nAn original take on goblin culture and society\n\n\n\nGetting drunk during the Larp\n\n\n\n\nWhat can you play?\n\n\n\n\nThe few unfortunate human and elven prisoners forced to listen to all this racket (still players though)\n\n\n\n\nGoblins of all kinds of social stations\, including (but not limited to): \n\n\n\n\nPriests\n\n\n\nWarriors\n\n\n\nLaborers\n\n\n\nTinkerers
URL:https://larpseason.com/event/the-great-goblin-moot/
LOCATION:Sneppen lejrplads\, Kalvebod fælled\, Shelter\, Sneppen Lejrplads\, Fasanskoven
CATEGORIES:International LARPs
END:VEVENT
BEGIN:VEVENT
DTSTART;TZID=Europe/Paris:20250801T080000
DTEND;TZID=Europe/Paris:20250803T170000
DTSTAMP:20260423T023921
CREATED:20251006T214200Z
LAST-MODIFIED:20251006T214201Z
UID:3870-1754035200-1754240400@larpseason.com
SUMMARY:PIONEERS: The Ulysses Protocol 2x05 - "Revivification"
DESCRIPTION:
URL:https://larpseason.com/event/pioneers-the-ulysses-protocol-2x05-revivification/
LOCATION:Silverwood Scout Camp\, Silverwood Scout Camp\, Barnsley Road Silkstone South Yorkshire S75
CATEGORIES:UK LARPs,Weekend LARPs
END:VEVENT
BEGIN:VEVENT
DTSTART;TZID=UTC:20250801T080000
DTEND;TZID=UTC:20250803T170000
DTSTAMP:20260423T023921
CREATED:20250219T212523Z
LAST-MODIFIED:20250219T212524Z
UID:3345-1754035200-1754240400@larpseason.com
SUMMARY:The Zone: Event 17
DESCRIPTION:
URL:https://larpseason.com/event/the-zone-event-17/
LOCATION:Giants Seat Scout Camp\, Giants Seat Scout Camp\, Off Ringley Road West\, Radcliffe\, Manchester M26 1DY
CATEGORIES:UK LARPs,Weekend LARPs
END:VEVENT
BEGIN:VEVENT
DTSTART;TZID=UTC:20250801T080000
DTEND;TZID=UTC:20250803T170000
DTSTAMP:20260423T023921
CREATED:20241009T155028Z
LAST-MODIFIED:20241009T155029Z
UID:2636-1754035200-1754240400@larpseason.com
SUMMARY:Flying Lead: TBC (One-Shot)
DESCRIPTION:
URL:https://larpseason.com/event/flying-lead-tbc-one-shot/
LOCATION:Gunman Airsoft Eversley Alpha\, Gunman Airsoft - Eversley The Welsh Dr (Off A327) Hook\, Hampshire RG27 0PX United Kingdom
CATEGORIES:UK LARPs,Weekend LARPs
END:VEVENT
BEGIN:VEVENT
DTSTART;TZID=UTC:20250801T080000
DTEND;TZID=UTC:20250803T170000
DTSTAMP:20260423T023921
CREATED:20240919T160941Z
LAST-MODIFIED:20251006T211322Z
UID:2516-1754035200-1754240400@larpseason.com
SUMMARY:Lorien Trust Summer Moot
DESCRIPTION:
URL:https://larpseason.com/event/lorien-trust-summer-moot-2/
LOCATION:Locko Park\, Locko Park\, Derby
CATEGORIES:Fest LARPs,UK LARPs,Weekend LARPs
END:VEVENT
BEGIN:VEVENT
DTSTART;TZID=UTC:20250801T080000
DTEND;TZID=UTC:20250801T170000
DTSTAMP:20260423T023921
CREATED:20251004T133405Z
LAST-MODIFIED:20251004T133406Z
UID:3686-1754035200-1754067600@larpseason.com
SUMMARY:Petty Kingdoms Event 1
DESCRIPTION:
URL:https://larpseason.com/event/petty-kingdoms-event-1/
LOCATION:Hive Shrewsbury\, Hive Shrewsbury
CATEGORIES:Parlour LARPs,UK LARPs
END:VEVENT
BEGIN:VEVENT
DTSTART;TZID=UTC:20250731T080000
DTEND;TZID=UTC:20250803T170000
DTSTAMP:20260423T023921
CREATED:20250214T184648Z
LAST-MODIFIED:20250214T184649Z
UID:3220-1753948800-1754240400@larpseason.com
SUMMARY:Order of the Amethyst Heart: Run 2
DESCRIPTION:It is the twilight of the world as we knew it. Memory is no longer trustworthy. \n\n\n\n Stories slip through the cracks of the mind\, fracturing the coherence of who we once were. It is said that the wars of the End Times are waged not with steel\, but with attention. Yet\, in this dissolution\, a spark remains. A chosen few—those who still hum with the song-story of consciousness—have gathered to form the Order of the Amethyst Heart\, bound by resonance and the worship of the Inner Ultraviolet. You are among us now. Whether by fate\, faith\, or sheer desperation\, you have chosen this path. We believe the world’s unraveling is not its end but its transformation. We can stitch the fabric of being back together—perhaps into something even better than before. But resonance is fragile. The Weird Unwinding tears at the edges of reality\, and even within the Order\, doubts and discord grow. It is said that only those in true harmony will survive the coming dissolution. The work ahead will demand clarity of purpose. There is no escape from the unraveling. There is no return to what was. There is only the path forward\, through unity and surrender. Will you answer the call?
URL:https://larpseason.com/event/order-of-the-amethyst-heart-run-2/
LOCATION:Elkenmist\, Oregon\, Elkenmist\, Oregon
CATEGORIES:International LARPs
ORGANIZER;CN="The Deep Play Institute":MAILTO:thedeepplayinstitute@gmail.com
END:VEVENT
BEGIN:VEVENT
DTSTART;TZID=UTC:20250726T100000
DTEND;TZID=UTC:20250726T170000
DTSTAMP:20260423T023921
CREATED:20250212T174316Z
LAST-MODIFIED:20250212T174317Z
UID:3017-1753524000-1753549200@larpseason.com
SUMMARY:Age of Essence
DESCRIPTION:
URL:https://larpseason.com/event/age-of-essence-16/
LOCATION:Nonsuch Park\, Nonsuch Mansion House\, Fir Walk\, Epsom\, KT17 2\, United Kingdom
CATEGORIES:Club Games,UK LARPs
END:VEVENT
BEGIN:VEVENT
DTSTART;TZID=UTC:20250725T080000
DTEND;TZID=UTC:20250727T170000
DTSTAMP:20260423T023921
CREATED:20250218T135822Z
LAST-MODIFIED:20250218T135823Z
UID:3328-1753430400-1753635600@larpseason.com
SUMMARY:UKLTA: Only in Death does Duty End
DESCRIPTION:“Several Imperial Guard units are recovering and retraining on the Agri World ‘Trebatha’ in the Tertius sub-sector. \n\n\n\nThe local Planetary Defence Force are few and poorly trained and wary of the ‘professional’ Imperial Guard. \n\n\n\nAn Inquisitor comes to visit from the ‘Ordo Hereticus’. \n\n\n\nEveryone understandably is on edge.” \n\n\n\nIn common with most UKLTA events this will be an ‘open world’ LARP where the players are presented with a situation once in the in-character area and left to roleplay through it organically. We do not run rigidly structured ‘linears’\, the players may freely move about and the game and crew will adapt to them. \n\n\n\nThis LARP is primarily PvE (Player vs Environment) as opposed to PvP (Player vs Player)\, not to say there won’t be some inter-group strife to resolve but the game is written to be primarily collaborative. How this plays out is down to the players. We will have a dedicated crew to provide opposition and sundry non-player characters. \n\n\n\nThere will be a mix of problem solving and tactical ranged combat using the UKLTA’s safe and proven outdoor Laser-Tag technology to resolve ranged combat. While there will be some LARP-safe weapons in the game\, it is essentially non-contact. There are very few traditional LARP ‘calls’ as the Laser-Tag tech handles counting hits and so on. \n\n\n\nPlayer characters will mostly be Imperial Guard\, from Tanith\, Cadian\, Krieg\, or Catachan regiments\, but can also include Tech Priest\, Psyker\, Navigator\, Commissar\, Rogue Trader\, Adeptus Arbites\, Ecclesiatical Priest\, Adepta Sororitas\, and of course the Inquisitor. Player places will be strictly limited. Other player characters\, may be considered but please contact the GMs. \n\n\n\nThere will be no player Space Marine characters!
URL:https://larpseason.com/event/uklta-only-in-death-does-duty-end/
LOCATION:The Grange\, Frogmore Grange\, Frog lane Balsall Common Coventry Warwickshire CV7 7FP United Kingdom
CATEGORIES:UK LARPs,Weekend LARPs
END:VEVENT
BEGIN:VEVENT
DTSTART;TZID=UTC:20250725T080000
DTEND;TZID=UTC:20250727T170000
DTSTAMP:20260423T023921
CREATED:20250212T171939Z
LAST-MODIFIED:20250212T171940Z
UID:2953-1753430400-1753635600@larpseason.com
SUMMARY:Continuum 2025
DESCRIPTION:
URL:https://larpseason.com/event/continuum-2025/
LOCATION:Cranfield Management Development Centre\, Cranfield Management Development Centre
CATEGORIES:Conventions & Festivals
END:VEVENT
BEGIN:VEVENT
DTSTART;TZID=UTC:20250725T080000
DTEND;TZID=UTC:20250727T170000
DTSTAMP:20260423T023921
CREATED:20240919T160055Z
LAST-MODIFIED:20240919T160056Z
UID:2508-1753430400-1753635600@larpseason.com
SUMMARY:Empire Summer Solstice
DESCRIPTION:
URL:https://larpseason.com/event/empire-summer-solstice-2/
LOCATION:Dadford Road Campsite\, Dadford Road Campsite\, Dadford Road\, Stowe\, Silverstone\, Buckinghamshire\, MK18 5LH
CATEGORIES:Fest LARPs,UK LARPs,Weekend LARPs
END:VEVENT
BEGIN:VEVENT
DTSTART;TZID=UTC:20250719T080000
DTEND;TZID=UTC:20250720T170000
DTSTAMP:20260423T023921
CREATED:20250219T222242Z
LAST-MODIFIED:20251026T175457Z
UID:3445-1752912000-1753030800@larpseason.com
SUMMARY:Chaosgate
DESCRIPTION:
URL:https://larpseason.com/event/chaosgate-4/
CATEGORIES:UK LARPs,Weekend LARPs
END:VEVENT
BEGIN:VEVENT
DTSTART;TZID=UTC:20250718T080000
DTEND;TZID=UTC:20250720T170000
DTSTAMP:20260423T023921
CREATED:20241210T213958Z
LAST-MODIFIED:20241210T213958Z
UID:2776-1752825600-1753030800@larpseason.com
SUMMARY:Dumnonni Chronicles Lughasadh
DESCRIPTION:
URL:https://larpseason.com/event/dumnonni-chronicles-lughasadh/
LOCATION:Dumnonni\, Dumnonni\, Okehampton\, EX20 3QZ
CATEGORIES:UK LARPs,Weekend LARPs
END:VEVENT
BEGIN:VEVENT
DTSTART;TZID=UTC:20250718T080000
DTEND;TZID=UTC:20250720T170000
DTSTAMP:20260423T023921
CREATED:20240922T123217Z
LAST-MODIFIED:20240922T123218Z
UID:2524-1752825600-1753030800@larpseason.com
SUMMARY:Fantasy Forest
DESCRIPTION:
URL:https://larpseason.com/event/fantasy-forest-2/
LOCATION:Sudeley Castle\, Sudeley Castle\, Cheltenham
CATEGORIES:Conventions & Festivals
END:VEVENT
BEGIN:VEVENT
DTSTART;TZID=UTC:20250718T080000
DTEND;TZID=UTC:20250720T170000
DTSTAMP:20260423T023921
CREATED:20240909T190100Z
LAST-MODIFIED:20240909T190230Z
UID:2494-1752825600-1753030800@larpseason.com
SUMMARY:Curious Pastimes Event 3
DESCRIPTION:
URL:https://larpseason.com/event/curious-pastimes-event-3-2/
LOCATION:Paccar Scout Camp\, Paccar Scout Camp\, Denham Lane Chalfont St Peter Gerrards Cross\, SL9 0QJ
CATEGORIES:Fest LARPs,UK LARPs,Weekend LARPs
END:VEVENT
BEGIN:VEVENT
DTSTART;TZID=UTC:20250717T080000
DTEND;TZID=UTC:20250720T170000
DTSTAMP:20260423T023921
CREATED:20250219T223021Z
LAST-MODIFIED:20250219T223022Z
UID:3455-1752739200-1753030800@larpseason.com
SUMMARY:Bothwell School of Witchcraft 7: Write No Wrongs
DESCRIPTION:Step into the magical world of Bothwell School of Witchcraft which is gathering for another year of learning\, friendship\, and adventure. \n\n\n\nThis time we delve into the world of stories\, memories\, and the power of words. What makes a tale into a legend? And what happens when we forget or lose the words to our own story?
URL:https://larpseason.com/event/bothwell-school-of-witchcraft-7-write-no-wrongs/
LOCATION:Abbotsholme School\, UK\, Abbotsholme School\, UK
CATEGORIES:Blockbuster LARPs,UK LARPs,Weekend LARPs
END:VEVENT
BEGIN:VEVENT
DTSTART;TZID=Europe/Paris:20250712T080000
DTEND;TZID=Europe/Paris:20250712T170000
DTSTAMP:20260423T023921
CREATED:20251026T172807Z
LAST-MODIFIED:20251026T172808Z
UID:4085-1752307200-1752339600@larpseason.com
SUMMARY:Who Invited the Assassin?
DESCRIPTION:
URL:https://larpseason.com/event/who-invited-the-assassin/
LOCATION:Glasgow University Union\, Glasgow University Union\, 32 University Ave\, G12
CATEGORIES:Parlour LARPs,UK LARPs
END:VEVENT
BEGIN:VEVENT
DTSTART;TZID=Europe/Paris:20250711T080000
DTEND;TZID=Europe/Paris:20250713T170000
DTSTAMP:20260423T023921
CREATED:20251026T172630Z
LAST-MODIFIED:20251026T172631Z
UID:4081-1752220800-1752426000@larpseason.com
SUMMARY:AFOTS - Anthony Leconfield's Riviera Shindig
DESCRIPTION:
URL:https://larpseason.com/event/afots-anthony-leconfields-riviera-shindig/
LOCATION:Mambury House\, Devon\, Mambury House\, Devon
CATEGORIES:Non-Fest Sanctioned,Sanctioned Events,UK LARPs,Weekend LARPs
END:VEVENT
BEGIN:VEVENT
DTSTART;TZID=UTC:20250711T080000
DTEND;TZID=UTC:20250713T170000
DTSTAMP:20260423T023921
CREATED:20250214T180052Z
LAST-MODIFIED:20250214T183325Z
UID:3131-1752220800-1752426000@larpseason.com
SUMMARY:LT: The Face of Betrayal (Tarantulas sanctioned)
DESCRIPTION:
URL:https://larpseason.com/event/lt-the-face-of-betrayal/
LOCATION:Silverwood Scout Camp\, Silverwood Scout Camp\, Barnsley Road Silkstone South Yorkshire S75
CATEGORIES:Lorien Trust Sanctioned,Sanctioned Events,UK LARPs
END:VEVENT
BEGIN:VEVENT
DTSTART;TZID=UTC:20250711T080000
DTEND;TZID=UTC:20250713T170000
DTSTAMP:20260423T023921
CREATED:20241009T154948Z
LAST-MODIFIED:20241009T154949Z
UID:2634-1752220800-1752426000@larpseason.com
SUMMARY:The Forlorn Hope Episode 5
DESCRIPTION:
URL:https://larpseason.com/event/the-forlorn-hope-episode-5/
LOCATION:Gunman Airsoft Eversley Alpha\, Gunman Airsoft - Eversley The Welsh Dr (Off A327) Hook\, Hampshire RG27 0PX United Kingdom
CATEGORIES:UK LARPs,Weekend LARPs
END:VEVENT
BEGIN:VEVENT
DTSTART;TZID=UTC:20250710T080000
DTEND;TZID=UTC:20250713T170000
DTSTAMP:20260423T023921
CREATED:20241007T191032Z
LAST-MODIFIED:20241007T191032Z
UID:2589-1752134400-1752426000@larpseason.com
SUMMARY:Herofest July 2025
DESCRIPTION:
URL:https://larpseason.com/event/herofest-july-2025/
LOCATION:Huntley Wood\, Huntley Wood
CATEGORIES:Fest LARPs,UK LARPs,Weekend LARPs
END:VEVENT
BEGIN:VEVENT
DTSTART;TZID=UTC:20250704T080000
DTEND;TZID=UTC:20250706T170000
DTSTAMP:20260423T023921
CREATED:20251004T130002Z
LAST-MODIFIED:20251004T130003Z
UID:3615-1751616000-1751821200@larpseason.com
SUMMARY:Empire: Welcome to Reikos (player event)
DESCRIPTION:
URL:https://larpseason.com/event/empire-welcome-to-reikos-player-event/
LOCATION:Pardshaw Quaker Centre\, Pardshaw Quaker Centre\, near Cockermouth\, Lake District\, UK
CATEGORIES:Empire Sanctioned,Sanctioned Events,UK LARPs
END:VEVENT
BEGIN:VEVENT
DTSTART;TZID=UTC:20250704T080000
DTEND;TZID=UTC:20250706T170000
DTSTAMP:20260423T023921
CREATED:20250219T214127Z
LAST-MODIFIED:20250219T214128Z
UID:3380-1751616000-1751821200@larpseason.com
SUMMARY:Fabula Rasa E2 2025
DESCRIPTION:
URL:https://larpseason.com/event/fabula-rasa-e2-2025/
LOCATION:Cherrywood Scout Camp\, Cherrywood Campsite\, Arterial Rd\, Purfleet RM19 1TS
CATEGORIES:UK LARPs,Weekend LARPs
END:VEVENT
END:VCALENDAR