BEGIN:VCALENDAR
VERSION:2.0
PRODID:-//LARP SEASON - ECPv6.15.20//NONSGML v1.0//EN
CALSCALE:GREGORIAN
METHOD:PUBLISH
X-WR-CALNAME:LARP SEASON
X-ORIGINAL-URL:https://larpseason.com
X-WR-CALDESC:Events for LARP SEASON
REFRESH-INTERVAL;VALUE=DURATION:PT1H
X-Robots-Tag:noindex
X-PUBLISHED-TTL:PT1H
BEGIN:VTIMEZONE
TZID:UTC
BEGIN:STANDARD
TZOFFSETFROM:+0000
TZOFFSETTO:+0000
TZNAME:UTC
DTSTART:20230101T000000
END:STANDARD
END:VTIMEZONE
BEGIN:VEVENT
DTSTART;TZID=UTC:20241031T080000
DTEND;TZID=UTC:20241103T170000
DTSTAMP:20260424T020931
CREATED:20240311T222653Z
LAST-MODIFIED:20240311T222653Z
UID:1210-1730361600-1730653200@larpseason.com
SUMMARY:STAY
DESCRIPTION:
URL:https://larpseason.com/event/stay/
LOCATION:Teamhaus Boltigen\, Teamhaus Boltigen\, Bälliz 208\, CH – 3766 Boltigen
CATEGORIES:International LARPs
END:VEVENT
BEGIN:VEVENT
DTSTART;TZID=UTC:20240128T100000
DTEND;TZID=UTC:20240128T180000
DTSTAMP:20260424T020931
CREATED:20240316T160842Z
LAST-MODIFIED:20240316T163457Z
UID:2043-1706436000-1706464800@larpseason.com
SUMMARY:F&H Tees Valley
DESCRIPTION:
URL:https://larpseason.com/event/fh-tees-valley/
LOCATION:F&H Tees Valley 54.54398\, -1.14878\, 54.54398\, -1.14878
CATEGORIES:Club Games
END:VEVENT
BEGIN:VEVENT
DTSTART;TZID=UTC:20240128T100000
DTEND;TZID=UTC:20240128T180000
DTSTAMP:20260424T020931
CREATED:20240316T155502Z
LAST-MODIFIED:20240316T164646Z
UID:2012-1706436000-1706464800@larpseason.com
SUMMARY:F&H Guildford
DESCRIPTION:
URL:https://larpseason.com/event/fh-guildford-2/
LOCATION:F&H Guildford 51.32435\, -0.82166\, 51.32435\, -0.82166
CATEGORIES:Club Games
END:VEVENT
BEGIN:VEVENT
DTSTART;TZID=UTC:20240128T100000
DTEND;TZID=UTC:20240128T180000
DTSTAMP:20260424T020931
CREATED:20240316T155258Z
LAST-MODIFIED:20240316T164230Z
UID:2006-1706436000-1706464800@larpseason.com
SUMMARY:F&H Derby
DESCRIPTION:
URL:https://larpseason.com/event/fh-derby-2/
LOCATION:F&H Derby  52.95979\, -1.49394\, 52.95979\, -1.49394
CATEGORIES:Club Games
END:VEVENT
BEGIN:VEVENT
DTSTART;TZID=UTC:20241026T203000
DTEND;TZID=UTC:20241027T000000
DTSTAMP:20260424T020931
CREATED:20240506T131110Z
LAST-MODIFIED:20250214T181248Z
UID:2258-1729974600-1729987200@larpseason.com
SUMMARY:Empire: The Hunter's Feast (player event)
DESCRIPTION:Deep in the wild forests of Axmure is Merciel Keep\, the chief residence of the noble House Merciel. The location is perfect for game hunting and the nobles of this house have a proud tradition of great hunts in those tangled woods\, usually followed with a great feast. This event takes place at such a feast. \n\n\n\nUsually a private affair\, restricted to those who have attended the hunt\, the Earl-Enchanter Agravain du Merciel has decided to send an open invitation to the people of the Empire\, welcoming them to enjoy the revelries of their post-hunt celebrations.
URL:https://larpseason.com/event/the-hunters-feast-an-empire-lrp-player-event/
LOCATION:Merchant Adventurer’s Hall\, 15 Piccadilly\, York\, YO1 9
CATEGORIES:Empire Sanctioned,Sanctioned Events,UK LARPs
END:VEVENT
BEGIN:VEVENT
DTSTART;TZID=UTC:20240127T100000
DTEND;TZID=UTC:20240127T180000
DTSTAMP:20260424T020931
CREATED:20240316T161137Z
LAST-MODIFIED:20240316T163407Z
UID:2051-1706349600-1706378400@larpseason.com
SUMMARY:F&H Norwich
DESCRIPTION:
URL:https://larpseason.com/event/fh-norwich-3/
LOCATION:F&H Norwich 52.64427\, 1.31994\, 52.64427\, 1.31994
CATEGORIES:Club Games
END:VEVENT
BEGIN:VEVENT
DTSTART;TZID=UTC:20240127T100000
DTEND;TZID=UTC:20240127T180000
DTSTAMP:20260424T020931
CREATED:20240316T155650Z
LAST-MODIFIED:20240316T163631Z
UID:2015-1706349600-1706378400@larpseason.com
SUMMARY:F&H Hull
DESCRIPTION:
URL:https://larpseason.com/event/fh-hull/
LOCATION:F&H Hull  53.91675\, -0.85624\, 53.91675\, -0.85624
CATEGORIES:Club Games
END:VEVENT
BEGIN:VEVENT
DTSTART;TZID=UTC:20240127T100000
DTEND;TZID=UTC:20240127T180000
DTSTAMP:20260424T020931
CREATED:20240316T154909Z
LAST-MODIFIED:20240316T163709Z
UID:1998-1706349600-1706378400@larpseason.com
SUMMARY:F&H Black Country
DESCRIPTION:
URL:https://larpseason.com/event/fh-black-country/
LOCATION:F&H Black Country 52.37342\, -2.00985\, 52.37342\, -2.00985
CATEGORIES:Club Games
END:VEVENT
BEGIN:VEVENT
DTSTART;TZID=UTC:20241026T080000
DTEND;TZID=UTC:20241027T170000
DTSTAMP:20260424T020932
CREATED:20240211T220824Z
LAST-MODIFIED:20240211T220825Z
UID:1063-1729929600-1730048400@larpseason.com
SUMMARY:The Key of Dreams: The Shadows Lengthen
DESCRIPTION:As we slip into the shadows in the darker half of the year\, what secrets will be revealed? What mysteries brought to light? And what will be the price of revelation? \n\n\n\nA one of a kind\, overnight\, Lovecraftian\, immersive experience.
URL:https://larpseason.com/event/the-key-of-dreams-the-shadows-lengthen/
LOCATION:Treowen\, Treowen\, Wonastow\, Monmouth\, NP25 4DL
CATEGORIES:Immersive Experience
END:VEVENT
BEGIN:VEVENT
DTSTART;TZID=UTC:20241025T140000
DTEND;TZID=UTC:20241027T140000
DTSTAMP:20260424T020932
CREATED:20240211T152944Z
LAST-MODIFIED:20240316T211450Z
UID:521-1729864800-1730037600@larpseason.com
SUMMARY:Hades 2.0: Episode 3
DESCRIPTION:
URL:https://larpseason.com/event/hades-2-0-episode-3/
LOCATION:Gunman Airsoft Eversley Alpha\, Gunman Airsoft - Eversley The Welsh Dr (Off A327) Hook\, Hampshire RG27 0PX United Kingdom
CATEGORIES:UK LARPs,Weekend LARPs
END:VEVENT
BEGIN:VEVENT
DTSTART;TZID=UTC:20240126T100000
DTEND;TZID=UTC:20240126T180000
DTSTAMP:20260424T020932
CREATED:20240316T160052Z
LAST-MODIFIED:20240316T164927Z
UID:2027-1706263200-1706292000@larpseason.com
SUMMARY:F&H Norwich
DESCRIPTION:
URL:https://larpseason.com/event/fh-norwich-2/
LOCATION:F&H Norwich 52.64427\, 1.31994\, 52.64427\, 1.31994
CATEGORIES:Club Games
END:VEVENT
BEGIN:VEVENT
DTSTART;TZID=UTC:20241025T080000
DTEND;TZID=UTC:20241027T170000
DTSTAMP:20260424T020932
CREATED:20250214T203631Z
LAST-MODIFIED:20250214T203632Z
UID:3301-1729843200-1730048400@larpseason.com
SUMMARY:F&H Winterfest 2024
DESCRIPTION:
URL:https://larpseason.com/event/fh-winterfest-2024/
LOCATION:Silverwood Scout Camp\, Silverwood Scout Camp\, Barnsley Road Silkstone South Yorkshire S75
CATEGORIES:UK LARPs,Weekend LARPs
END:VEVENT
BEGIN:VEVENT
DTSTART;TZID=UTC:20241025T080000
DTEND;TZID=UTC:20241027T170000
DTSTAMP:20260424T020932
CREATED:20240315T211631Z
LAST-MODIFIED:20240316T211446Z
UID:1814-1729843200-1730048400@larpseason.com
SUMMARY:Gritlands G3
DESCRIPTION:
URL:https://larpseason.com/event/gritlands-g3/
LOCATION:HQ Airsoft\, HQ Airsoft\, A164\, Driffield YO25 9EY
CATEGORIES:UK LARPs,Weekend LARPs
END:VEVENT
BEGIN:VEVENT
DTSTART;TZID=UTC:20241025T080000
DTEND;TZID=UTC:20241027T170000
DTSTAMP:20260424T020932
CREATED:20240314T230206Z
LAST-MODIFIED:20240316T211442Z
UID:1567-1729843200-1730048400@larpseason.com
SUMMARY:Dumnonni Chronicles Samhain
DESCRIPTION:
URL:https://larpseason.com/event/dumnonni-chronicles-samhain/
LOCATION:Dumnonni\, Dumnonni\, Okehampton\, EX20 3QZ
CATEGORIES:UK LARPs,Weekend LARPs
END:VEVENT
BEGIN:VEVENT
DTSTART;TZID=UTC:20241025T080000
DTEND;TZID=UTC:20241027T170000
DTSTAMP:20260424T020932
CREATED:20240311T221813Z
LAST-MODIFIED:20240316T211436Z
UID:1202-1729843200-1730048400@larpseason.com
SUMMARY:Heroes and Heroines: Through Hollow Lands
DESCRIPTION:The Protectorates Meddling in the Thornspine Forest has had dangerous consequences\, and they’ve been asked to send help.
URL:https://larpseason.com/event/heroes-and-heroines-through-hollow-lands/
LOCATION:Rough Close Scout Campsite\, Rough Close Scout Campsite\, Tanners Lane Berkswell\, CV7 &DD
CATEGORIES:UK LARPs,Weekend LARPs
END:VEVENT
BEGIN:VEVENT
DTSTART;TZID=UTC:20241025T080000
DTEND;TZID=UTC:20241027T170000
DTSTAMP:20260424T020932
CREATED:20240211T205545Z
LAST-MODIFIED:20240316T211432Z
UID:968-1729843200-1730048400@larpseason.com
SUMMARY:Steamweave: Wintertide
DESCRIPTION:
URL:https://larpseason.com/event/steamweave-wintertide/
LOCATION:The Grange\, Frogmore Grange\, Frog lane Balsall Common Coventry Warwickshire CV7 7FP United Kingdom
CATEGORIES:UK LARPs,Weekend LARPs
END:VEVENT
BEGIN:VEVENT
DTSTART;TZID=UTC:20241025T080000
DTEND;TZID=UTC:20241027T170000
DTSTAMP:20260424T020932
CREATED:20240211T195607Z
LAST-MODIFIED:20240316T211425Z
UID:888-1729843200-1730048400@larpseason.com
SUMMARY:The Zone: Event 14
DESCRIPTION:
URL:https://larpseason.com/event/the-zone-event-14/
LOCATION:Giants Seat Scout Camp\, Giants Seat Scout Camp\, Off Ringley Road West\, Radcliffe\, Manchester M26 1DY
CATEGORIES:UK LARPs,Weekend LARPs
END:VEVENT
BEGIN:VEVENT
DTSTART;TZID=UTC:20241025T080000
DTEND;TZID=UTC:20241027T170000
DTSTAMP:20260424T020932
CREATED:20240211T132304Z
LAST-MODIFIED:20240211T132305Z
UID:377-1729843200-1730048400@larpseason.com
SUMMARY:Sirius 11F84 - Colours of Light 2024
DESCRIPTION:A representative delegation of 4-8 humans is sent to the interstellar association on the planet New Orea after Earth’s first contact\, in order to apply for admission to the association. Here the Earthlings encounter an extraterrestrial\, utopian civilization whose behavior and communication is so different that problems and misunderstandings arise. \n\n\n\nThis experimental edu-larp is about frustrating misunderstandings in another world that take you out of your comfort zone. The larp aims to inspire you to see the world through different eyes and broaden your horizons. The edu-larp shows you beauty\, but it´s not a feel-good larp. \n\n\n\nFor larp newcomers\, it offers guidance to character-play and a plot full of strange encounters. For larp veterans\, the larp offers a space to explore complex character techniques and give life to a mysterious alien species.
URL:https://larpseason.com/event/sirius-11f84-colours-of-light-2024/
LOCATION:Kreativ.Campus\, Kreativ.Campus\, Ewaldstr. 20\, 45699 Herten\, Germany
CATEGORIES:International LARPs
END:VEVENT
BEGIN:VEVENT
DTSTART;TZID=UTC:20241025T080000
DTEND;TZID=UTC:20241027T170000
DTSTAMP:20260424T020932
CREATED:20240210T224457Z
LAST-MODIFIED:20240210T224457Z
UID:126-1729843200-1730048400@larpseason.com
SUMMARY:The Secrets We Keep: Run 14
DESCRIPTION:
URL:https://larpseason.com/event/the-secrets-we-keep-run-14/
LOCATION:Convento dell’Incontro\, Convento dell’Incontro. Bagno a Ripoli\, Florence\, Italy
CATEGORIES:International LARPs
END:VEVENT
BEGIN:VEVENT
DTSTART;TZID=UTC:20241024T080000
DTEND;TZID=UTC:20241025T170000
DTSTAMP:20260424T020932
CREATED:20240211T220727Z
LAST-MODIFIED:20240211T220727Z
UID:1061-1729756800-1729875600@larpseason.com
SUMMARY:The Key of Dreams: The Shadows of Time
DESCRIPTION:As we slip into the shadows in the darker half of the year\, what secrets will be revealed? What mysteries brought to light? And what will be the price of revelation? \n\n\n\nA one of a kind\, overnight\, Lovecraftian\, immersive experience.
URL:https://larpseason.com/event/the-key-of-dreams-the-shadows-of-time/
LOCATION:Treowen\, Treowen\, Wonastow\, Monmouth\, NP25 4DL
CATEGORIES:Immersive Experience
END:VEVENT
BEGIN:VEVENT
DTSTART;TZID=UTC:20241023T080000
DTEND;TZID=UTC:20241027T170000
DTSTAMP:20260424T020932
CREATED:20240210T223228Z
LAST-MODIFIED:20240210T224154Z
UID:105-1729670400-1730048400@larpseason.com
SUMMARY:Sahara Expedition: Run 8
DESCRIPTION:
URL:https://larpseason.com/event/sahara-expedition-run-8/
LOCATION:Sahara Desert\, Tunisia\, Sahara Desert\, Tunisia
CATEGORIES:International LARPs
END:VEVENT
BEGIN:VEVENT
DTSTART;TZID=UTC:20240121T100000
DTEND;TZID=UTC:20240121T180000
DTSTAMP:20260424T020932
CREATED:20240316T160452Z
LAST-MODIFIED:20240316T163527Z
UID:2037-1705831200-1705860000@larpseason.com
SUMMARY:F&H St Helens
DESCRIPTION:
URL:https://larpseason.com/event/fh-st-helens-2/
LOCATION:F&H St Helens 53.54806\, -2.74003\, 53.54806\, -2.74003
CATEGORIES:Club Games
END:VEVENT
BEGIN:VEVENT
DTSTART;TZID=UTC:20240121T100000
DTEND;TZID=UTC:20240121T180000
DTSTAMP:20260424T020932
CREATED:20240315T215112Z
LAST-MODIFIED:20240316T165025Z
UID:1915-1705831200-1705860000@larpseason.com
SUMMARY:F&H Peterborough
DESCRIPTION:
URL:https://larpseason.com/event/fh-peterborough-2/
LOCATION:F&H Peterborough 52.17318\, 0.10212\, 52.17318\, 0.10212
CATEGORIES:Club Games
END:VEVENT
BEGIN:VEVENT
DTSTART;TZID=UTC:20240121T100000
DTEND;TZID=UTC:20240121T180000
DTSTAMP:20260424T020932
CREATED:20240315T215030Z
LAST-MODIFIED:20240316T163755Z
UID:1911-1705831200-1705860000@larpseason.com
SUMMARY:F&H Newcastle
DESCRIPTION:
URL:https://larpseason.com/event/fh-newcastle/
LOCATION:F&H Newcastle 54.92022\, -1.78705\, 54.92022\, -1.78705
CATEGORIES:Club Games
END:VEVENT
BEGIN:VEVENT
DTSTART;TZID=UTC:20240121T100000
DTEND;TZID=UTC:20240121T180000
DTSTAMP:20260424T020932
CREATED:20240315T214923Z
LAST-MODIFIED:20240316T163806Z
UID:1905-1705831200-1705860000@larpseason.com
SUMMARY:F&H Maidenhead
DESCRIPTION:
URL:https://larpseason.com/event/fh-maidenhead/
LOCATION:F&H Maidenhead 51.51585\, -0.77645\, 51.51585\, -0.77645
CATEGORIES:Club Games
END:VEVENT
BEGIN:VEVENT
DTSTART;TZID=UTC:20240121T100000
DTEND;TZID=UTC:20240121T180000
DTSTAMP:20260424T020932
CREATED:20240315T214759Z
LAST-MODIFIED:20240316T163815Z
UID:1899-1705831200-1705860000@larpseason.com
SUMMARY:F&H Bath
DESCRIPTION:
URL:https://larpseason.com/event/fh-bath/
LOCATION:F&H Bath  51.49150\, -2.6642\, 51.49150\, -2.6642
CATEGORIES:Club Games
END:VEVENT
BEGIN:VEVENT
DTSTART;TZID=UTC:20241020T100000
DTEND;TZID=UTC:20241020T173000
DTSTAMP:20260424T020932
CREATED:20240315T190202Z
LAST-MODIFIED:20240317T112625Z
UID:1712-1729418400-1729445400@larpseason.com
SUMMARY:Camarilla Invictus: Episode 126
DESCRIPTION:
URL:https://larpseason.com/event/camarilla-invictus-episode-126/
LOCATION:The Priory\, The Priory\, Orpington BR6 0HH
CATEGORIES:Club Games,Parlour LARPs,UK LARPs
END:VEVENT
BEGIN:VEVENT
DTSTART;TZID=UTC:20240120T100000
DTEND;TZID=UTC:20240120T180000
DTSTAMP:20260424T020932
CREATED:20240315T214659Z
LAST-MODIFIED:20240316T163829Z
UID:1893-1705744800-1705773600@larpseason.com
SUMMARY:F&H Stockport
DESCRIPTION:
URL:https://larpseason.com/event/fh-stockport/
LOCATION:F&H Stockport  53.42253\, -2.15344\, 53.42253\, -2.15344
CATEGORIES:Club Games
END:VEVENT
BEGIN:VEVENT
DTSTART;TZID=UTC:20240120T100000
DTEND;TZID=UTC:20240120T180000
DTSTAMP:20260424T020932
CREATED:20240315T214552Z
LAST-MODIFIED:20240316T163839Z
UID:1887-1705744800-1705773600@larpseason.com
SUMMARY:F&H Nottingham
DESCRIPTION:
URL:https://larpseason.com/event/fh-nottingham/
LOCATION:F&H Nottingham 53.37133\, -1.57845\, 53.37133\, -1.57845
CATEGORIES:Club Games
END:VEVENT
BEGIN:VEVENT
DTSTART;TZID=UTC:20241019T080000
DTEND;TZID=UTC:20241019T170000
DTSTAMP:20260424T020932
CREATED:20250219T215213Z
LAST-MODIFIED:20250219T215214Z
UID:3400-1729324800-1729357200@larpseason.com
SUMMARY:Dungeon Quest: S1 E2 - The Sway of Silvervein
DESCRIPTION:
URL:https://larpseason.com/event/dungeon-quest-s1-e2-the-sway-of-silvervein/
LOCATION:Lagan Airsoft Club\, 17g station view bt17 0ae Belfast\, United Kingdom
CATEGORIES:Club Games,UK LARPs
ORGANIZER;CN="Dungeon Quest":MAILTO:DungeonQuestLogistics@gmail.com
END:VEVENT
END:VCALENDAR