BEGIN:VCALENDAR
VERSION:2.0
PRODID:-//LARP SEASON - ECPv6.15.20//NONSGML v1.0//EN
CALSCALE:GREGORIAN
METHOD:PUBLISH
X-WR-CALNAME:LARP SEASON
X-ORIGINAL-URL:https://larpseason.com
X-WR-CALDESC:Events for LARP SEASON
REFRESH-INTERVAL;VALUE=DURATION:PT1H
X-Robots-Tag:noindex
X-PUBLISHED-TTL:PT1H
BEGIN:VTIMEZONE
TZID:UTC
BEGIN:STANDARD
TZOFFSETFROM:+0000
TZOFFSETTO:+0000
TZNAME:UTC
DTSTART:20250101T000000
END:STANDARD
END:VTIMEZONE
BEGIN:VTIMEZONE
TZID:Europe/Paris
BEGIN:DAYLIGHT
TZOFFSETFROM:+0100
TZOFFSETTO:+0200
TZNAME:CEST
DTSTART:20250330T010000
END:DAYLIGHT
BEGIN:STANDARD
TZOFFSETFROM:+0200
TZOFFSETTO:+0100
TZNAME:CET
DTSTART:20251026T010000
END:STANDARD
BEGIN:DAYLIGHT
TZOFFSETFROM:+0100
TZOFFSETTO:+0200
TZNAME:CEST
DTSTART:20260329T010000
END:DAYLIGHT
BEGIN:STANDARD
TZOFFSETFROM:+0200
TZOFFSETTO:+0100
TZNAME:CET
DTSTART:20261025T010000
END:STANDARD
BEGIN:DAYLIGHT
TZOFFSETFROM:+0100
TZOFFSETTO:+0200
TZNAME:CEST
DTSTART:20270328T010000
END:DAYLIGHT
BEGIN:STANDARD
TZOFFSETFROM:+0200
TZOFFSETTO:+0100
TZNAME:CET
DTSTART:20271031T010000
END:STANDARD
END:VTIMEZONE
BEGIN:VEVENT
DTSTART;TZID=UTC:20260911T080000
DTEND;TZID=UTC:20260913T170000
DTSTAMP:20260423T183302
CREATED:20250901T135345Z
LAST-MODIFIED:20251006T211304Z
UID:3559-1789113600-1789318800@larpseason.com
SUMMARY:Empire: Autumn Equinox
DESCRIPTION:
URL:https://larpseason.com/event/empire-autumn-equinox-3/
LOCATION:Steeplechase LRP Site\, Steeple Chase Farm\, Cottenham\, Cambridgeshire
CATEGORIES:Fest LARPs,UK LARPs,Weekend LARPs
END:VEVENT
BEGIN:VEVENT
DTSTART;TZID=Europe/Paris:20260914T080000
DTEND;TZID=Europe/Paris:20260916T170000
DTSTAMP:20260423T183302
CREATED:20251026T171243Z
LAST-MODIFIED:20251026T171243Z
UID:4057-1789372800-1789578000@larpseason.com
SUMMARY:S.O.E. Resistance: Run 5
DESCRIPTION:
URL:https://larpseason.com/event/s-o-e-resistance-run-5/
LOCATION:Colehayes Park\, Colehayes Park Haytor Road Bovey Tracey South Devon TQ13 9LD
CATEGORIES:Blockbuster LARPs,UK LARPs,Weekend LARPs
END:VEVENT
BEGIN:VEVENT
DTSTART;TZID=Europe/Paris:20260917T080000
DTEND;TZID=Europe/Paris:20260920T170000
DTSTAMP:20260423T183302
CREATED:20251108T013009Z
LAST-MODIFIED:20251108T013010Z
UID:4192-1789632000-1789923600@larpseason.com
SUMMARY:Solore
DESCRIPTION:
URL:https://larpseason.com/event/solore/
LOCATION:Jasna Dolina\, Poland\, Jasna Dolina\, Poland
CATEGORIES:International LARPs
END:VEVENT
BEGIN:VEVENT
DTSTART;TZID=UTC:20260918T080000
DTEND;TZID=UTC:20260920T170000
DTSTAMP:20260423T183302
CREATED:20251004T125254Z
LAST-MODIFIED:20251004T125255Z
UID:3605-1789718400-1789923600@larpseason.com
SUMMARY:Beyond Ragnarok E3
DESCRIPTION:
URL:https://larpseason.com/event/beyond-ragnarok-e3/
CATEGORIES:UK LARPs,Weekend LARPs
END:VEVENT
BEGIN:VEVENT
DTSTART;TZID=Europe/Paris:20260918T080000
DTEND;TZID=Europe/Paris:20260920T170000
DTSTAMP:20260423T183302
CREATED:20251026T165655Z
LAST-MODIFIED:20251026T165656Z
UID:4028-1789718400-1789923600@larpseason.com
SUMMARY:The Ancients Event 2
DESCRIPTION:
URL:https://larpseason.com/event/the-ancients-event-2/
LOCATION:Park in the Past\, Park in the Past Fagl Ln\, Hope\, Wrexham LL12 9HB
CATEGORIES:UK LARPs,Weekend LARPs
END:VEVENT
BEGIN:VEVENT
DTSTART;TZID=Europe/Paris:20260918T080000
DTEND;TZID=Europe/Paris:20260920T170000
DTSTAMP:20260423T183302
CREATED:20251026T210827Z
LAST-MODIFIED:20251026T210828Z
UID:4166-1789718400-1789923600@larpseason.com
SUMMARY:Against the Verdant: Smoke on the Water
DESCRIPTION:
URL:https://larpseason.com/event/against-the-verdant-smoke-on-the-water/
LOCATION:Huntley Wood\, Huntley Wood
CATEGORIES:UK LARPs,Weekend LARPs
END:VEVENT
BEGIN:VEVENT
DTSTART;TZID=Europe/Paris:20260918T080000
DTEND;TZID=Europe/Paris:20260920T170000
DTSTAMP:20260423T183302
CREATED:20251111T202438Z
LAST-MODIFIED:20251111T202439Z
UID:4213-1789718400-1789923600@larpseason.com
SUMMARY:Wilde Realms E3: The Heist Is On!
DESCRIPTION:
URL:https://larpseason.com/event/wilde-realms-e3-the-heist-is-on/
LOCATION:Ross Wood Campsite\, Ross Wood Campsite\, New Rd.\, Herne Bay
CATEGORIES:UK LARPs,Weekend LARPs
END:VEVENT
BEGIN:VEVENT
DTSTART;TZID=UTC:20260924T080000
DTEND;TZID=UTC:20260927T170000
DTSTAMP:20260423T183302
CREATED:20251004T134321Z
LAST-MODIFIED:20251004T134322Z
UID:3696-1790236800-1790528400@larpseason.com
SUMMARY:Become Human
DESCRIPTION:
URL:https://larpseason.com/event/become-human/
LOCATION:Zivilschutzanlage Bleichen\, Zivilschutzanlage Bleichen Bleicheweg 11 3550 Langnau im Emmental Switzerland
CATEGORIES:International LARPs
END:VEVENT
BEGIN:VEVENT
DTSTART;TZID=UTC:20260925T080000
DTEND;TZID=UTC:20260927T170000
DTSTAMP:20260423T183302
CREATED:20251004T125538Z
LAST-MODIFIED:20251004T125539Z
UID:3609-1790323200-1790528400@larpseason.com
SUMMARY:Frontier LRP E6
DESCRIPTION:
URL:https://larpseason.com/event/frontier-lrp-e6/
LOCATION:The Grange\, Frogmore Grange\, Frog lane Balsall Common Coventry Warwickshire CV7 7FP United Kingdom
CATEGORIES:UK LARPs,Weekend LARPs
END:VEVENT
BEGIN:VEVENT
DTSTART;TZID=Europe/Paris:20260925T080000
DTEND;TZID=Europe/Paris:20260927T170000
DTSTAMP:20260423T183302
CREATED:20251008T185957Z
LAST-MODIFIED:20251008T185958Z
UID:3929-1790323200-1790528400@larpseason.com
SUMMARY:hADES 2.0
DESCRIPTION:
URL:https://larpseason.com/event/hades-2-0/
LOCATION:Gunman Airsoft Eversley Alpha\, Gunman Airsoft - Eversley The Welsh Dr (Off A327) Hook\, Hampshire RG27 0PX United Kingdom
CATEGORIES:UK LARPs,Weekend LARPs
END:VEVENT
BEGIN:VEVENT
DTSTART;TZID=Europe/Paris:20260925T080000
DTEND;TZID=Europe/Paris:20260927T170000
DTSTAMP:20260423T183302
CREATED:20251010T184125Z
LAST-MODIFIED:20251010T184126Z
UID:3952-1790323200-1790528400@larpseason.com
SUMMARY:Menhirs Fate 3
DESCRIPTION:
URL:https://larpseason.com/event/menhirs-fate-3/
LOCATION:Dadford Road Campsite\, Dadford Road Campsite\, Dadford Road\, Stowe\, Silverstone\, Buckinghamshire\, MK18 5LH
CATEGORIES:Fest LARPs,UK LARPs,Weekend LARPs
END:VEVENT
BEGIN:VEVENT
DTSTART;TZID=Europe/Paris:20261002T080000
DTEND;TZID=Europe/Paris:20261004T170000
DTSTAMP:20260423T183302
CREATED:20251008T190038Z
LAST-MODIFIED:20251008T190039Z
UID:3931-1790928000-1791133200@larpseason.com
SUMMARY:Eldritch Isle: Regnum Mortis
DESCRIPTION:
URL:https://larpseason.com/event/eldritch-isle-regnum-mortis-2/
LOCATION:Gunman Airsoft Eversley Alpha\, Gunman Airsoft - Eversley The Welsh Dr (Off A327) Hook\, Hampshire RG27 0PX United Kingdom
CATEGORIES:UK LARPs,Weekend LARPs
END:VEVENT
BEGIN:VEVENT
DTSTART;TZID=Europe/Paris:20261008T080000
DTEND;TZID=Europe/Paris:20261011T170000
DTSTAMP:20260423T183302
CREATED:20260223T214028Z
LAST-MODIFIED:20260223T214029Z
UID:4347-1791446400-1791738000@larpseason.com
SUMMARY:The Sapphire Crown
DESCRIPTION:The Sapphire Crown is a College of Wizardry LARP about honour\, duelling\, andswashbuckling adventure! A Conflux of honour-minded wizards meets to save the future ofthe Conflux… complicated by the fact that each of them has a very different idea of what thefuture should be and what the true meaning of honour actually is. \n\n\n\nEnclosed in this small space as they engage in contests to see who will be the House worthyof the Crown\, they will duel\, argue\, fight\, and quite possibly find greater agreement withtheir opponents than they do with their own side. For though all Houses have sworn toserve the Crown many have reason to feel constrained by the system it enforces… and reasonto grab the opportunity to change it\, now they have the chance to do so. \n\n\n\nThis LARP is very obviously inspired by tales like The Three Musketeers\, The Man in the IronMask or any other story of honourbound swashbuckling adventure you might have seen orread. Bring wands or blades\, swear to serve the crown\, and fight for what you believe!
URL:https://larpseason.com/event/the-sapphire-crown/
LOCATION:Lea Green\, Derbyshire\, Lea Green\, Derbyshire
CATEGORIES:Blockbuster LARPs,UK LARPs,Weekend LARPs
END:VEVENT
BEGIN:VEVENT
DTSTART;TZID=Europe/Paris:20261009T080000
DTEND;TZID=Europe/Paris:20261011T170000
DTSTAMP:20260423T183302
CREATED:20251008T190132Z
LAST-MODIFIED:20251008T190133Z
UID:3933-1791532800-1791738000@larpseason.com
SUMMARY:Hoist the Colours
DESCRIPTION:
URL:https://larpseason.com/event/hoist-the-colours-3/
LOCATION:Gunman Airsoft Eversley Alpha\, Gunman Airsoft - Eversley The Welsh Dr (Off A327) Hook\, Hampshire RG27 0PX United Kingdom
CATEGORIES:UK LARPs,Weekend LARPs
END:VEVENT
BEGIN:VEVENT
DTSTART;TZID=Europe/Paris:20261009T080000
DTEND;TZID=Europe/Paris:20261011T170000
DTSTAMP:20260423T183302
CREATED:20251026T164248Z
LAST-MODIFIED:20251026T164249Z
UID:4000-1791532800-1791738000@larpseason.com
SUMMARY:Dreamlands E4
DESCRIPTION:
URL:https://larpseason.com/event/dreamlands-e4/
LOCATION:The Grange\, Frogmore Grange\, Frog lane Balsall Common Coventry Warwickshire CV7 7FP United Kingdom
CATEGORIES:UK LARPs,Weekend LARPs
END:VEVENT
BEGIN:VEVENT
DTSTART;TZID=Europe/Paris:20261009T080000
DTEND;TZID=Europe/Paris:20261011T170000
DTSTAMP:20260423T183302
CREATED:20251115T202359Z
LAST-MODIFIED:20251115T202359Z
UID:4235-1791532800-1791738000@larpseason.com
SUMMARY:Orion Sphere: Event 17
DESCRIPTION:
URL:https://larpseason.com/event/orion-sphere-event-17/
LOCATION:Willesley Scout Camp\, willesley scout camp
CATEGORIES:UK LARPs,Weekend LARPs
END:VEVENT
BEGIN:VEVENT
DTSTART;TZID=Europe/Paris:20261009T080000
DTEND;TZID=Europe/Paris:20261011T170000
DTSTAMP:20260423T183302
CREATED:20251211T220602Z
LAST-MODIFIED:20251211T220603Z
UID:4310-1791532800-1791738000@larpseason.com
SUMMARY:Gritlands G5
DESCRIPTION:
URL:https://larpseason.com/event/gritlands-g5/
LOCATION:HM Prison Dorchester\, HM Prison Dorchester\, 39 Colliton Street\, Dorchester\, DT1 1\, United Kingdom
CATEGORIES:UK LARPs,Weekend LARPs
END:VEVENT
BEGIN:VEVENT
DTSTART;TZID=Europe/Paris:20261009T080000
DTEND;TZID=Europe/Paris:20261011T170000
DTSTAMP:20260423T183302
CREATED:20260304T133122Z
LAST-MODIFIED:20260304T133122Z
UID:4381-1791532800-1791738000@larpseason.com
SUMMARY:The Whitewood Files: Camp Whitewood
DESCRIPTION:The Whitewood Files is a series of three stand-alone horror LARP events\, each set 50 years apart\, linked by location and sinister machinations. \n\n\n\nEvent Two\, “The ‘Camp Whitewood’” file is an occultic horror LARP set in 1943. 20 Players will take on the role of newly deployed staff and patients at the Whitewood Convalescence unit amid the chaos of the Second World War. However\, not all is as it seems in this remote and peaceful corner of the world. Shadows of the past emerge once again and the players must race against time and their own physical limitations to stop the dangers that lurk in Whitewood from spreading further afield.
URL:https://larpseason.com/event/the-whitewood-files-camp-whitewood/
LOCATION:Peckwood Youth Centre\, PECK WOOD CENTRE ROWNEY GREEN LANE ALVECHURCH WORCESTERSHIRE B48 7QE
CATEGORIES:UK LARPs,Weekend LARPs
END:VEVENT
BEGIN:VEVENT
DTSTART;TZID=Europe/Paris:20261009T080000
DTEND;TZID=Europe/Paris:20261011T170000
DTSTAMP:20260423T183302
CREATED:20260304T134549Z
LAST-MODIFIED:20260304T134550Z
UID:4405-1791532800-1791738000@larpseason.com
SUMMARY:No Rest for the Wicked S3 E2
DESCRIPTION:
URL:https://larpseason.com/event/no-rest-for-the-wicked-s3-e2/
LOCATION:Douglaswood Scout Centre\, Douglaswood Scout Centre\, Dundee DD5 3QH
CATEGORIES:UK LARPs,Weekend LARPs
END:VEVENT
BEGIN:VEVENT
DTSTART;TZID=Europe/Paris:20261010T080000
DTEND;TZID=Europe/Paris:20261010T170000
DTSTAMP:20260423T183302
CREATED:20251121T142648Z
LAST-MODIFIED:20251121T142648Z
UID:4281-1791619200-1791651600@larpseason.com
SUMMARY:Burn Bright Young Thing
DESCRIPTION:
URL:https://larpseason.com/event/burn-bright-young-thing-2/
LOCATION:Chicago 1928\, Ricarda-Huch-Strasse<br>8050 Zürich-Oerlikon\, Switzerland\, Chicago 1928\, Ricarda-Huch-Strasse 8050 Zürich-Oerlikon\, Switzerland
CATEGORIES:International LARPs
END:VEVENT
BEGIN:VEVENT
DTSTART;TZID=Europe/Paris:20261013T080000
DTEND;TZID=Europe/Paris:20261017T170000
DTSTAMP:20260423T183302
CREATED:20251005T132924Z
LAST-MODIFIED:20251005T132925Z
UID:3769-1791878400-1792256400@larpseason.com
SUMMARY:HeroQuest: Unshed Tears
DESCRIPTION:
URL:https://larpseason.com/event/heroquest-unshed-tears/
LOCATION:Silverwood Scout Camp\, Silverwood Scout Camp\, Barnsley Road Silkstone South Yorkshire S75
CATEGORIES:UK LARPs,Weekend LARPs
END:VEVENT
BEGIN:VEVENT
DTSTART;TZID=Europe/Paris:20261016T080000
DTEND;TZID=Europe/Paris:20261018T170000
DTSTAMP:20260423T183302
CREATED:20251009T180633Z
LAST-MODIFIED:20251009T180633Z
UID:3944-1792137600-1792342800@larpseason.com
SUMMARY:Battalion: Market Garden
DESCRIPTION:Players take on the roles of Corps Troops stationed at a Battalion HQ somewhere behind the lines following Operation Market Garden and will live as troops of the British army did during that time period for 36 hours (Friday evening to Sunday lunchtime). \n\n\n\nPlayers can choose from 1 of 5 Corps to be a member of (Infantry\, Medical\, Signals\, Intelligence and Engineers) which will determine their role in the Battalion Headquarters for the game. \n\n\n\nAs this LARP is set in a Battalion Headquarters\, the majority of the LARP will be low/no combat\, but threat to player characters is not zero either.
URL:https://larpseason.com/event/battalion-market-garden/
LOCATION:Middleton Hall and Gardens\, Middleton Hall and Gardens\, Tamworth\, B78 2AE
CATEGORIES:UK LARPs,Weekend LARPs
END:VEVENT
BEGIN:VEVENT
DTSTART;TZID=Europe/Paris:20261016T080000
DTEND;TZID=Europe/Paris:20261018T170000
DTSTAMP:20260423T183302
CREATED:20251026T191850Z
LAST-MODIFIED:20251026T191851Z
UID:4158-1792137600-1792342800@larpseason.com
SUMMARY:In War\, Victory
DESCRIPTION:
URL:https://larpseason.com/event/in-war-victory/
LOCATION:Huntley Wood\, Huntley Wood
CATEGORIES:UK LARPs,Weekend LARPs
END:VEVENT
BEGIN:VEVENT
DTSTART;TZID=Europe/Paris:20261016T080000
DTEND;TZID=Europe/Paris:20261018T170000
DTSTAMP:20260423T183302
CREATED:20260209T154839Z
LAST-MODIFIED:20260209T154840Z
UID:4333-1792137600-1792342800@larpseason.com
SUMMARY:Death Unto Darkness Event 12 - Sanction
DESCRIPTION:
URL:https://larpseason.com/event/death-unto-darkness-event-12-sanction/
LOCATION:Consall Scout Camp\, Consall Scout Camp\, Blakely Lane\, Dilhorne\, Stoke-on-Trent ST10 2PS
CATEGORIES:UK LARPs,Weekend LARPs
ORGANIZER;CN="Death Unto Darkness":MAILTO:deathuntodarkness@gmail.com
END:VEVENT
BEGIN:VEVENT
DTSTART;TZID=Europe/Paris:20261016T080000
DTEND;TZID=Europe/Paris:20261018T170000
DTSTAMP:20260423T183302
CREATED:20260304T134133Z
LAST-MODIFIED:20260304T134133Z
UID:4399-1792137600-1792342800@larpseason.com
SUMMARY:Magna Carta: Robin & John
DESCRIPTION:Step into the turbulent world of 1215\, where rebellion simmers\, alliances fracture\, and the future of the realm hangs in the balance. Magna Carta: Robin & John is an immersive Nordic-style LARP that intertwines myth\, legend\, romance\, and history\, centered on the political upheaval that pushed England to the brink of transformation. \n\n\n\nPlayers embody roles drawn from historical figures and legendary archetypes: Barons pressing their demands\, church leaders weighing excommunication\, outlaws stirring unrest\, and a king fighting to maintain his crown. As factions negotiate\, betray\, and unite\, participants collaboratively decide whether peace\, revolt\, or an unsteady compromise\, perhaps even the signing of the Magna Carta\, will shape the world they inhabit. \n\n\n\nOct 16-18 \n\n\n\nSeattle\, WA
URL:https://larpseason.com/event/magna-carta-robin-john/
CATEGORIES:International LARPs
END:VEVENT
BEGIN:VEVENT
DTSTART;TZID=Europe/Paris:20261023T080000
DTEND;TZID=Europe/Paris:20261025T170000
DTSTAMP:20260423T183302
CREATED:20251008T190254Z
LAST-MODIFIED:20251008T190255Z
UID:3935-1792742400-1792947600@larpseason.com
SUMMARY:Outlaw
DESCRIPTION:
URL:https://larpseason.com/event/outlaw-4/
LOCATION:Gunman Airsoft Eversley Alpha\, Gunman Airsoft - Eversley The Welsh Dr (Off A327) Hook\, Hampshire RG27 0PX United Kingdom
CATEGORIES:UK LARPs,Weekend LARPs
END:VEVENT
BEGIN:VEVENT
DTSTART;TZID=Europe/Paris:20261023T080000
DTEND;TZID=Europe/Paris:20261025T170000
DTSTAMP:20260423T183302
CREATED:20251111T202521Z
LAST-MODIFIED:20251111T202522Z
UID:4215-1792742400-1792947600@larpseason.com
SUMMARY:Wilde Realms E4: The Sacrifices We Make
DESCRIPTION:
URL:https://larpseason.com/event/wilde-realms-e4-the-sacrifices-we-make/
LOCATION:Ross Wood Campsite\, Ross Wood Campsite\, New Rd.\, Herne Bay
CATEGORIES:UK LARPs,Weekend LARPs
END:VEVENT
BEGIN:VEVENT
DTSTART;TZID=Europe/Paris:20261023T080000
DTEND;TZID=Europe/Paris:20261025T170000
DTSTAMP:20260423T183302
CREATED:20251113T214953Z
LAST-MODIFIED:20251113T214953Z
UID:4227-1792742400-1792947600@larpseason.com
SUMMARY:Wyld West Event 3
DESCRIPTION:
URL:https://larpseason.com/event/wyld-west-event-3/
LOCATION:The Grange\, Frogmore Grange\, Frog lane Balsall Common Coventry Warwickshire CV7 7FP United Kingdom
CATEGORIES:UK LARPs,Weekend LARPs
END:VEVENT
BEGIN:VEVENT
DTSTART;TZID=Europe/Paris:20261024T080000
DTEND;TZID=Europe/Paris:20261024T170000
DTSTAMP:20260423T183302
CREATED:20260316T151452Z
LAST-MODIFIED:20260316T151453Z
UID:4431-1792828800-1792861200@larpseason.com
SUMMARY:Cyberpunk London
DESCRIPTION:
URL:https://larpseason.com/event/cyberpunk-london/
LOCATION:Lower Deck at the Dreadnought\, Lower Deck at the Dreadnought\, Greenwich\, London
CATEGORIES:Blockbuster LARPs,Parlour LARPs,UK LARPs
END:VEVENT
BEGIN:VEVENT
DTSTART;TZID=Europe/Paris:20261030T080000
DTEND;TZID=Europe/Paris:20261101T170000
DTSTAMP:20260423T183302
CREATED:20251008T190459Z
LAST-MODIFIED:20251008T190500Z
UID:3937-1793347200-1793552400@larpseason.com
SUMMARY:Nightmare game tbc
DESCRIPTION:
URL:https://larpseason.com/event/nightmare-game-tbc/
LOCATION:Gunman Airsoft Eversley Alpha\, Gunman Airsoft - Eversley The Welsh Dr (Off A327) Hook\, Hampshire RG27 0PX United Kingdom
CATEGORIES:UK LARPs,Weekend LARPs
END:VEVENT
END:VCALENDAR