BEGIN:VCALENDAR
VERSION:2.0
PRODID:-//LARP SEASON - ECPv6.15.20//NONSGML v1.0//EN
CALSCALE:GREGORIAN
METHOD:PUBLISH
X-ORIGINAL-URL:https://larpseason.com
X-WR-CALDESC:Events for LARP SEASON
REFRESH-INTERVAL;VALUE=DURATION:PT1H
X-Robots-Tag:noindex
X-PUBLISHED-TTL:PT1H
BEGIN:VTIMEZONE
TZID:UTC
BEGIN:STANDARD
TZOFFSETFROM:+0000
TZOFFSETTO:+0000
TZNAME:UTC
DTSTART:20250101T000000
END:STANDARD
END:VTIMEZONE
BEGIN:VTIMEZONE
TZID:Europe/Paris
BEGIN:DAYLIGHT
TZOFFSETFROM:+0100
TZOFFSETTO:+0200
TZNAME:CEST
DTSTART:20250330T010000
END:DAYLIGHT
BEGIN:STANDARD
TZOFFSETFROM:+0200
TZOFFSETTO:+0100
TZNAME:CET
DTSTART:20251026T010000
END:STANDARD
BEGIN:DAYLIGHT
TZOFFSETFROM:+0100
TZOFFSETTO:+0200
TZNAME:CEST
DTSTART:20260329T010000
END:DAYLIGHT
BEGIN:STANDARD
TZOFFSETFROM:+0200
TZOFFSETTO:+0100
TZNAME:CET
DTSTART:20261025T010000
END:STANDARD
BEGIN:DAYLIGHT
TZOFFSETFROM:+0100
TZOFFSETTO:+0200
TZNAME:CEST
DTSTART:20270328T010000
END:DAYLIGHT
BEGIN:STANDARD
TZOFFSETFROM:+0200
TZOFFSETTO:+0100
TZNAME:CET
DTSTART:20271031T010000
END:STANDARD
END:VTIMEZONE
BEGIN:VEVENT
DTSTART;TZID=UTC:20260807T080000
DTEND;TZID=UTC:20260809T170000
DTSTAMP:20260423T124943
CREATED:20251004T135755Z
LAST-MODIFIED:20251004T135755Z
UID:3722-1786089600-1786294800@larpseason.com
SUMMARY:Neon Void
DESCRIPTION:They said the signal was harmless. \n\n\n\nJust static. Just noise. Just another anomaly beneath the city. \n\n\n\nBut in 1984\, a research team at a Cambridge lab picked up more than interference. \n\n\n\nThey found a pattern. \n\n\n\nThey called it contact. \n\n\n\nAnd then the changes began. \n\n\n\nThey didn’t disappear. They left. Voluntarily. \n\n\n\nA year later\, they came back—with clearer eyes\, steadier hands\, and something ancient whispering behind their teeth. \n\n\n\n“The void is listening.” \n\n\n\nNEON VOID is a retro-futuristic horror LARP set across two timelines: \n\n\n\nBefore the breach… and after your return. \n\n\n\nYou were part of the experiment. \n\n\n\nYou remember the transmission. \n\n\n\nNow it’s time to finish what you started. \n\n\n\n⸻ \n\n\n\nTake the Interest Survey \n\n\n\nShape the roles. Shape the horror. \n\n\n\nThe signal is stabilizing. But not for long.
URL:https://larpseason.com/event/neon-void/
LOCATION:Cambridge\, MA
CATEGORIES:International LARPs
END:VEVENT
BEGIN:VEVENT
DTSTART;TZID=Europe/Paris:20260807T080000
DTEND;TZID=Europe/Paris:20260809T170000
DTSTAMP:20260423T124943
CREATED:20251006T211526Z
LAST-MODIFIED:20251006T211527Z
UID:3851-1786089600-1786294800@larpseason.com
SUMMARY:Lorien Trust: The Summer Moot
DESCRIPTION:
URL:https://larpseason.com/event/lorien-trust-the-summer-moot/
LOCATION:Locko Park\, Locko Park\, Derby
CATEGORIES:Fest LARPs,UK LARPs,Weekend LARPs
END:VEVENT
BEGIN:VEVENT
DTSTART;TZID=Europe/Paris:20260807T080000
DTEND;TZID=Europe/Paris:20260809T170000
DTSTAMP:20260423T124943
CREATED:20251008T185812Z
LAST-MODIFIED:20251008T185813Z
UID:3923-1786089600-1786294800@larpseason.com
SUMMARY:The Oasis 3
DESCRIPTION:
URL:https://larpseason.com/event/the-oasis-3/
LOCATION:Gunman Airsoft Eversley Alpha\, Gunman Airsoft - Eversley The Welsh Dr (Off A327) Hook\, Hampshire RG27 0PX United Kingdom
CATEGORIES:UK LARPs,Weekend LARPs
END:VEVENT
BEGIN:VEVENT
DTSTART;TZID=Europe/Paris:20260807T080000
DTEND;TZID=Europe/Paris:20260809T170000
DTSTAMP:20260423T124943
CREATED:20251113T122122Z
LAST-MODIFIED:20251113T122123Z
UID:4221-1786089600-1786294800@larpseason.com
SUMMARY:Daemon: Run 17
DESCRIPTION:
URL:https://larpseason.com/event/daemon-run-17/
LOCATION:Úsobí Castle\, Úsobí Castle\, Czech Republic
CATEGORIES:International LARPs
END:VEVENT
BEGIN:VEVENT
DTSTART;TZID=Europe/Paris:20260809T080000
DTEND;TZID=Europe/Paris:20260809T170000
DTSTAMP:20260423T124943
CREATED:20251026T170204Z
LAST-MODIFIED:20251026T170205Z
UID:4042-1786262400-1786294800@larpseason.com
SUMMARY:Chaosgate: Killers Only
DESCRIPTION:
URL:https://larpseason.com/event/chaosgate-killers-only-2/
LOCATION:Tehiddy Woods Scout Campsite\, Tehiddy Woods Scout Campsite
CATEGORIES:UK LARPs
END:VEVENT
BEGIN:VEVENT
DTSTART;TZID=Europe/Paris:20260811T080000
DTEND;TZID=Europe/Paris:20260813T170000
DTSTAMP:20260423T124943
CREATED:20251113T122219Z
LAST-MODIFIED:20251113T122220Z
UID:4223-1786435200-1786640400@larpseason.com
SUMMARY:Daemon: Run 18
DESCRIPTION:
URL:https://larpseason.com/event/daemon-run-18/
LOCATION:Úsobí Castle\, Úsobí Castle\, Czech Republic
CATEGORIES:International LARPs
END:VEVENT
BEGIN:VEVENT
DTSTART;TZID=Europe/Paris:20260814T080000
DTEND;TZID=Europe/Paris:20260816T170000
DTSTAMP:20260423T124943
CREATED:20251106T201926Z
LAST-MODIFIED:20251106T201926Z
UID:4176-1786694400-1786899600@larpseason.com
SUMMARY:Welcome To: The Outpost
DESCRIPTION:
URL:https://larpseason.com/event/welcome-to-the-outpost/
LOCATION:The Grange\, Frogmore Grange\, Frog lane Balsall Common Coventry Warwickshire CV7 7FP United Kingdom
CATEGORIES:UK LARPs,Weekend LARPs
END:VEVENT
BEGIN:VEVENT
DTSTART;TZID=Europe/Paris:20260814T080000
DTEND;TZID=Europe/Paris:20260816T170000
DTSTAMP:20260423T124943
CREATED:20260304T134458Z
LAST-MODIFIED:20260304T134521Z
UID:4403-1786694400-1786899600@larpseason.com
SUMMARY:No Rest for the Wicked S3 E1
DESCRIPTION:
URL:https://larpseason.com/event/no-rest-for-the-wicked-s3-e1/
LOCATION:Douglaswood Scout Centre\, Douglaswood Scout Centre\, Dundee DD5 3QH
CATEGORIES:UK LARPs,Weekend LARPs
END:VEVENT
BEGIN:VEVENT
DTSTART;TZID=Europe/Paris:20260820T080000
DTEND;TZID=Europe/Paris:20260823T170000
DTSTAMP:20260423T124943
CREATED:20251016T205330Z
LAST-MODIFIED:20251016T205330Z
UID:3969-1787212800-1787504400@larpseason.com
SUMMARY:We Who Remain - a story about new beginnings
DESCRIPTION:
URL:https://larpseason.com/event/we-who-remain-a-story-about-new-beginnings/
LOCATION:Berghaus Girlen\, Switzerland\, Berghaus Girlen\, Switzerland
CATEGORIES:International LARPs
END:VEVENT
BEGIN:VEVENT
DTSTART;TZID=UTC:20260821T080000
DTEND;TZID=UTC:20260823T170000
DTSTAMP:20260423T124943
CREATED:20251004T135129Z
LAST-MODIFIED:20251004T135129Z
UID:3712-1787299200-1787504400@larpseason.com
SUMMARY:The Good\, The Bad\, & the Dead: Silverwood
DESCRIPTION:
URL:https://larpseason.com/event/the-good-the-bad-the-dead-silverwood/
LOCATION:Deadwood Town\, Wattlehurst Farm\, Horsham\, West Sussex
CATEGORIES:UK LARPs,Weekend LARPs
END:VEVENT
BEGIN:VEVENT
DTSTART;TZID=Europe/Paris:20260821T080000
DTEND;TZID=Europe/Paris:20260823T170000
DTSTAMP:20260423T124943
CREATED:20251008T185849Z
LAST-MODIFIED:20251008T185849Z
UID:3925-1787299200-1787504400@larpseason.com
SUMMARY:The War of Five Kings
DESCRIPTION:
URL:https://larpseason.com/event/the-war-of-five-kings/
LOCATION:Gunman Airsoft Eversley Alpha\, Gunman Airsoft - Eversley The Welsh Dr (Off A327) Hook\, Hampshire RG27 0PX United Kingdom
CATEGORIES:UK LARPs,Weekend LARPs
END:VEVENT
BEGIN:VEVENT
DTSTART;TZID=Europe/Paris:20260821T080000
DTEND;TZID=Europe/Paris:20260823T170000
DTSTAMP:20260423T124943
CREATED:20251026T170131Z
LAST-MODIFIED:20251026T170132Z
UID:4040-1787299200-1787504400@larpseason.com
SUMMARY:Chaosgate: Event 3
DESCRIPTION:
URL:https://larpseason.com/event/chaosgate-event-3/
LOCATION:Tehiddy Woods Scout Campsite\, Tehiddy Woods Scout Campsite
CATEGORIES:UK LARPs,Weekend LARPs
END:VEVENT
BEGIN:VEVENT
DTSTART;TZID=UTC:20260827T080000
DTEND;TZID=UTC:20260831T170000
DTSTAMP:20260423T124943
CREATED:20251004T124953Z
LAST-MODIFIED:20251006T211342Z
UID:3599-1787817600-1788195600@larpseason.com
SUMMARY:Curious Pastimes E4
DESCRIPTION:
URL:https://larpseason.com/event/curious-pastimes-e4/
LOCATION:Weston Park\, Weston Park\, Weston-under-Lizard\, Shifnal\, TF11 8LE
CATEGORIES:Fest LARPs,UK LARPs,Weekend LARPs
END:VEVENT
BEGIN:VEVENT
DTSTART;TZID=Europe/Paris:20260828T080000
DTEND;TZID=Europe/Paris:20260830T170000
DTSTAMP:20260423T124943
CREATED:20251008T185920Z
LAST-MODIFIED:20251008T185920Z
UID:3927-1787904000-1788109200@larpseason.com
SUMMARY:Flying Lead: Blood and Gold
DESCRIPTION:
URL:https://larpseason.com/event/flying-lead-blood-and-gold-2/
LOCATION:Gunman Airsoft Eversley Alpha\, Gunman Airsoft - Eversley The Welsh Dr (Off A327) Hook\, Hampshire RG27 0PX United Kingdom
CATEGORIES:UK LARPs,Weekend LARPs
END:VEVENT
BEGIN:VEVENT
DTSTART;TZID=Europe/Paris:20260828T080000
DTEND;TZID=Europe/Paris:20260831T170000
DTSTAMP:20260423T124943
CREATED:20251006T211557Z
LAST-MODIFIED:20251006T211558Z
UID:3853-1787904000-1788195600@larpseason.com
SUMMARY:Lorien Trust: The Gathering
DESCRIPTION:
URL:https://larpseason.com/event/lorien-trust-the-gathering-3/
LOCATION:Locko Park\, Locko Park\, Derby
CATEGORIES:Fest LARPs,UK LARPs,Weekend LARPs
END:VEVENT
BEGIN:VEVENT
DTSTART;TZID=Europe/Paris:20260828T080000
DTEND;TZID=Europe/Paris:20260831T170000
DTSTAMP:20260423T124943
CREATED:20251026T174020Z
LAST-MODIFIED:20251026T174020Z
UID:4113-1787904000-1788195600@larpseason.com
SUMMARY:The Castle: Run 3
DESCRIPTION:
URL:https://larpseason.com/event/the-castle-run-3/
LOCATION:Castle Veldenz\, Germany\, Castle Veldenz\, Germany
CATEGORIES:International LARPs
END:VEVENT
BEGIN:VEVENT
DTSTART;TZID=Europe/Paris:20260903T080000
DTEND;TZID=Europe/Paris:20260906T170000
DTSTAMP:20260423T124943
CREATED:20251026T174059Z
LAST-MODIFIED:20251026T174100Z
UID:4119-1788422400-1788714000@larpseason.com
SUMMARY:The Castle: Run 4
DESCRIPTION:
URL:https://larpseason.com/event/the-castle-run-4/
LOCATION:Castle Veldenz\, Germany\, Castle Veldenz\, Germany
CATEGORIES:International LARPs
END:VEVENT
BEGIN:VEVENT
DTSTART;TZID=Europe/Paris:20260903T080000
DTEND;TZID=Europe/Paris:20260906T170000
DTSTAMP:20260423T124943
CREATED:20260304T132034Z
LAST-MODIFIED:20260304T132034Z
UID:4367-1788422400-1788714000@larpseason.com
SUMMARY:Whirls of Pontar
DESCRIPTION:The Whirls of Pontar is a larp that will take you to the realities known from the game The Witcher III: Wild Hunt. The troops of Nilfgaard took control of most of the lands south of Pontar. The Northern Kingdoms faced a crisis. War hangs in the balance and everyone is asking themselves when it will break out.
URL:https://larpseason.com/event/whirls-of-pontar/
LOCATION:Wioska Fantasy\, Wioska Fantasy\, Kuńkowce 1A\, 37-700 Przemyśl (Gmina)\, Polska
CATEGORIES:International LARPs
END:VEVENT
BEGIN:VEVENT
DTSTART;TZID=Europe/Paris:20260904T080000
DTEND;TZID=Europe/Paris:20260906T170000
DTSTAMP:20260423T124943
CREATED:20251006T203523Z
LAST-MODIFIED:20251006T203524Z
UID:3787-1788508800-1788714000@larpseason.com
SUMMARY:Goblin Town Fantasy Festival 2026
DESCRIPTION:
URL:https://larpseason.com/event/goblin-town-fantasy-festival-2026/
LOCATION:Taw Bottom Guides Camp Site\, Taw Bottom Devon Guides Camp Site\, Taw Bottom\, South Tawton\, EX20 2LP
CATEGORIES:Conventions & Festivals,UK LARPs,Weekend LARPs
END:VEVENT
BEGIN:VEVENT
DTSTART;TZID=Europe/Paris:20260904T080000
DTEND;TZID=Europe/Paris:20260906T170000
DTSTAMP:20260423T124943
CREATED:20251129T164926Z
LAST-MODIFIED:20251129T164927Z
UID:4300-1788508800-1788714000@larpseason.com
SUMMARY:Ardent Spacers Event 2
DESCRIPTION:
URL:https://larpseason.com/event/ardent-spacers-event-2/
LOCATION:The Grange\, Frogmore Grange\, Frog lane Balsall Common Coventry Warwickshire CV7 7FP United Kingdom
CATEGORIES:UK LARPs,Weekend LARPs
END:VEVENT
BEGIN:VEVENT
DTSTART;TZID=Europe/Paris:20260906T080000
DTEND;TZID=Europe/Paris:20260909T170000
DTSTAMP:20260423T124943
CREATED:20251229T163847Z
LAST-MODIFIED:20251229T163848Z
UID:4319-1788681600-1788973200@larpseason.com
SUMMARY:Sunkissed Affairs Run #2 (English)
DESCRIPTION:
URL:https://larpseason.com/event/sunkissed-affairs-run-2-english/
LOCATION:Klitgaarden\, Denmark\, Klitgaarden\, Denmark
CATEGORIES:International LARPs
END:VEVENT
BEGIN:VEVENT
DTSTART;TZID=Europe/Paris:20260907T080000
DTEND;TZID=Europe/Paris:20260909T170000
DTSTAMP:20260423T124943
CREATED:20251026T170955Z
LAST-MODIFIED:20251026T170956Z
UID:4051-1788768000-1788973200@larpseason.com
SUMMARY:S.O.E Resistance: Run 3
DESCRIPTION:
URL:https://larpseason.com/event/s-o-e-resistance-run-3/
LOCATION:Colehayes Park\, Colehayes Park Haytor Road Bovey Tracey South Devon TQ13 9LD
CATEGORIES:Blockbuster LARPs,UK LARPs,Weekend LARPs
END:VEVENT
BEGIN:VEVENT
DTSTART;TZID=Europe/Paris:20260909T080000
DTEND;TZID=Europe/Paris:20260912T170000
DTSTAMP:20260423T124943
CREATED:20251229T163950Z
LAST-MODIFIED:20251229T163951Z
UID:4325-1788940800-1789232400@larpseason.com
SUMMARY:Sunkissed Affairs Run #3 (Danish)
DESCRIPTION:
URL:https://larpseason.com/event/sunkissed-affairs-run-3-danish/
LOCATION:Klitgaarden\, Denmark\, Klitgaarden\, Denmark
CATEGORIES:International LARPs
END:VEVENT
BEGIN:VEVENT
DTSTART;TZID=Europe/Paris:20260910T080000
DTEND;TZID=Europe/Paris:20260912T170000
DTSTAMP:20260423T124943
CREATED:20251026T171131Z
LAST-MODIFIED:20251026T171132Z
UID:4055-1789027200-1789232400@larpseason.com
SUMMARY:S.O.E. Resistance: Run 4
DESCRIPTION:
URL:https://larpseason.com/event/s-o-e-resistance-run-4/
LOCATION:Colehayes Park\, Colehayes Park Haytor Road Bovey Tracey South Devon TQ13 9LD
CATEGORIES:Blockbuster LARPs,UK LARPs,Weekend LARPs
END:VEVENT
BEGIN:VEVENT
DTSTART;TZID=UTC:20260911T080000
DTEND;TZID=UTC:20260913T170000
DTSTAMP:20260423T124943
CREATED:20250901T135345Z
LAST-MODIFIED:20251006T211304Z
UID:3559-1789113600-1789318800@larpseason.com
SUMMARY:Empire: Autumn Equinox
DESCRIPTION:
URL:https://larpseason.com/event/empire-autumn-equinox-3/
LOCATION:Steeplechase LRP Site\, Steeple Chase Farm\, Cottenham\, Cambridgeshire
CATEGORIES:Fest LARPs,UK LARPs,Weekend LARPs
END:VEVENT
BEGIN:VEVENT
DTSTART;TZID=Europe/Paris:20260914T080000
DTEND;TZID=Europe/Paris:20260916T170000
DTSTAMP:20260423T124943
CREATED:20251026T171243Z
LAST-MODIFIED:20251026T171243Z
UID:4057-1789372800-1789578000@larpseason.com
SUMMARY:S.O.E. Resistance: Run 5
DESCRIPTION:
URL:https://larpseason.com/event/s-o-e-resistance-run-5/
LOCATION:Colehayes Park\, Colehayes Park Haytor Road Bovey Tracey South Devon TQ13 9LD
CATEGORIES:Blockbuster LARPs,UK LARPs,Weekend LARPs
END:VEVENT
BEGIN:VEVENT
DTSTART;TZID=Europe/Paris:20260917T080000
DTEND;TZID=Europe/Paris:20260920T170000
DTSTAMP:20260423T124943
CREATED:20251108T013009Z
LAST-MODIFIED:20251108T013010Z
UID:4192-1789632000-1789923600@larpseason.com
SUMMARY:Solore
DESCRIPTION:
URL:https://larpseason.com/event/solore/
LOCATION:Jasna Dolina\, Poland\, Jasna Dolina\, Poland
CATEGORIES:International LARPs
END:VEVENT
BEGIN:VEVENT
DTSTART;TZID=UTC:20260918T080000
DTEND;TZID=UTC:20260920T170000
DTSTAMP:20260423T124943
CREATED:20251004T125254Z
LAST-MODIFIED:20251004T125255Z
UID:3605-1789718400-1789923600@larpseason.com
SUMMARY:Beyond Ragnarok E3
DESCRIPTION:
URL:https://larpseason.com/event/beyond-ragnarok-e3/
CATEGORIES:UK LARPs,Weekend LARPs
END:VEVENT
BEGIN:VEVENT
DTSTART;TZID=Europe/Paris:20260918T080000
DTEND;TZID=Europe/Paris:20260920T170000
DTSTAMP:20260423T124943
CREATED:20251026T165655Z
LAST-MODIFIED:20251026T165656Z
UID:4028-1789718400-1789923600@larpseason.com
SUMMARY:The Ancients Event 2
DESCRIPTION:
URL:https://larpseason.com/event/the-ancients-event-2/
LOCATION:Park in the Past\, Park in the Past Fagl Ln\, Hope\, Wrexham LL12 9HB
CATEGORIES:UK LARPs,Weekend LARPs
END:VEVENT
BEGIN:VEVENT
DTSTART;TZID=Europe/Paris:20260918T080000
DTEND;TZID=Europe/Paris:20260920T170000
DTSTAMP:20260423T124943
CREATED:20251026T210827Z
LAST-MODIFIED:20251026T210828Z
UID:4166-1789718400-1789923600@larpseason.com
SUMMARY:Against the Verdant: Smoke on the Water
DESCRIPTION:
URL:https://larpseason.com/event/against-the-verdant-smoke-on-the-water/
LOCATION:Huntley Wood\, Huntley Wood
CATEGORIES:UK LARPs,Weekend LARPs
END:VEVENT
END:VCALENDAR