BEGIN:VCALENDAR
VERSION:2.0
PRODID:-//LARP SEASON - ECPv6.15.20//NONSGML v1.0//EN
CALSCALE:GREGORIAN
METHOD:PUBLISH
X-ORIGINAL-URL:https://larpseason.com
X-WR-CALDESC:Events for LARP SEASON
REFRESH-INTERVAL;VALUE=DURATION:PT1H
X-Robots-Tag:noindex
X-PUBLISHED-TTL:PT1H
BEGIN:VTIMEZONE
TZID:UTC
BEGIN:STANDARD
TZOFFSETFROM:+0000
TZOFFSETTO:+0000
TZNAME:UTC
DTSTART:20240101T000000
END:STANDARD
END:VTIMEZONE
BEGIN:VTIMEZONE
TZID:Europe/Paris
BEGIN:DAYLIGHT
TZOFFSETFROM:+0100
TZOFFSETTO:+0200
TZNAME:CEST
DTSTART:20240331T010000
END:DAYLIGHT
BEGIN:STANDARD
TZOFFSETFROM:+0200
TZOFFSETTO:+0100
TZNAME:CET
DTSTART:20241027T010000
END:STANDARD
BEGIN:DAYLIGHT
TZOFFSETFROM:+0100
TZOFFSETTO:+0200
TZNAME:CEST
DTSTART:20250330T010000
END:DAYLIGHT
BEGIN:STANDARD
TZOFFSETFROM:+0200
TZOFFSETTO:+0100
TZNAME:CET
DTSTART:20251026T010000
END:STANDARD
BEGIN:DAYLIGHT
TZOFFSETFROM:+0100
TZOFFSETTO:+0200
TZNAME:CEST
DTSTART:20260329T010000
END:DAYLIGHT
BEGIN:STANDARD
TZOFFSETFROM:+0200
TZOFFSETTO:+0100
TZNAME:CET
DTSTART:20261025T010000
END:STANDARD
END:VTIMEZONE
BEGIN:VEVENT
DTSTART;TZID=UTC:20250227T080000
DTEND;TZID=UTC:20250302T170000
DTSTAMP:20260423T095408
CREATED:20250219T222707Z
LAST-MODIFIED:20250219T222708Z
UID:3449-1740643200-1740934800@larpseason.com
SUMMARY:Winter Tradition
DESCRIPTION:We are thrilled to invite you to join us for this immersive and captivating experience. Winter Tradition offers a dramatic and emotional upstairs-downstairs LARP\, bringing you back to a 1910 hunting estate in England.With space for 38 participants\, this international LARP first ran in 2021 and is back by popular demand. We’re returning to Jerstrup Herregård in Denmark with both familiar and new organizers ready to bring WT to life once more.Don’t miss your chance to be part of this unforgettable experience. Mark your calendars and get ready to sign up!
URL:https://larpseason.com/event/winter-tradition/
LOCATION:Jerstrup Herregård (Jerstrup Manor)\, Jerstrup Herregård (Jerstrup Manor)\, Jerstrupvej 44\, 5400 Bogense
CATEGORIES:International LARPs
END:VEVENT
BEGIN:VEVENT
DTSTART;TZID=UTC:20250228T080000
DTEND;TZID=UTC:20250302T170000
DTSTAMP:20260423T095408
CREATED:20240904T183853Z
LAST-MODIFIED:20240904T183854Z
UID:2438-1740729600-1740934800@larpseason.com
SUMMARY:Unhappy Guests
DESCRIPTION:Unhappy guests! Is the much anticipated sequel to our debut LARP Unhappy Campers. \n\n\n\nCome and immerse yourself with a new horror genre. Themed after the dazzling 1920s and inspired by works like the Great Gatsby\, the Shining\, and the cosmic thrillers of HP Lovecraft. \n\n\n\nThe game will be framed around players taking on the role of socialites\, mobsters\, detectives and entertainers and good common working folk attending the grand opening. \n\n\n\nBut watch out. As occult happenings\, murderous siblings\, holes in reality and a haunted teddy bear is only the scratch of the surface of this place. Run\, hide\, investigate\, fight\, make deals with the devil\, survive and try to uncover just what in Creation is happening. \n\n\n\nWe are Dying to see you again.
URL:https://larpseason.com/event/unhappy-guests/
LOCATION:The Wilderness Centre\, Wilderness Centre\, Plump Hill\, Mitcheldean\, Gloucestershire. GL17 0HA.
CATEGORIES:UK LARPs,Weekend LARPs
END:VEVENT
BEGIN:VEVENT
DTSTART;TZID=UTC:20250228T080000
DTEND;TZID=UTC:20250302T170000
DTSTAMP:20260423T095408
CREATED:20250212T183652Z
LAST-MODIFIED:20250214T181532Z
UID:3060-1740729600-1740934800@larpseason.com
SUMMARY:Empire: Hall of the blood moth (player event)
DESCRIPTION:
URL:https://larpseason.com/event/hall-of-the-blood-moth-empire-player-event/
LOCATION:The Birks\, Cumbria\, The Birks\, Duddon Valley\, Lake District\, Cumbria
CATEGORIES:Empire Sanctioned,Sanctioned Events,UK LARPs
END:VEVENT
BEGIN:VEVENT
DTSTART;TZID=UTC:20250301T080000
DTEND;TZID=UTC:20250302T170000
DTSTAMP:20260423T095408
CREATED:20240922T123456Z
LAST-MODIFIED:20250214T200315Z
UID:2530-1740816000-1740934800@larpseason.com
SUMMARY:LarpCon 2025 - LarpCon & The Holy Grail
DESCRIPTION:
URL:https://larpseason.com/event/larpcon/
LOCATION:Whitwick and Coalville Leisure Centre\, Whitwick and Coalville Leisure Centre\, Stephenson Way\, Coalville LE67 3FE
CATEGORIES:Conventions & Festivals
END:VEVENT
BEGIN:VEVENT
DTSTART;TZID=UTC:20250301T080000
DTEND;TZID=UTC:20250304T170000
DTSTAMP:20260423T095408
CREATED:20240506T132144Z
LAST-MODIFIED:20240506T132145Z
UID:2274-1740816000-1741107600@larpseason.com
SUMMARY:L'Inconscience\, Conscience: Run 2
DESCRIPTION:Signups open until 5th May 2024.
URL:https://larpseason.com/event/linconscience-conscience-run-2/
LOCATION:Castillo de Santiago\, Castillo de Santiago\, Sanlúcar de Barrameda\, Cádiz
CATEGORIES:International LARPs
END:VEVENT
BEGIN:VEVENT
DTSTART;TZID=UTC:20250301T170000
DTEND;TZID=UTC:20250301T233000
DTSTAMP:20260423T095408
CREATED:20241015T165342Z
LAST-MODIFIED:20250214T182114Z
UID:2668-1740848400-1740871800@larpseason.com
SUMMARY:LT: An Evening in Meadholme (sanctioned)
DESCRIPTION:Armourers/Wolves/Dwarves Social Event ‘An Evening in Meadholme’ will open for booking on Monday 14th. \n\n\n\nThe Ksavir Dwarfs are happy to have any excuse for a party and this year they’ve got more than a few reasons to celebrate: a new Thane of the Dwarven Nation has been elected\, a Skald of the Clan has been formally married\, construction of a new Alchemy lab is gathering steam\, and a very serious threat to the Hold has been quelled before anyone apart from a few brave Dwarfs and Armourers knew about it. So\, the great doors of Meadholme are swinging open to welcome one and all for a proper knees-up. Prepare for a full-on Norse Dwarven feast with storytelling\, carousing\, diplomacy\, bragging and compliment competitions.
URL:https://larpseason.com/event/lt-sanctioned-an-evening-in-meadholme/
LOCATION:Donington Park Farmhouse Hotel\, Donington Park Farmhouse Hotel
CATEGORIES:Lorien Trust Sanctioned,Sanctioned Events,UK LARPs
END:VEVENT
BEGIN:VEVENT
DTSTART;TZID=UTC:20250305T080000
DTEND;TZID=UTC:20250309T170000
DTSTAMP:20260423T095408
CREATED:20240312T182740Z
LAST-MODIFIED:20240312T182741Z
UID:1354-1741161600-1741539600@larpseason.com
SUMMARY:Tabram - An 1888 Horror Larp
DESCRIPTION:The year is 1888 and the Central News Agency in London has just gotten wind of yet another murder in Whitechapel. The Newsies are working overtime and the police suspect this is just another murder due to gang activity in the area. All the while\, a ruthless figure prowls the night\, striking fear into the hearts of the destitute all over England with their cruel and merciless killing spree. Since April\, multiple souls have been taken in the night. Fearful of what’s to come\, the police are finally looking into these murders more thoroughly\, hoping\, just hoping\, they will be able to stop this before more lives are taken… \n\n\n\nNot far from Whitechapel hidden in a misty forest and surrounded by rumors\, stands one of England’s best kept secrets – Madam Tabram’s. This fine and exclusive establishment caters to the elite\, fulfilling their needs for sin and debauchery. At Madam Tabram’s\, you can find whatever your heart desires. Yet\, as the fog creeps in and the night sets\, Madam Tabram’s occupants remain ever so unaware of the shadows prowling the exterior\, ready to consume the brothel and all of its unfortunate souls. \n\n\n\nTabram is a horror/burlesque Larp set in the year 1888 in an exclusive brothel named Madam Tabram`s. With strong themes of horror\, debauchery and sexuality. \n\n\n\nSignup Start: 24.03.2024
URL:https://larpseason.com/event/tabram-an-1888-horror-larp/
LOCATION:Klostergut Gronau\, Klostergut Gronau\, 1\, 65321 Heidenrod\, Germany
CATEGORIES:International LARPs
END:VEVENT
BEGIN:VEVENT
DTSTART;TZID=UTC:20250306T080000
DTEND;TZID=UTC:20250309T170000
DTSTAMP:20260423T095408
CREATED:20250219T221417Z
LAST-MODIFIED:20250219T221417Z
UID:3423-1741248000-1741539600@larpseason.com
SUMMARY:Krystalium: Horrors of War
DESCRIPTION:Freedom is not won by shaking hands and diplomacy – it is won by hard decisions\, blood\, and the sacrifices of those willing to make them. We are not here to secure our own survival. We are here to build a future worth surviving for. The tyranny of the Iron Tzar has gone on for far too long. Long live the revolution!Krystalivm is a blockbuster larp trilogy set in a war-torn world impacted by the sudden rise of new technology. It is a constantly changing and evolving world\, shaped by the protagonists’ decisions – none of which are easy. The seed of revolution has been planted. Now it’s time to harvest it’s bloody fruits.The larp draws inspiration from popular media\, such as Shadow & Bones\, Arcane\, Carnival Row\, and His Dark Materials.
URL:https://larpseason.com/event/krystalium-horrors-of-war/
LOCATION:Twierdza Toruń – Fort IV\, Twierdza Toruń - Fort IV\, ulica Bolesława Chrobrego 86\, 87-100 Toruń\, Polska
CATEGORIES:International LARPs
END:VEVENT
BEGIN:VEVENT
DTSTART;TZID=UTC:20250307T080000
DTEND;TZID=UTC:20250309T170000
DTSTAMP:20260423T095408
CREATED:20241009T154700Z
LAST-MODIFIED:20241009T154700Z
UID:2626-1741334400-1741539600@larpseason.com
SUMMARY:Flying Lead: Lawless (One-Shot)
DESCRIPTION:
URL:https://larpseason.com/event/flying-lead-lawless-one-shot/
LOCATION:Gunman Airsoft Eversley Alpha\, Gunman Airsoft - Eversley The Welsh Dr (Off A327) Hook\, Hampshire RG27 0PX United Kingdom
CATEGORIES:UK LARPs,Weekend LARPs
END:VEVENT
BEGIN:VEVENT
DTSTART;TZID=UTC:20250307T080000
DTEND;TZID=UTC:20250309T170000
DTSTAMP:20260423T095408
CREATED:20241009T181924Z
LAST-MODIFIED:20250214T180725Z
UID:2657-1741334400-1741539600@larpseason.com
SUMMARY:CuPa: PRELUDE 2025: A NEW CHAPTER (sanctioned)
DESCRIPTION:Ravens fly\, messengers spread the call\, and posters appear on notice boards: \n\n\n\nATTENTION ALL FACTIONS\, GROUPS AND FREE PEOPLES. \n\n\n\nThe Bastion requests your aid! \n\n\n\nA cry for help has been received\, with innocents under threat and an unknown evil rising. \n\n\n\nWarriors sharpen your steel\, wielders of magic unfold your mastery\, crafters weave your skill\, and scouts lend us your cunning. The Bastion has called. Will you answer?
URL:https://larpseason.com/event/cupa-sanctioned-prelude-2025-a-new-chapter/
LOCATION:Kibblestone Scout Camp\, Kibblestone Scout Camp\, Staffordshire
CATEGORIES:Curious Pastimes Sanctioned,Sanctioned Events,UK LARPs
END:VEVENT
BEGIN:VEVENT
DTSTART;TZID=UTC:20250307T080000
DTEND;TZID=UTC:20250309T170000
DTSTAMP:20260423T095408
CREATED:20241125T181024Z
LAST-MODIFIED:20241125T181025Z
UID:2749-1741334400-1741539600@larpseason.com
SUMMARY:Gritlands Event 4
DESCRIPTION:
URL:https://larpseason.com/event/gritlands-event-4/
LOCATION:Consall Scout Camp\, Consall Scout Camp\, Blakely Lane\, Dilhorne\, Stoke-on-Trent ST10 2PS
CATEGORIES:UK LARPs,Weekend LARPs
END:VEVENT
BEGIN:VEVENT
DTSTART;TZID=UTC:20250307T080000
DTEND;TZID=UTC:20250310T170000
DTSTAMP:20260423T095408
CREATED:20240506T134407Z
LAST-MODIFIED:20240506T134408Z
UID:2286-1741334400-1741626000@larpseason.com
SUMMARY:Shattered Sanctuary
DESCRIPTION:This is to announce the weekend larp Shattered Sanctuary\, running 7 – 10 March 2025\, near Gloucester\, in the UK. It’s being organized by Larps on Location\, and is designed and organized by Woody J Bevan and Laura Wood. \n\n\n\nSignup to Shattered Sanctuary is open from now until the end of 26th April 2024. Standard places cost £200 – subsidized places are £150\, and you can choose to pay £250 to help support these. This includes all meals for the weekend\, and indoor sleeping. \n\n\n\nShattered Sanctuary is an atmospheric larp about what happens to people when supernatural wonders and horrors seek them out\, and there’s very few places left to run and hide. \n\n\n\nThis game is influenced by Nordic and Mediterranean style larp. The focus in play will be on close relationships\, drama\, conflict and emotions in response to an escalating threat. \n\n\n\nMuch more detail about everything is here: https://shatteredsanctuary.weebly.com and you can join the Shattered Sanctuary Interest Group for more information and announcements about the larp.
URL:https://larpseason.com/event/shattered-sanctuary/
LOCATION:Oakraven Field Centre\, Oakraven Field Centre\, Jubilee Rd\, Mitcheldean Gloucestershire\, GL17 0EE
CATEGORIES:Blockbuster LARPs,UK LARPs
END:VEVENT
BEGIN:VEVENT
DTSTART;TZID=UTC:20250308T130000
DTEND;TZID=UTC:20250308T223000
DTSTAMP:20260423T095408
CREATED:20250212T183849Z
LAST-MODIFIED:20250214T181542Z
UID:3071-1741438800-1741473000@larpseason.com
SUMMARY:Empire: Swift's Grand Rest Opening 2 (player event)
DESCRIPTION:
URL:https://larpseason.com/event/swifts-grand-rest-opening-2-empire-player-event/
LOCATION:The Beonna\, The Beonna\, Benington
CATEGORIES:Empire Sanctioned,Sanctioned Events,UK LARPs
END:VEVENT
BEGIN:VEVENT
DTSTART;TZID=UTC:20250312T080000
DTEND;TZID=UTC:20250312T170000
DTSTAMP:20260423T095408
CREATED:20250214T201407Z
LAST-MODIFIED:20250214T201418Z
UID:3272-1741766400-1741798800@larpseason.com
SUMMARY:MVEX 5
DESCRIPTION:
URL:https://larpseason.com/event/mvex/
CATEGORIES:UK LARPs
END:VEVENT
BEGIN:VEVENT
DTSTART;TZID=UTC:20250313T080000
DTEND;TZID=UTC:20250316T170000
DTSTAMP:20260423T095408
CREATED:20240312T185024Z
LAST-MODIFIED:20240312T185046Z
UID:1401-1741852800-1742144400@larpseason.com
SUMMARY:Dresden Files 1922 LARP: Run 2
DESCRIPTION:
URL:https://larpseason.com/event/dresden-files-1922-larp-run-2/
LOCATION:Grant-Humphreys  Historic Mansion\, Grant-Humphreys Historic Mansion\, Denver\, CO
CATEGORIES:International LARPs
END:VEVENT
BEGIN:VEVENT
DTSTART;TZID=UTC:20250313T080000
DTEND;TZID=UTC:20250316T170000
DTSTAMP:20260423T095408
CREATED:20240904T185101Z
LAST-MODIFIED:20240904T185102Z
UID:2452-1741852800-1742144400@larpseason.com
SUMMARY:Good people of Languedoc 1262
DESCRIPTION:Step into the world of “Good People of Languedoc\,” a LARP that brings the Middle Ages to life with rich storytelling and immersive experiences. \n\n\n\nFrom attending a wedding to navigating the dangers of choosing the ”wrong” belief. \n\n\n\nWhether you’re drawn to the thrill of intrigue and negotiation\, the mystery of religion\, or the allure of Cathar’s life\, this LARP has something for you. \n\n\n\nTaking place from March 13th to 16th\, 2025\, at the stunning Lipnice nad Sazavou castle in the Czech Republic\, this game offers a chance to explore themes of religion\, mysticism\, violence\, investigation\, romance\, and survival in a setting inspired by the history of the Cathars in France.
URL:https://larpseason.com/event/good-people-of-languedoc-1262/
LOCATION:Lipnice nad Sazavou castle\, Lipnice nad Sázavou\, Havlíčkův Brod District\, 582 32\, Czechia
CATEGORIES:International LARPs
END:VEVENT
BEGIN:VEVENT
DTSTART;TZID=UTC:20250314T080000
DTEND;TZID=UTC:20250316T170000
DTSTAMP:20260423T095408
CREATED:20240904T182301Z
LAST-MODIFIED:20240904T182302Z
UID:2420-1741939200-1742144400@larpseason.com
SUMMARY:What happened to Mikey Smith
DESCRIPTION:Booking will open Thursday 26th September at 8pm. \n\n\n\nWhat happened to Mikey Smith is a Mystery Horror LARP set in the UK in 1996. \n\n\n\nLast year’s nature two night away trip ended badly as head boy Mikey Smith was unaccounted for on the final morning. Rumors ranged from secretly winning the lottery with his older sister’s ticket to alien abduction. The school\, police\, and his family accepted the more plausible and mundane explanation\, with no body or evidence of foul play\, he simply ran away. \n\n\n\nThis is a larp and mundane answers wouldn’t make for an exciting mystery horror larp. \n\n\n\nPlayers will take on the role of teenagers attending this year’s now infamous school trip\, they will learn the true fate of Mikey Smith\, but will they survive it? \n\n\n\nYou will enjoy this larp if you enjoy; \n\n\n\n\nEmerging narrative and mystery during a school trip.\n\n\n\nPlaying the setting and not trying to “win” the game. “Average UK teens in 1996.”\n\n\n\nSharing information and plot with other participants.\n\n\n\nSurvival horror.\n\n\n\nPlaying character out of their depths and unprepared for dealing supernatural elements.\n\n\n\nSlow burn reveals which ramp up to a crescendo…\n\n\n\n\n\n\n\n\nWhat you will not find at this larp; \n\n\n\n\nStudent teacher relationships.\n\n\n\nEpic heroic battles. This is not a larp about winning.
URL:https://larpseason.com/event/what-happened-to-mikey-smith/
LOCATION:Peckwood Youth Centre\, PECK WOOD CENTRE ROWNEY GREEN LANE ALVECHURCH WORCESTERSHIRE B48 7QE
CATEGORIES:UK LARPs,Weekend LARPs
END:VEVENT
BEGIN:VEVENT
DTSTART;TZID=UTC:20250314T080000
DTEND;TZID=UTC:20250316T170000
DTSTAMP:20260423T095408
CREATED:20240923T173323Z
LAST-MODIFIED:20250214T181555Z
UID:2543-1741939200-1742144400@larpseason.com
SUMMARY:Empire: At Home with the Guildensterns (player event)
DESCRIPTION:
URL:https://larpseason.com/event/at-home-with-the-guildensterns-empire-player-event/
LOCATION:YHA Wilderhope Manor\, Yha Wilderhope Manor Hostel\, Longville in the Dale\, Much Wenlock TF13 6EG
CATEGORIES:Empire Sanctioned,Sanctioned Events,UK LARPs
END:VEVENT
BEGIN:VEVENT
DTSTART;TZID=UTC:20250314T080000
DTEND;TZID=UTC:20250316T170000
DTSTAMP:20260423T095408
CREATED:20250214T200536Z
LAST-MODIFIED:20250214T200536Z
UID:3265-1741939200-1742144400@larpseason.com
SUMMARY:Against the Verdant E2: A Worthy opponent
DESCRIPTION:
URL:https://larpseason.com/event/against-the-verdant-e2-a-worthy-opponent/
LOCATION:John’s Lee Wood Scout Campsite\, John's Lee Wood Scout Campsite Markfield Lane Markfield Leicestershire LE67 9PS
CATEGORIES:UK LARPs,Weekend LARPs
END:VEVENT
BEGIN:VEVENT
DTSTART;TZID=UTC:20250314T080000
DTEND;TZID=UTC:20250316T170000
DTSTAMP:20260423T095408
CREATED:20250215T201159Z
LAST-MODIFIED:20250215T201339Z
UID:3317-1741939200-1742144400@larpseason.com
SUMMARY:CuPa: A Reckoning of Jarls (Wolves sanctioned)
DESCRIPTION:
URL:https://larpseason.com/event/cupa-wolves-faction-event-wolves-sanctioned/
LOCATION:Consall Scout Camp\, Consall Scout Camp\, Blakely Lane\, Dilhorne\, Stoke-on-Trent ST10 2PS
CATEGORIES:Curious Pastimes Sanctioned,Sanctioned Events,UK LARPs
END:VEVENT
BEGIN:VEVENT
DTSTART;TZID=UTC:20250315T080000
DTEND;TZID=UTC:20250316T170000
DTSTAMP:20260423T095408
CREATED:20241019T145843Z
LAST-MODIFIED:20250214T181604Z
UID:2703-1742025600-1742144400@larpseason.com
SUMMARY:Empire: Seven Hours of Virtue VII (player event)
DESCRIPTION:
URL:https://larpseason.com/event/empire-player-event-seven-hours-of-virtue/
LOCATION:Left Bank Leeds\, Left Bank Leeds\, Cardigan Rd\, Leeds\, LS6 1LJ
CATEGORIES:Empire Sanctioned,Sanctioned Events,UK LARPs
END:VEVENT
BEGIN:VEVENT
DTSTART;TZID=UTC:20250315T090000
DTEND;TZID=UTC:20250315T170000
DTSTAMP:20260423T095408
CREATED:20241008T183309Z
LAST-MODIFIED:20250214T182628Z
UID:2602-1742029200-1742058000@larpseason.com
SUMMARY:Tales LARP Chapter 30: Survivor
DESCRIPTION:
URL:https://larpseason.com/event/tales-larp-chapter-30-survivor/
CATEGORIES:Club Games,UK LARPs
END:VEVENT
BEGIN:VEVENT
DTSTART;TZID=UTC:20250316T180000
DTEND;TZID=UTC:20250316T220000
DTSTAMP:20260423T095408
CREATED:20250202T212135Z
LAST-MODIFIED:20250202T212136Z
UID:2849-1742148000-1742162400@larpseason.com
SUMMARY:Generation Season 1 Event 2
DESCRIPTION:
URL:https://larpseason.com/event/generation-season-1-event-2/
LOCATION:The Treehouse\, The Treehouse board game cafe 41 Boston Street\, Sheffield\, S2 4QF
CATEGORIES:Club Games,UK LARPs
END:VEVENT
BEGIN:VEVENT
DTSTART;TZID=UTC:20250321T080000
DTEND;TZID=UTC:20250323T170000
DTSTAMP:20260423T095408
CREATED:20241009T154746Z
LAST-MODIFIED:20241009T154746Z
UID:2628-1742544000-1742749200@larpseason.com
SUMMARY:The Forlorn Hope Episode 4
DESCRIPTION:
URL:https://larpseason.com/event/the-forlorn-hope-episode-4/
LOCATION:Gunman Airsoft Eversley Alpha\, Gunman Airsoft - Eversley The Welsh Dr (Off A327) Hook\, Hampshire RG27 0PX United Kingdom
CATEGORIES:UK LARPs,Weekend LARPs
END:VEVENT
BEGIN:VEVENT
DTSTART;TZID=UTC:20250321T080000
DTEND;TZID=UTC:20250323T170000
DTSTAMP:20260423T095408
CREATED:20241210T213526Z
LAST-MODIFIED:20250215T200346Z
UID:2768-1742544000-1742749200@larpseason.com
SUMMARY:CuPa: Labyrinthian: Raiders of the Edelburg (Teutonia sanctioned)
DESCRIPTION:
URL:https://larpseason.com/event/cupa-sanctioned-labyrinthian-raiders-of-the-edelburg/
LOCATION:Kibblestone Scout Camp\, Kibblestone Scout Camp\, Staffordshire
CATEGORIES:Curious Pastimes Sanctioned,Sanctioned Events,UK LARPs
END:VEVENT
BEGIN:VEVENT
DTSTART;TZID=UTC:20250321T080000
DTEND;TZID=UTC:20250323T170000
DTSTAMP:20260423T095408
CREATED:20250205T194823Z
LAST-MODIFIED:20250214T182326Z
UID:2906-1742544000-1742749200@larpseason.com
SUMMARY:OS: Incident on Research Base KU516 (sanctioned)
DESCRIPTION:You have been requested to investigate why there has been no response from scientific research base KU 516. Contact was lost a few days ago and the lack of communication has caused the alarm to be raised.It is known the base is owned by Bentham Utilities\, and leased out to Terran Ascendancy scientists. Base KU516 is a medical research facility\, with a full complement of staff\, including men\, women and children’s educational facilities.It has long been rumoured that station Ku516 have conducted experiments into genetic and chemical warfare research. The Terrain Ascendancy have responded to such questions with complete silence. Of course\, the refusal to elaborate has fuelled all sorts of conspiracy theories\, some of which may even have some truth to them.More information about the situation will be incoming.
URL:https://larpseason.com/event/orion-sphere-sanctioned-incident-on-research-base-ku516/
LOCATION:The Lenton Centre\, Willoughby Street\, Nottingham\, NG7 1RQ\, United Kingdom
CATEGORIES:Non-Fest Sanctioned,Sanctioned Events,UK LARPs,Weekend LARPs
END:VEVENT
BEGIN:VEVENT
DTSTART;TZID=UTC:20250321T080000
DTEND;TZID=UTC:20250323T170000
DTSTAMP:20260423T095408
CREATED:20250214T175818Z
LAST-MODIFIED:20250214T183234Z
UID:3127-1742544000-1742749200@larpseason.com
SUMMARY:LT: The Show Must Go On (Dragons Sanctioned)
DESCRIPTION:
URL:https://larpseason.com/event/lt-the-show-must-go-on-santioned/
LOCATION:Consall Scout Camp\, Consall Scout Camp\, Blakely Lane\, Dilhorne\, Stoke-on-Trent ST10 2PS
CATEGORIES:Lorien Trust Sanctioned,Sanctioned Events,UK LARPs
END:VEVENT
BEGIN:VEVENT
DTSTART;TZID=Europe/Paris:20250321T080000
DTEND;TZID=Europe/Paris:20250323T170000
DTSTAMP:20260423T095408
CREATED:20251006T205955Z
LAST-MODIFIED:20251006T205956Z
UID:3823-1742544000-1742749200@larpseason.com
SUMMARY:Carum LRP E1: A New Chorus
DESCRIPTION:
URL:https://larpseason.com/event/carum-lrp-e1-a-new-chorus/
LOCATION:Root ‘n’ Branch Acres\, Root 'n' Branch Acres\, Solihull\, B92 0HQ\, UK
CATEGORIES:UK LARPs,Weekend LARPs
END:VEVENT
BEGIN:VEVENT
DTSTART;TZID=Europe/Paris:20250321T080000
DTEND;TZID=Europe/Paris:20250323T170000
DTSTAMP:20260423T095408
CREATED:20251026T174442Z
LAST-MODIFIED:20251026T174443Z
UID:4123-1742544000-1742749200@larpseason.com
SUMMARY:Wyrd Wild West Country - A Spot on the Moor
DESCRIPTION:
URL:https://larpseason.com/event/wyrd-wild-west-country-a-spot-on-the-moor/
LOCATION:Taw Bottom Guides Camp Site\, Taw Bottom Devon Guides Camp Site\, Taw Bottom\, South Tawton\, EX20 2LP
CATEGORIES:UK LARPs,Weekend LARPs
END:VEVENT
BEGIN:VEVENT
DTSTART;TZID=UTC:20250321T160000
DTEND;TZID=UTC:20250323T150000
DTSTAMP:20260423T095408
CREATED:20250210T223854Z
LAST-MODIFIED:20250214T132016Z
UID:2921-1742572800-1742742000@larpseason.com
SUMMARY:Forsaken Lands: Event 5- Fire Shall Reign
DESCRIPTION:Prepare to step into a realm where ancient magic and forgotten artefacts converge. \n\n\n\nTwisted Goblin Armouries and Heavy Waite Gaming are proud to invite you to an unforgettable experience in the lands of the Minnorath. \n\n\n\nSoon\, our heroes will venture to Naxalos\, where the skies are thick with ash and the air burns with the heat of it’s volcano. For months\, the city beneath its shadow has been engulfed in flames\, overrun by relentless fire elementals that emerge from the mountain’s heart. The streets crumble beneath waves of molten rock\, and the once-great city now teeters on the brink of total collapse. The people cry out for aid\, but not even the Myrmrdons can face the inferno. Only the elite unit stand a chance of halting the devastation. \n\n\n\nAs the heroes prepare for their journey\, they will know they face not just the fire elementals\, but something far worse. Beneath the molten veins of Naxalos\, an ancient power stirs. Magmora\, the behemoth of flame\, waits for the moment to rise\, to unleash a firestorm the likes of which the world has never seen. The city needs saving\, but the true battle will be against a force older and more dangerous than any army. \n\n\n\nThe battle will not be easy\, and difficult decisions will need to be made. The elite unit and the bonds between all nations will be tested like never before. The links between them put to the test in a blazing crucible. \n\n\n\nMagmora shall rise. Fire shall reign.
URL:https://larpseason.com/event/forsaken-lands-event-5-fire-shall-reign/
LOCATION:Squirrel Wood Scout Camp\, SQUIRREL WOOD SCOUT CAMP\, DONCASTER DN6 9JF
CATEGORIES:UK LARPs,Weekend LARPs
ORGANIZER;CN="Twisted Goblin Armouries":MAILTO:dilxius@gmail.com
END:VEVENT
END:VCALENDAR