BEGIN:VCALENDAR
VERSION:2.0
PRODID:-//LARP SEASON - ECPv6.15.20//NONSGML v1.0//EN
CALSCALE:GREGORIAN
METHOD:PUBLISH
X-WR-CALNAME:LARP SEASON
X-ORIGINAL-URL:https://larpseason.com
X-WR-CALDESC:Events for LARP SEASON
REFRESH-INTERVAL;VALUE=DURATION:PT1H
X-Robots-Tag:noindex
X-PUBLISHED-TTL:PT1H
BEGIN:VTIMEZONE
TZID:Europe/Paris
BEGIN:DAYLIGHT
TZOFFSETFROM:+0100
TZOFFSETTO:+0200
TZNAME:CEST
DTSTART:20240331T010000
END:DAYLIGHT
BEGIN:STANDARD
TZOFFSETFROM:+0200
TZOFFSETTO:+0100
TZNAME:CET
DTSTART:20241027T010000
END:STANDARD
BEGIN:DAYLIGHT
TZOFFSETFROM:+0100
TZOFFSETTO:+0200
TZNAME:CEST
DTSTART:20250330T010000
END:DAYLIGHT
BEGIN:STANDARD
TZOFFSETFROM:+0200
TZOFFSETTO:+0100
TZNAME:CET
DTSTART:20251026T010000
END:STANDARD
BEGIN:DAYLIGHT
TZOFFSETFROM:+0100
TZOFFSETTO:+0200
TZNAME:CEST
DTSTART:20260329T010000
END:DAYLIGHT
BEGIN:STANDARD
TZOFFSETFROM:+0200
TZOFFSETTO:+0100
TZNAME:CET
DTSTART:20261025T010000
END:STANDARD
END:VTIMEZONE
BEGIN:VTIMEZONE
TZID:UTC
BEGIN:STANDARD
TZOFFSETFROM:+0000
TZOFFSETTO:+0000
TZNAME:UTC
DTSTART:20240101T000000
END:STANDARD
END:VTIMEZONE
BEGIN:VEVENT
DTSTART;TZID=Europe/Paris:20250830T080000
DTEND;TZID=Europe/Paris:20250830T170000
DTSTAMP:20260423T003850
CREATED:20251006T210231Z
LAST-MODIFIED:20251006T210232Z
UID:3827-1756540800-1756573200@larpseason.com
SUMMARY:OCCULT: 1990
DESCRIPTION:OCCULT: 1990 is a dark modern fantasy LARP containing themes of PVP\, horror\, speculation\, rumours\, and politics. Set in the 1990’s\, OCCULT has been born from the likes of cult film\, new wave art and music\, and a love of the supernatural. \n\n\n\nWe’ve crafted a rich\, bespoke world for our game where you can play many kinds of occult bloodline – including Werewolves\, Vampyre\, Ghouls\, and our own unique creatures. \n\n\n\nThe event will run for one night at underground nightclub venue Basement 45 in Bristol\, and the setting is the Promenade – a graduation prom for a new year of graduates from occult university Ashcourt Academy. This is an event known for backstabbings – political uprisings – and sabotage. It may just seem like prom\, but everyone knows the stakes are high.
URL:https://larpseason.com/event/occult-1990/
LOCATION:Basement 45\, Bristol\, Basement 45\, Bristol
CATEGORIES:Parlour LARPs,UK LARPs
END:VEVENT
BEGIN:VEVENT
DTSTART;TZID=UTC:20250829T080000
DTEND;TZID=UTC:20250831T170000
DTSTAMP:20260423T003850
CREATED:20251004T130403Z
LAST-MODIFIED:20251004T130403Z
UID:3622-1756454400-1756659600@larpseason.com
SUMMARY:Empire: Beat the Longest Bounds (player event)
DESCRIPTION:
URL:https://larpseason.com/event/empire-beat-the-longest-bounds-player-event/
LOCATION:Gunman Airsoft Eversley Alpha\, Gunman Airsoft - Eversley The Welsh Dr (Off A327) Hook\, Hampshire RG27 0PX United Kingdom
CATEGORIES:Empire Sanctioned,Sanctioned Events,UK LARPs
END:VEVENT
BEGIN:VEVENT
DTSTART;TZID=UTC:20250829T080000
DTEND;TZID=UTC:20250831T170000
DTSTAMP:20260423T003850
CREATED:20250219T222303Z
LAST-MODIFIED:20250219T222304Z
UID:3447-1756454400-1756659600@larpseason.com
SUMMARY:Chaosgate
DESCRIPTION:
URL:https://larpseason.com/event/chaosgate-5/
CATEGORIES:UK LARPs,Weekend LARPs
END:VEVENT
BEGIN:VEVENT
DTSTART;TZID=UTC:20250829T080000
DTEND;TZID=UTC:20250831T170000
DTSTAMP:20260423T003850
CREATED:20250219T212743Z
LAST-MODIFIED:20250219T212744Z
UID:3351-1756454400-1756659600@larpseason.com
SUMMARY:4077: Season 1\, Episode 3
DESCRIPTION:
URL:https://larpseason.com/event/4077-season-1-episode-3/
CATEGORIES:UK LARPs,Weekend LARPs
END:VEVENT
BEGIN:VEVENT
DTSTART;TZID=UTC:20250829T080000
DTEND;TZID=UTC:20250831T170000
DTSTAMP:20260423T003850
CREATED:20250212T174404Z
LAST-MODIFIED:20250212T174405Z
UID:3019-1756454400-1756659600@larpseason.com
SUMMARY:Age of Essence Weekend Event
DESCRIPTION:
URL:https://larpseason.com/event/age-of-essence-weekend-event-2/
LOCATION:Hope Hill Campsite\, Hope Hill Campsite\, Meopham\, Gravesend DA13 0QJ
CATEGORIES:Club Games,UK LARPs,Weekend LARPs
END:VEVENT
BEGIN:VEVENT
DTSTART;TZID=UTC:20250829T080000
DTEND;TZID=UTC:20250831T170000
DTSTAMP:20260423T003850
CREATED:20250202T211653Z
LAST-MODIFIED:20250202T211653Z
UID:2839-1756454400-1756659600@larpseason.com
SUMMARY:Orion Sphere: Event 13
DESCRIPTION:
URL:https://larpseason.com/event/orion-sphere-event-13/
LOCATION:Willesley Scout Camp\, willesley scout camp
CATEGORIES:UK LARPs,Weekend LARPs
END:VEVENT
BEGIN:VEVENT
DTSTART;TZID=UTC:20250829T080000
DTEND;TZID=UTC:20250831T170000
DTSTAMP:20260423T003850
CREATED:20241008T162417Z
LAST-MODIFIED:20241008T162418Z
UID:2596-1756454400-1756659600@larpseason.com
SUMMARY:Eldritch Isle: Regnum Mortis
DESCRIPTION:
URL:https://larpseason.com/event/eldritch-isle-regnum-mortis/
LOCATION:Gunman Airsoft Eversley Alpha\, Gunman Airsoft - Eversley The Welsh Dr (Off A327) Hook\, Hampshire RG27 0PX United Kingdom
CATEGORIES:UK LARPs,Weekend LARPs
END:VEVENT
BEGIN:VEVENT
DTSTART;TZID=UTC:20250827T080000
DTEND;TZID=UTC:20250831T170000
DTSTAMP:20260423T003850
CREATED:20250214T134024Z
LAST-MODIFIED:20250214T134025Z
UID:3114-1756281600-1756659600@larpseason.com
SUMMARY:97 Poets of Revachol: Run 4
DESCRIPTION:A larp about poverty\, art\, politics\, radicalisation\, and the beauty in the cracks of old\, worn things. Set in the world of Disco Elysium\, but knowledge of the game is not required to play.
URL:https://larpseason.com/event/97-poets-of-revachol-run-4/
LOCATION:Old Military Hospital\, Terezín\, Czechia\, Principova alej 304\, 411 55 Terezín\, Czechia
CATEGORIES:International LARPs
ORGANIZER;CN="97 Poets of Revachol":MAILTO:revachol@rolling.cz
END:VEVENT
BEGIN:VEVENT
DTSTART;TZID=UTC:20250823T140000
DTEND;TZID=UTC:20250823T200000
DTSTAMP:20260423T003850
CREATED:20251004T130214Z
LAST-MODIFIED:20251004T130215Z
UID:3618-1755957600-1755979200@larpseason.com
SUMMARY:Empire: Ankarien Debate Society (player event)
DESCRIPTION:
URL:https://larpseason.com/event/empire-ankarien-debate-society-player-event/
LOCATION:The Old Library\, Mill Lane\, The Old Library\, Mill Lane\, Birmingham
CATEGORIES:Empire Sanctioned,Sanctioned Events,UK LARPs
END:VEVENT
BEGIN:VEVENT
DTSTART;TZID=UTC:20250822T080000
DTEND;TZID=UTC:20250825T170000
DTSTAMP:20260423T003850
CREATED:20240919T161021Z
LAST-MODIFIED:20251006T211316Z
UID:2518-1755849600-1756141200@larpseason.com
SUMMARY:Lorien Trust The Gathering
DESCRIPTION:
URL:https://larpseason.com/event/lorien-trust-the-gathering-2/
LOCATION:Locko Park\, Locko Park\, Derby
CATEGORIES:Fest LARPs,UK LARPs,Weekend LARPs
END:VEVENT
BEGIN:VEVENT
DTSTART;TZID=UTC:20250822T080000
DTEND;TZID=UTC:20250824T170000
DTSTAMP:20260423T003850
CREATED:20250521T090418Z
LAST-MODIFIED:20250521T090419Z
UID:3544-1755849600-1756054800@larpseason.com
SUMMARY:Hope Stands United
DESCRIPTION:here’s a new LARP in Devon!It’s a farmer LARP. Players are the Dumnonii trying to carve out lives in Roman Devon.The Gods and the Dead demand sacrifice\, the Romans demand taxes and don’t get me started on the Cornish.Skills all combo together to get variety out of limited parts. There are verbal conflict mechanics to stop “I’m a white man shouting at you” diplomacy. There is a deep puzzle based alchemical magic system. Most importantly of all the resources in the game generated with the FARMING MECHANICS.You could join us\, at Taw Bottom\, August 22nd – 24th\, in taking these bloody Romans down a peg and pushing the Cornish back across the Tamar.
URL:https://larpseason.com/event/hope-stands-united/
LOCATION:Taw Bottom Guides Camp Site\, Taw Bottom Devon Guides Camp Site\, Taw Bottom\, South Tawton\, EX20 2LP
CATEGORIES:UK LARPs,Weekend LARPs
END:VEVENT
BEGIN:VEVENT
DTSTART;TZID=UTC:20250822T080000
DTEND;TZID=UTC:20250824T170000
DTSTAMP:20260423T003850
CREATED:20241120T230803Z
LAST-MODIFIED:20250214T181635Z
UID:2747-1755849600-1756054800@larpseason.com
SUMMARY:Empire: Good Lead Games 5 - It's Giving Goodleaf (player event)
DESCRIPTION:
URL:https://larpseason.com/event/good-lead-games-5-its-giving-goodleaf/
LOCATION:Gunman Airsoft Eversley Alpha\, Gunman Airsoft - Eversley The Welsh Dr (Off A327) Hook\, Hampshire RG27 0PX United Kingdom
CATEGORIES:Empire Sanctioned,Sanctioned Events,UK LARPs
END:VEVENT
BEGIN:VEVENT
DTSTART;TZID=UTC:20250822T080000
DTEND;TZID=UTC:20250824T170000
DTSTAMP:20260423T003850
CREATED:20241008T183549Z
LAST-MODIFIED:20241008T183550Z
UID:2608-1755849600-1756054800@larpseason.com
SUMMARY:Tales LARP Chapter 33: Celestial Bodies or Torment Unrelenting
DESCRIPTION:
URL:https://larpseason.com/event/tales-larp-chapter-33-celestial-bodies-or-torment-unrelenting/
LOCATION:Ross Wood Campsite\, Ross Wood Campsite\, New Rd.\, Herne Bay
CATEGORIES:UK LARPs,Weekend LARPs
END:VEVENT
BEGIN:VEVENT
DTSTART;TZID=UTC:20250821T080000
DTEND;TZID=UTC:20250825T170000
DTSTAMP:20260423T003850
CREATED:20240909T190143Z
LAST-MODIFIED:20240909T190215Z
UID:2496-1755763200-1756141200@larpseason.com
SUMMARY:Curious Pastimes Event 4
DESCRIPTION:
URL:https://larpseason.com/event/curious-pastimes-event-4/
LOCATION:Weston Park\, Weston Park\, Weston-under-Lizard\, Shifnal\, TF11 8LE
CATEGORIES:Fest LARPs,UK LARPs,Weekend LARPs
END:VEVENT
BEGIN:VEVENT
DTSTART;TZID=UTC:20250821T080000
DTEND;TZID=UTC:20250824T170000
DTSTAMP:20260423T003850
CREATED:20250219T215629Z
LAST-MODIFIED:20250219T215629Z
UID:3406-1755763200-1756054800@larpseason.com
SUMMARY:The Children of the House: Early Bird run
DESCRIPTION:“𝘛𝘩𝘦 𝘉𝘦𝘢𝘶𝘵𝘺 𝘰𝘧 𝘵𝘩𝘦 𝘏𝘰𝘶𝘴𝘦 𝘪𝘴 𝘪𝘮𝘮𝘦𝘢𝘴𝘶𝘳𝘢𝘣𝘭𝘦; 𝘪𝘵𝘴 𝘒𝘪𝘯𝘥𝘯𝘦𝘴𝘴 𝘪𝘯𝘧𝘪𝘯𝘪𝘵𝘦.”We would like to remind you that the signup for our “Piranesi” inspired larp\, 𝗧𝗵𝗲 𝗖𝗵𝗶𝗹𝗱𝗿𝗲𝗻 𝗼𝗳 𝗧𝗵𝗲 𝗛𝗼𝘂𝘀𝗲\, will be closing at the end of this weekend. So if you would still like to create this world in The House with us\, now’s the time to fill out the signup form. We currently need a few more sign ups to be able to run both runs with a clear conscience.A larp about surviving in a tight-knit community of few individuals that live in superstition and gratitude in an inhospitable other world that consists only of The House\, until one day\, everything changes\, and the Children and their community are faced with a new reality that slowly unfolds for them.
URL:https://larpseason.com/event/the-children-of-the-house-early-bird-run/
LOCATION:Pałac Lubinicko\, Świebodzin\, Poland\, Pałac Lubinicko\, Świebodzin\, Poland
CATEGORIES:International LARPs
END:VEVENT
BEGIN:VEVENT
DTSTART;TZID=UTC:20250821T080000
DTEND;TZID=UTC:20250824T170000
DTSTAMP:20260423T003850
CREATED:20250214T134315Z
LAST-MODIFIED:20250214T134316Z
UID:3116-1755763200-1756054800@larpseason.com
SUMMARY:Whirls of Pontar - a Witcher LARP
DESCRIPTION:Tassels-Flochburg is a sleepy town situated on the Great and Small Islands\, two almost twin parts of Pontar Isle. Looking deeper beneath the roofs\, one can see that the reality is quite different. In truth\, behind the facade of mutual aid and cooperation\, shameful divisions lurk\, fueling friction and competition for influence. \n\n\n\nNow\, as they do every year at this time\, the residents are preparing for the Harvest Festival Fair. It provides an excellent opportunity not only to meet travelers from the Continent\, newcomers from its farthest borders\, rekindle old acquaintances\, or make new connections\, but also to establish who truly rules this isolated community. It is in this very place that our story begins. \n\n\n\nWe invite you to Whirls of Pontar – larp set in The Witcher world a licensed by CD PROJEKT RED game about boundaries in their broadest sense. Set in the Witcher world\, this story tells about city life and the relationships between different groups of residents.
URL:https://larpseason.com/event/whirls-of-pontar-a-witcher-larp/
LOCATION:Wolin\, Recław 37\, 72-510 Wolin\, Wolin\, Recław 37\, 72-510 Wolin\, Poland
CATEGORIES:International LARPs
END:VEVENT
BEGIN:VEVENT
DTSTART;TZID=UTC:20250821T080000
DTEND;TZID=UTC:20250824T170000
DTSTAMP:20260423T003850
CREATED:20241006T104620Z
LAST-MODIFIED:20241006T104620Z
UID:2571-1755763200-1756054800@larpseason.com
SUMMARY:Bonds Unbroken
DESCRIPTION:Magic is faltering\, an empire is rising\, and the Lightspinners are racing against time to stop a Cataclysm. Side by side with the Wardens\, their magically bonded bodyguards in a world that increasingly distrusts them\, they must learn the source of the magical upheaval and fend off the armies at the gates of their home as ancient dangers rise to threaten everything they hold dear. \n\n\n\nIn the Hall of Light’s darkest hour\, old friendships are tested and new rivalries emerge. Which bonds will hold fast and which must you break to build the future you want? \n\n\n\nBonds Unbroken is an international style larp that puts paired play at the heart of the experience. Join us for: \n\n\n\n Deeply connected characters \n\n\n\n Non-traditional gender roles \n\n\n\n Mage tower politics \n\n\n\n Warrior camaraderie \n\n\n\n Chances for both tragedy and triumph in a world on the brink of changing forever \n\n\n\nSIGN UP: Open October 14th for three weeks – join the Facebook group\, Discord or mailing list for updates and sign-up notifications: https://bit.ly/m/ProjectBonds
URL:https://larpseason.com/event/bonds-unbroken/
LOCATION:Ingestre Hall Arts Centre\, Ingestre Hall Arts Centre ST18 0RF
CATEGORIES:Blockbuster LARPs,UK LARPs
END:VEVENT
BEGIN:VEVENT
DTSTART;TZID=UTC:20250820T080000
DTEND;TZID=UTC:20250824T170000
DTSTAMP:20260423T003850
CREATED:20250214T133927Z
LAST-MODIFIED:20250214T133927Z
UID:3112-1755676800-1756054800@larpseason.com
SUMMARY:97 Poets of Revachol: Run 3
DESCRIPTION:A larp about poverty\, art\, politics\, radicalisation\, and the beauty in the cracks of old\, worn things. Set in the world of Disco Elysium\, but knowledge of the game is not required to play.
URL:https://larpseason.com/event/97-poets-of-revachol-run-3/
LOCATION:Old Military Hospital\, Terezín\, Czechia\, Principova alej 304\, 411 55 Terezín\, Czechia
CATEGORIES:International LARPs
ORGANIZER;CN="97 Poets of Revachol":MAILTO:revachol@rolling.cz
END:VEVENT
BEGIN:VEVENT
DTSTART;TZID=UTC:20250816T080000
DTEND;TZID=UTC:20250819T170000
DTSTAMP:20260423T003850
CREATED:20250219T215510Z
LAST-MODIFIED:20250219T215510Z
UID:3402-1755331200-1755622800@larpseason.com
SUMMARY:The Children of the House: Night Owl run
DESCRIPTION:“𝘛𝘩𝘦 𝘉𝘦𝘢𝘶𝘵𝘺 𝘰𝘧 𝘵𝘩𝘦 𝘏𝘰𝘶𝘴𝘦 𝘪𝘴 𝘪𝘮𝘮𝘦𝘢𝘴𝘶𝘳𝘢𝘣𝘭𝘦; 𝘪𝘵𝘴 𝘒𝘪𝘯𝘥𝘯𝘦𝘴𝘴 𝘪𝘯𝘧𝘪𝘯𝘪𝘵𝘦.”We would like to remind you that the signup for our “Piranesi” inspired larp\, 𝗧𝗵𝗲 𝗖𝗵𝗶𝗹𝗱𝗿𝗲𝗻 𝗼𝗳 𝗧𝗵𝗲 𝗛𝗼𝘂𝘀𝗲\, will be closing at the end of this weekend. So if you would still like to create this world in The House with us\, now’s the time to fill out the signup form. We currently need a few more sign ups to be able to run both runs with a clear conscience.A larp about surviving in a tight-knit community of few individuals that live in superstition and gratitude in an inhospitable other world that consists only of The House\, until one day\, everything changes\, and the Children and their community are faced with a new reality that slowly unfolds for them.
URL:https://larpseason.com/event/the-children-of-the-house-night-owl-run/
LOCATION:Pałac Lubinicko\, Świebodzin\, Poland\, Pałac Lubinicko\, Świebodzin\, Poland
CATEGORIES:International LARPs
END:VEVENT
BEGIN:VEVENT
DTSTART;TZID=Europe/Paris:20250815T080000
DTEND;TZID=Europe/Paris:20250817T170000
DTSTAMP:20260423T003850
CREATED:20251006T205853Z
LAST-MODIFIED:20251006T205854Z
UID:3821-1755244800-1755450000@larpseason.com
SUMMARY:Carum LRP E3: Opposing Forces
DESCRIPTION:
URL:https://larpseason.com/event/carum-lrp-e3-opposing-forces/
LOCATION:Root ‘n’ Branch Acres\, Root 'n' Branch Acres\, Solihull\, B92 0HQ\, UK
CATEGORIES:UK LARPs,Weekend LARPs
END:VEVENT
BEGIN:VEVENT
DTSTART;TZID=UTC:20250815T080000
DTEND;TZID=UTC:20250817T170000
DTSTAMP:20260423T003850
CREATED:20251004T135435Z
LAST-MODIFIED:20251004T135436Z
UID:3718-1755244800-1755450000@larpseason.com
SUMMARY:Hard Law: Run 1
DESCRIPTION:Places are strictly limited due to the unique site and the kind of wild cinematic experience we’re about to unleash — so make sure you’re ready the moment they drop. \n\n\n\nAre you ready to step behind the scenes of your first B-Movie Production LARP? \n\n\n\nThink cheap sets\, big performances… and something sinister creeping in from the shadows. \n\n\n\nLights. Camera. Panic.
URL:https://larpseason.com/event/hard-law-run-1/
LOCATION:Deadwood Town\, Wattlehurst Farm\, Horsham\, West Sussex
CATEGORIES:UK LARPs,Weekend LARPs
END:VEVENT
BEGIN:VEVENT
DTSTART;TZID=UTC:20250815T080000
DTEND;TZID=UTC:20250817T170000
DTSTAMP:20260423T003850
CREATED:20250219T214202Z
LAST-MODIFIED:20250219T214203Z
UID:3382-1755244800-1755450000@larpseason.com
SUMMARY:Fabula Rasa E3 2025
DESCRIPTION:
URL:https://larpseason.com/event/fabula-rasa-e3-2025/
LOCATION:Pinewood Scouts Activity Centre\, Pinewood Scouts Activity Centre\, Shirley Church Rd\, Croydon CR0 5AJ
CATEGORIES:UK LARPs,Weekend LARPs
END:VEVENT
BEGIN:VEVENT
DTSTART;TZID=UTC:20250815T080000
DTEND;TZID=UTC:20250817T170000
DTSTAMP:20260423T003850
CREATED:20241006T103856Z
LAST-MODIFIED:20241006T103856Z
UID:2563-1755244800-1755450000@larpseason.com
SUMMARY:Wilde Realms Event 3
DESCRIPTION:
URL:https://larpseason.com/event/wilde-realms-event-3/
LOCATION:Ross Wood Campsite\, Ross Wood Campsite\, New Rd.\, Herne Bay
CATEGORIES:UK LARPs,Weekend LARPs
END:VEVENT
BEGIN:VEVENT
DTSTART;TZID=UTC:20250815T080000
DTEND;TZID=UTC:20250817T170000
DTSTAMP:20260423T003850
CREATED:20240724T185329Z
LAST-MODIFIED:20240904T191845Z
UID:2387-1755244800-1755450000@larpseason.com
SUMMARY:Menhir's Fate: Event 3
DESCRIPTION:
URL:https://larpseason.com/event/menhirs-fate-event-3/
LOCATION:Bygrave Woods\, Bygrave\, Hertfordshire\, SG7\, United Kingdom
CATEGORIES:Fest LARPs,UK LARPs,Weekend LARPs
END:VEVENT
BEGIN:VEVENT
DTSTART;TZID=UTC:20250814T080000
DTEND;TZID=UTC:20250817T170000
DTSTAMP:20260423T003850
CREATED:20250214T202106Z
LAST-MODIFIED:20250214T202107Z
UID:3279-1755158400-1755450000@larpseason.com
SUMMARY:Become Human v2
DESCRIPTION:
URL:https://larpseason.com/event/become-human-v2/
LOCATION:ZSA Bleiche\, ZSA Bleiche\, Switzerland
CATEGORIES:International LARPs
END:VEVENT
BEGIN:VEVENT
DTSTART;TZID=UTC:20250808T080000
DTEND;TZID=UTC:20250810T170000
DTSTAMP:20260423T003850
CREATED:20250219T213805Z
LAST-MODIFIED:20250219T213806Z
UID:3374-1754640000-1754845200@larpseason.com
SUMMARY:Stargate LRP: Event 2
DESCRIPTION:
URL:https://larpseason.com/event/stargate-lrp-event-2/
LOCATION:Silverwood Scout Camp\, Silverwood Scout Camp\, Barnsley Road Silkstone South Yorkshire S75
CATEGORIES:UK LARPs,Weekend LARPs
END:VEVENT
BEGIN:VEVENT
DTSTART;TZID=UTC:20250808T080000
DTEND;TZID=UTC:20250810T170000
DTSTAMP:20260423T003850
CREATED:20250214T185052Z
LAST-MODIFIED:20250214T185053Z
UID:3231-1754640000-1754845200@larpseason.com
SUMMARY:Pieces of Eight: Event 1
DESCRIPTION:
URL:https://larpseason.com/event/pieces-of-eight-event-1/
LOCATION:Kinver Scout Camp\, Kinver Scout Camp\, The Compa\, Kinver\, Stourbridge DY7 6HR
CATEGORIES:UK LARPs,Weekend LARPs
END:VEVENT
BEGIN:VEVENT
DTSTART;TZID=UTC:20250808T080000
DTEND;TZID=UTC:20250810T170000
DTSTAMP:20260423T003850
CREATED:20250202T212835Z
LAST-MODIFIED:20250202T212836Z
UID:2862-1754640000-1754845200@larpseason.com
SUMMARY:Ancient Tides: The Outbreak
DESCRIPTION:
URL:https://larpseason.com/event/ancient-tides-the-outbreak/
LOCATION:Root ‘n’ Branch Acres\, Root 'n' Branch Acres\, Solihull\, B92 0HQ\, UK
CATEGORIES:UK LARPs,Weekend LARPs
END:VEVENT
BEGIN:VEVENT
DTSTART;TZID=UTC:20250808T080000
DTEND;TZID=UTC:20250810T170000
DTSTAMP:20260423T003850
CREATED:20241009T073632Z
LAST-MODIFIED:20241220T170545Z
UID:2620-1754640000-1754845200@larpseason.com
SUMMARY:Ardent Spacers Event 1
DESCRIPTION:
URL:https://larpseason.com/event/ardent-spacers-event-1/
LOCATION:Leslie Sell Activity Centre\, Leslie Sell Activity Centre\, Bedford
CATEGORIES:UK LARPs,Weekend LARPs
END:VEVENT
BEGIN:VEVENT
DTSTART;TZID=UTC:20250808T080000
DTEND;TZID=UTC:20250809T170000
DTSTAMP:20260423T003850
CREATED:20240904T184413Z
LAST-MODIFIED:20240904T184414Z
UID:2448-1754640000-1754758800@larpseason.com
SUMMARY:Immersion Larp Festival
DESCRIPTION:
URL:https://larpseason.com/event/immersion-larp-festival-2/
LOCATION:Tehdas Teatteri\, Tehdas Teatteri\, Turku
CATEGORIES:International Conventions & Festivals,International LARPs
END:VEVENT
END:VCALENDAR