BEGIN:VCALENDAR
VERSION:2.0
PRODID:-//LARP SEASON - ECPv6.15.20//NONSGML v1.0//EN
CALSCALE:GREGORIAN
METHOD:PUBLISH
X-WR-CALNAME:LARP SEASON
X-ORIGINAL-URL:https://larpseason.com
X-WR-CALDESC:Events for LARP SEASON
REFRESH-INTERVAL;VALUE=DURATION:PT1H
X-Robots-Tag:noindex
X-PUBLISHED-TTL:PT1H
BEGIN:VTIMEZONE
TZID:UTC
BEGIN:STANDARD
TZOFFSETFROM:+0000
TZOFFSETTO:+0000
TZNAME:UTC
DTSTART:20230101T000000
END:STANDARD
END:VTIMEZONE
BEGIN:VEVENT
DTSTART;TZID=UTC:20240405T080000
DTEND;TZID=UTC:20240407T170000
DTSTAMP:20260422T184707
CREATED:20240311T220137Z
LAST-MODIFIED:20240316T205405Z
UID:1170-1712304000-1712509200@larpseason.com
SUMMARY:Fabula Rasa 2024 E1
DESCRIPTION:
URL:https://larpseason.com/event/fabula-rasa-2024-e1/
LOCATION:Cherrywood Scout Camp\, Cherrywood Campsite\, Arterial Rd\, Purfleet RM19 1TS
CATEGORIES:UK LARPs,Weekend LARPs
END:VEVENT
BEGIN:VEVENT
DTSTART;TZID=UTC:20240405T080000
DTEND;TZID=UTC:20240407T170000
DTSTAMP:20260422T184707
CREATED:20240211T205325Z
LAST-MODIFIED:20240316T205343Z
UID:960-1712304000-1712509200@larpseason.com
SUMMARY:Steamweave: Spring Dawn
DESCRIPTION:
URL:https://larpseason.com/event/steamweave-spring-dawn/
LOCATION:The Grange\, Frogmore Grange\, Frog lane Balsall Common Coventry Warwickshire CV7 7FP United Kingdom
CATEGORIES:UK LARPs,Weekend LARPs
END:VEVENT
BEGIN:VEVENT
DTSTART;TZID=UTC:20240405T080000
DTEND;TZID=UTC:20240407T170000
DTSTAMP:20260422T184707
CREATED:20240211T195428Z
LAST-MODIFIED:20240316T205339Z
UID:884-1712304000-1712509200@larpseason.com
SUMMARY:The Zone: Event 12
DESCRIPTION:
URL:https://larpseason.com/event/the-zone-event-12/
LOCATION:Giants Seat Scout Camp\, Giants Seat Scout Camp\, Off Ringley Road West\, Radcliffe\, Manchester M26 1DY
CATEGORIES:UK LARPs,Weekend LARPs
END:VEVENT
BEGIN:VEVENT
DTSTART;TZID=UTC:20240405T080000
DTEND;TZID=UTC:20240407T170000
DTSTAMP:20260422T184707
CREATED:20240211T190309Z
LAST-MODIFIED:20250214T181132Z
UID:817-1712304000-1712509200@larpseason.com
SUMMARY:Empire: Welcome to the Forest (player event)
DESCRIPTION:In 57YE\, a group of Highborn set out from the forests of Reikos\, further into the Great Forest and the Barrens\, to investigate its secrets and bring the light of Virtue to its darkness. The Lost Company\, as they came to be called\, were never seen again.After the Imperial conquest of the Barrens in 385YE\, the Empire receives a message from the small settlement of Ebon’s Rest\, who claim to be descended from some of the Lost Company. Deep within the Forest\, they have invited the Imperials to visit their settlement in the hope they can be reunited with their Highborn siblings.Exactly how this group have survived both the Forest’s Curse of Weakness and the Druji\, and not fallen victim to either\, is not immediately clear\, but a group of heroes set forth into the forest hoping to find out.
URL:https://larpseason.com/event/welcome-to-the-forest/
LOCATION:Alfrey Activity Centre – Broadwater\, Alfrey Activity Centre\, Coventry\, CV7 7HR
CATEGORIES:Empire Sanctioned,Sanctioned Events,UK LARPs
END:VEVENT
BEGIN:VEVENT
DTSTART;TZID=UTC:20240405T080000
DTEND;TZID=UTC:20240407T170000
DTSTAMP:20260422T184707
CREATED:20240211T172020Z
LAST-MODIFIED:20240316T205332Z
UID:675-1712304000-1712509200@larpseason.com
SUMMARY:Tales Untold: Chapter 6
DESCRIPTION:
URL:https://larpseason.com/event/tales-untold-chapter-6/
LOCATION:Kinver Scout Camp\, Kinver Scout Camp\, The Compa\, Kinver\, Stourbridge DY7 6HR
CATEGORIES:UK LARPs,Weekend LARPs
END:VEVENT
BEGIN:VEVENT
DTSTART;TZID=UTC:20240405T080000
DTEND;TZID=UTC:20240407T170000
DTSTAMP:20260422T184707
CREATED:20240211T002434Z
LAST-MODIFIED:20240316T205326Z
UID:271-1712304000-1712509200@larpseason.com
SUMMARY:Forsaken 12: Two Weddings and  Funeral
DESCRIPTION:
URL:https://larpseason.com/event/forsaken-12-two-weddings-and-funeral/
LOCATION:Consall Scout Camp\, Consall Scout Camp\, Blakely Lane\, Dilhorne\, Stoke-on-Trent ST10 2PS
CATEGORIES:UK LARPs,Weekend LARPs
END:VEVENT
BEGIN:VEVENT
DTSTART;TZID=UTC:20240331T100000
DTEND;TZID=UTC:20240331T180000
DTSTAMP:20260422T184707
CREATED:20240316T155831Z
LAST-MODIFIED:20240316T164752Z
UID:2020-1711879200-1711908000@larpseason.com
SUMMARY:F&H Leeds
DESCRIPTION:
URL:https://larpseason.com/event/fh-leeds-2/
LOCATION:F&H Leeds 53.84079\, -1.57558\, 53.84079\, -1.57558
CATEGORIES:Club Games
END:VEVENT
BEGIN:VEVENT
DTSTART;TZID=UTC:20240330T180000
DTEND;TZID=UTC:20240330T235900
DTSTAMP:20260422T184707
CREATED:20240211T190032Z
LAST-MODIFIED:20250214T181121Z
UID:811-1711821600-1711843140@larpseason.com
SUMMARY:Empire: The Little Mother's Grand Revelry (player event)
DESCRIPTION:A Marcher Feast –Join us for a remarkable day of camaraderie and purpose as we a proud to announce The Little Mothers Grand Revelry\, Hosted by the venerable Little Mothers Sanctuary in partnership with our churches across the empire. Set against the picturesque backdrop of the Upholds Forest\, this event aims to not only to celebrate but also make a meaningful difference in the lives of our orphans.
URL:https://larpseason.com/event/the-little-mothers-grand-revelry/
LOCATION:Coombe Abbey\, Abbeygate Baronial Hall\, Coombe Abbey Hotel\, Coventry\, CV3 2AB
CATEGORIES:Empire Sanctioned,Sanctioned Events,UK LARPs
END:VEVENT
BEGIN:VEVENT
DTSTART;TZID=UTC:20240330T100000
DTEND;TZID=UTC:20240330T170000
DTSTAMP:20260422T184707
CREATED:20240311T231507Z
LAST-MODIFIED:20250212T172757Z
UID:1295-1711792800-1711818000@larpseason.com
SUMMARY:Age of Essence
DESCRIPTION:
URL:https://larpseason.com/event/age-of-essense-nonsuch-park/
LOCATION:Nonsuch Park\, Nonsuch Mansion House\, Fir Walk\, Epsom\, KT17 2\, United Kingdom
CATEGORIES:Club Games,UK LARPs
END:VEVENT
BEGIN:VEVENT
DTSTART;TZID=UTC:20240329T140000
DTEND;TZID=UTC:20240331T140000
DTSTAMP:20260422T184707
CREATED:20240211T150006Z
LAST-MODIFIED:20240316T205045Z
UID:468-1711720800-1711893600@larpseason.com
SUMMARY:Flying Lead: Smoke & Brass - Episode 9: Judgement
DESCRIPTION:With the Goodwill Town Council opening the brand-spanking new Community Hall with a harvest festival kicking off the celebrations\, Beulah-May and the other town stalwarts welcomed in an investor from the big city\, Mr Henry Wallington – a cattle baron by trade. \n\n\n\nJuno Valley has no patience for lawbreakers\, and justice is just a quickdraw away. They say better the devil you know\, but what if the villain comes to Goodwill bearing good will? And Bearer’s bonds? What if Mr Wallington’s charity has a price too high for the folks of this simple valley to be able to pay? The sticks of dynamite rigged to blow in the Screamin’ Horn Saloon may be a rather final answer to that question. \n\n\n\nA man with fingers in many pies and hands in many pocketbooks\, Mr Wallington’s operation was scoped out by the locals of Juno Valley by the lawkeepers as well as those with less salubrious connections. The gang he’d hired to cause trouble was taken by a posse of Pinkertons and deputies\, and a mining camp used to launder gold was ransacked for evidence of his crimes. Finally a crack team of gamblers and entertainers gained entry to a high-stakes poker match where they were able to get access to Wallington’s closest confidant – Miss Jasmine de Witt – and find out what he was really planning… \n\n\n\nAs the months draw on and the new year turns around\, Juno Valley waits with baited breath… But at least the newly elected Mayor Beulah-May has got the bar is serving drinks again!
URL:https://larpseason.com/event/flying-lead-smoke-brass-episode-9-judgement/
LOCATION:Gunman Airsoft Eversley Alpha\, Gunman Airsoft - Eversley The Welsh Dr (Off A327) Hook\, Hampshire RG27 0PX United Kingdom
CATEGORIES:UK LARPs,Weekend LARPs
END:VEVENT
BEGIN:VEVENT
DTSTART;TZID=UTC:20240329T080000
DTEND;TZID=UTC:20240401T170000
DTSTAMP:20260422T184707
CREATED:20240211T004521Z
LAST-MODIFIED:20240316T205041Z
UID:295-1711699200-1711990800@larpseason.com
SUMMARY:Against the Dying of the Light
DESCRIPTION:A weekend live roleplaying event\, in which we collaboratively explore the meaning of community in a post-apocalyptic setting. There are horror elements to the game\, however there will not be any organised combat. \n\n\n\nThere are two different factions: \n\n\n\nThe Crofters: a close-knit community working to be self-sufficient on an old croft near Dumfries in the southern uplands of Scotland. \n\n\n\nThe Walkers: a mismatched troupe of paranoid survivors\, picking over the corpse of a dying world. \n\n\n\nYou may have survived the zombie apocalypse\, but can you survive each other?
URL:https://larpseason.com/event/against-the-dying-of-the-light/
LOCATION:Marthrown of Mabie\, Marthrown of Mabie\, Marthrown\, Dumfries DG2 8HB
CATEGORIES:Freeforms & Nordic,UK LARPs,Weekend LARPs
END:VEVENT
BEGIN:VEVENT
DTSTART;TZID=UTC:20240329T080000
DTEND;TZID=UTC:20240331T170000
DTSTAMP:20260422T184707
CREATED:20240315T190933Z
LAST-MODIFIED:20250214T182044Z
UID:1727-1711699200-1711904400@larpseason.com
SUMMARY:LT: Liches Get Stitches (Harts sanctioned)
DESCRIPTION:
URL:https://larpseason.com/event/harts-faction-event-liches-get-stitches/
CATEGORIES:Lorien Trust Sanctioned,Sanctioned Events,UK LARPs
END:VEVENT
BEGIN:VEVENT
DTSTART;TZID=UTC:20240329T080000
DTEND;TZID=UTC:20240331T170000
DTSTAMP:20260422T184707
CREATED:20240315T183633Z
LAST-MODIFIED:20240316T204957Z
UID:1667-1711699200-1711904400@larpseason.com
SUMMARY:Dark Colony: The Garden of Eden
DESCRIPTION:
URL:https://larpseason.com/event/dark-colony-the-garden-of-eden/
LOCATION:Rough Close Scout Campsite\, Rough Close Scout Campsite\, Tanners Lane Berkswell\, CV7 &DD
CATEGORIES:UK LARPs,Weekend LARPs
END:VEVENT
BEGIN:VEVENT
DTSTART;TZID=UTC:20240329T080000
DTEND;TZID=UTC:20240331T170000
DTSTAMP:20260422T184707
CREATED:20240315T175624Z
LAST-MODIFIED:20240316T204947Z
UID:1648-1711699200-1711904400@larpseason.com
SUMMARY:Homefires
DESCRIPTION:Homefires is an upcoming Nerf-based LARP with accessible combat\, planned to be at Armourgeddon near Leicester in March 2024. Set in post-apocalyptic Britain\, players will join Rex Zion and his group of Saints as they battle their way through monsters\, gangs of raiders and the unknown…
URL:https://larpseason.com/event/homefires/
LOCATION:Armourgeddon\, Armourgeddon Southfields Farm Husbands Bosworth Leicestershire LE17 6NW
CATEGORIES:UK LARPs,Weekend LARPs
END:VEVENT
BEGIN:VEVENT
DTSTART;TZID=UTC:20240329T080000
DTEND;TZID=UTC:20240331T170000
DTSTAMP:20260422T184707
CREATED:20240211T200149Z
LAST-MODIFIED:20240316T204942Z
UID:896-1711699200-1711904400@larpseason.com
SUMMARY:Humanity Ascendant Event 14: Restitution
DESCRIPTION:
URL:https://larpseason.com/event/humanity-ascendant-event-14-restitution/
LOCATION:Silverwood Scout Camp\, Silverwood Scout Camp\, Barnsley Road Silkstone South Yorkshire S75
CATEGORIES:UK LARPs,Weekend LARPs
END:VEVENT
BEGIN:VEVENT
DTSTART;TZID=UTC:20240329T080000
DTEND;TZID=UTC:20240331T170000
DTSTAMP:20260422T184707
CREATED:20240211T171000Z
LAST-MODIFIED:20240316T204939Z
UID:665-1711699200-1711904400@larpseason.com
SUMMARY:Parhelion
DESCRIPTION:All details on their discord server. \n\n\n\nhttps://discord.gg/T5NWKbYeEK
URL:https://larpseason.com/event/parhelion/
LOCATION:Root ‘n’ Branch Acres\, Root 'n' Branch Acres\, Solihull\, B92 0HQ\, UK
CATEGORIES:UK LARPs,Weekend LARPs
END:VEVENT
BEGIN:VEVENT
DTSTART;TZID=UTC:20240128T100000
DTEND;TZID=UTC:20240128T180000
DTSTAMP:20260422T184707
CREATED:20240316T160842Z
LAST-MODIFIED:20240316T163457Z
UID:2043-1706436000-1706464800@larpseason.com
SUMMARY:F&H Tees Valley
DESCRIPTION:
URL:https://larpseason.com/event/fh-tees-valley/
LOCATION:F&H Tees Valley 54.54398\, -1.14878\, 54.54398\, -1.14878
CATEGORIES:Club Games
END:VEVENT
BEGIN:VEVENT
DTSTART;TZID=UTC:20240128T100000
DTEND;TZID=UTC:20240128T180000
DTSTAMP:20260422T184707
CREATED:20240316T155502Z
LAST-MODIFIED:20240316T164646Z
UID:2012-1706436000-1706464800@larpseason.com
SUMMARY:F&H Guildford
DESCRIPTION:
URL:https://larpseason.com/event/fh-guildford-2/
LOCATION:F&H Guildford 51.32435\, -0.82166\, 51.32435\, -0.82166
CATEGORIES:Club Games
END:VEVENT
BEGIN:VEVENT
DTSTART;TZID=UTC:20240128T100000
DTEND;TZID=UTC:20240128T180000
DTSTAMP:20260422T184707
CREATED:20240316T155258Z
LAST-MODIFIED:20240316T164230Z
UID:2006-1706436000-1706464800@larpseason.com
SUMMARY:F&H Derby
DESCRIPTION:
URL:https://larpseason.com/event/fh-derby-2/
LOCATION:F&H Derby  52.95979\, -1.49394\, 52.95979\, -1.49394
CATEGORIES:Club Games
END:VEVENT
BEGIN:VEVENT
DTSTART;TZID=UTC:20240323T150000
DTEND;TZID=UTC:20240323T220000
DTSTAMP:20260422T184707
CREATED:20240211T181131Z
LAST-MODIFIED:20240316T204920Z
UID:719-1711206000-1711231200@larpseason.com
SUMMARY:Cordially Invited
DESCRIPTION:Cordially Invited is a one-day comedy larp surrounding the wedding breakfast of two very dysfunctional families. \n\n\n\nAfter years of postponing their Wedding due to the global event that shall not be named\, the happy couple are determined to celebrate their big day. The date has been moved on more then one occasion\, the original venue has had their licence revoked\, the florist has gone out of business\, the church’s roof is falling apart – so there goes the big church wedding\, parents are forever in dispute with each other and who knows if there will even be a meal. The only guaranteed success looks to be the cake…
URL:https://larpseason.com/event/cordially-invited/
LOCATION:The Wycliffe Rooms\, The Wycliffe Rooms\, George Street\, Lutterworth\, LE17 4ED
CATEGORIES:Freeforms & Nordic,UK LARPs
END:VEVENT
BEGIN:VEVENT
DTSTART;TZID=UTC:20240127T100000
DTEND;TZID=UTC:20240127T180000
DTSTAMP:20260422T184707
CREATED:20240316T161137Z
LAST-MODIFIED:20240316T163407Z
UID:2051-1706349600-1706378400@larpseason.com
SUMMARY:F&H Norwich
DESCRIPTION:
URL:https://larpseason.com/event/fh-norwich-3/
LOCATION:F&H Norwich 52.64427\, 1.31994\, 52.64427\, 1.31994
CATEGORIES:Club Games
END:VEVENT
BEGIN:VEVENT
DTSTART;TZID=UTC:20240127T100000
DTEND;TZID=UTC:20240127T180000
DTSTAMP:20260422T184707
CREATED:20240316T155650Z
LAST-MODIFIED:20240316T163631Z
UID:2015-1706349600-1706378400@larpseason.com
SUMMARY:F&H Hull
DESCRIPTION:
URL:https://larpseason.com/event/fh-hull/
LOCATION:F&H Hull  53.91675\, -0.85624\, 53.91675\, -0.85624
CATEGORIES:Club Games
END:VEVENT
BEGIN:VEVENT
DTSTART;TZID=UTC:20240127T100000
DTEND;TZID=UTC:20240127T180000
DTSTAMP:20260422T184707
CREATED:20240316T154909Z
LAST-MODIFIED:20240316T163709Z
UID:1998-1706349600-1706378400@larpseason.com
SUMMARY:F&H Black Country
DESCRIPTION:
URL:https://larpseason.com/event/fh-black-country/
LOCATION:F&H Black Country 52.37342\, -2.00985\, 52.37342\, -2.00985
CATEGORIES:Club Games
END:VEVENT
BEGIN:VEVENT
DTSTART;TZID=UTC:20240323T093000
DTEND;TZID=UTC:20240323T100000
DTSTAMP:20260422T184707
CREATED:20240211T185739Z
LAST-MODIFIED:20250214T181459Z
UID:806-1711186200-1711188000@larpseason.com
SUMMARY:Empire: Sarangrave Fundraising Ball (player event)
DESCRIPTION:
URL:https://larpseason.com/event/sarangrave-fundraising-ball/
LOCATION:St Paul’s Cambridge\, St Paul's Cambridge\, Hills Rd\, Cambridge CB2 1JP
CATEGORIES:Empire Sanctioned,Sanctioned Events,UK LARPs
END:VEVENT
BEGIN:VEVENT
DTSTART;TZID=UTC:20240322T140000
DTEND;TZID=UTC:20240324T140000
DTSTAMP:20260422T184707
CREATED:20240211T152004Z
LAST-MODIFIED:20240316T204913Z
UID:498-1711116000-1711288800@larpseason.com
SUMMARY:The Portents: Episode 2
DESCRIPTION:Have you ever watched a fantasy film and noticed the evil necromancers really missed a trick? Or a Disney film and thought the baddies really had all the best outfits? Do you find yourself wishing for the camaraderie of the shambling undead horde? Then we may have the game for you! \n\n\n\nIn The Portents\, you take on the role of a member of a warband taking advantage of the thinning of the veil between worlds\, sent to harvest Fear from the unsuspecting villagers of Heinoa – a valuable resource used by the sorcerers and cultists of your homeland.
URL:https://larpseason.com/event/the-portents-episode-2/
LOCATION:Gunman Airsoft Eversley Alpha\, Gunman Airsoft - Eversley The Welsh Dr (Off A327) Hook\, Hampshire RG27 0PX United Kingdom
CATEGORIES:UK LARPs,Weekend LARPs
END:VEVENT
BEGIN:VEVENT
DTSTART;TZID=UTC:20240126T100000
DTEND;TZID=UTC:20240126T180000
DTSTAMP:20260422T184707
CREATED:20240316T160052Z
LAST-MODIFIED:20240316T164927Z
UID:2027-1706263200-1706292000@larpseason.com
SUMMARY:F&H Norwich
DESCRIPTION:
URL:https://larpseason.com/event/fh-norwich-2/
LOCATION:F&H Norwich 52.64427\, 1.31994\, 52.64427\, 1.31994
CATEGORIES:Club Games
END:VEVENT
BEGIN:VEVENT
DTSTART;TZID=UTC:20240322T080000
DTEND;TZID=UTC:20240324T170000
DTSTAMP:20260422T184707
CREATED:20240314T232040Z
LAST-MODIFIED:20240316T204905Z
UID:1593-1711094400-1711299600@larpseason.com
SUMMARY:Forsaken Lands: Roarfell Has Fallen
DESCRIPTION:Heavy Waite Gaming and Twisted Goblin Armouries are proud to invite you the the third event in the Forsaken Lands series. Here we travel to the City of Roarfell\, which has been overrun by hoards of undead! This event will be held at Fox Coverts Scout Camp and is self-catered.
URL:https://larpseason.com/event/forsaken-lands-roarfell-has-fallen/
LOCATION:Fox Coverts Scout Campsite\, Fox Coverts Scout Campsite\, Newbold Rd\, Kirkby Mallory LE9 7QG
CATEGORIES:UK LARPs,Weekend LARPs
END:VEVENT
BEGIN:VEVENT
DTSTART;TZID=UTC:20240322T080000
DTEND;TZID=UTC:20240324T170000
DTSTAMP:20260422T184707
CREATED:20240313T213400Z
LAST-MODIFIED:20240316T204854Z
UID:1444-1711094400-1711299600@larpseason.com
SUMMARY:Jacobite!
DESCRIPTION:Details unconfirmed.
URL:https://larpseason.com/event/jacobite/
LOCATION:Treowen\, Treowen\, Wonastow\, Monmouth\, NP25 4DL
CATEGORIES:UK LARPs,Weekend LARPs
END:VEVENT
BEGIN:VEVENT
DTSTART;TZID=UTC:20240322T080000
DTEND;TZID=UTC:20240324T170000
DTSTAMP:20260422T184707
CREATED:20240313T200201Z
LAST-MODIFIED:20240316T204832Z
UID:1440-1711094400-1711299600@larpseason.com
SUMMARY:Unfinished Tome Chapter 3 - It Was Just
DESCRIPTION:
URL:https://larpseason.com/event/unfinished-tome-chapter-3-it-was-just/
LOCATION:John’s Lee Wood Scout Campsite\, John's Lee Wood Scout Campsite Markfield Lane Markfield Leicestershire LE67 9PS
CATEGORIES:UK LARPs,Weekend LARPs
END:VEVENT
BEGIN:VEVENT
DTSTART;TZID=UTC:20240322T080000
DTEND;TZID=UTC:20240324T170000
DTSTAMP:20260422T184707
CREATED:20240311T231020Z
LAST-MODIFIED:20240316T204824Z
UID:1284-1711094400-1711299600@larpseason.com
SUMMARY:Carum LRP - What Lies Below
DESCRIPTION:As the party became aware that the great old one Lot’nor was calling all to The Ark they decided to help with the quest and go and find Me’ta\, rumoured to be deep in the ancient Volk Mines within the Drumble Wood. \n\n\n\nNone have ventured deep in the mines in centuries\, what awaits the party in the vast network of tunnels and caverns? Old voices are heard dripping through the walls\, spores shine and glisten even in the darkness of the caves and new monsters have already terrified the advanced party of Volk and no-one knows what might lie deeper below.
URL:https://larpseason.com/event/carum-lrp-what-lies-below/
LOCATION:Root ‘n’ Branch Acres\, Root 'n' Branch Acres\, Solihull\, B92 0HQ\, UK
CATEGORIES:UK LARPs,Weekend LARPs
END:VEVENT
END:VCALENDAR