BEGIN:VCALENDAR
VERSION:2.0
PRODID:-//LARP SEASON - ECPv6.15.20//NONSGML v1.0//EN
CALSCALE:GREGORIAN
METHOD:PUBLISH
X-ORIGINAL-URL:https://larpseason.com
X-WR-CALDESC:Events for LARP SEASON
REFRESH-INTERVAL;VALUE=DURATION:PT1H
X-Robots-Tag:noindex
X-PUBLISHED-TTL:PT1H
BEGIN:VTIMEZONE
TZID:UTC
BEGIN:STANDARD
TZOFFSETFROM:+0000
TZOFFSETTO:+0000
TZNAME:UTC
DTSTART:20230101T000000
END:STANDARD
END:VTIMEZONE
BEGIN:VEVENT
DTSTART;TZID=UTC:20250926T080000
DTEND;TZID=UTC:20250928T170000
DTSTAMP:20260420T171657
CREATED:20240724T185420Z
LAST-MODIFIED:20251004T130250Z
UID:2389-1758873600-1759078800@larpseason.com
SUMMARY:Menhir's Fate: Event 4
DESCRIPTION:
URL:https://larpseason.com/event/menhirs-fate-event-4/
LOCATION:Weston Park\, Weston Park\, Weston-under-Lizard\, Shifnal\, TF11 8LE
CATEGORIES:Fest LARPs,UK LARPs,Weekend LARPs
END:VEVENT
BEGIN:VEVENT
DTSTART;TZID=UTC:20250918T080000
DTEND;TZID=UTC:20250921T170000
DTSTAMP:20260420T171657
CREATED:20241007T191116Z
LAST-MODIFIED:20241007T191117Z
UID:2591-1758182400-1758474000@larpseason.com
SUMMARY:Herofest September 2025
DESCRIPTION:
URL:https://larpseason.com/event/herofest-september-2025/
LOCATION:Huntley Wood\, Huntley Wood
CATEGORIES:Fest LARPs,UK LARPs,Weekend LARPs
END:VEVENT
BEGIN:VEVENT
DTSTART;TZID=UTC:20250912T080000
DTEND;TZID=UTC:20250914T170000
DTSTAMP:20260420T171657
CREATED:20240919T160136Z
LAST-MODIFIED:20240919T160136Z
UID:2510-1757664000-1757869200@larpseason.com
SUMMARY:Empire Autumn Equinox
DESCRIPTION:
URL:https://larpseason.com/event/empire-autumn-equinox-2/
LOCATION:Dadford Road Campsite\, Dadford Road Campsite\, Dadford Road\, Stowe\, Silverstone\, Buckinghamshire\, MK18 5LH
CATEGORIES:Fest LARPs,UK LARPs,Weekend LARPs
END:VEVENT
BEGIN:VEVENT
DTSTART;TZID=UTC:20250822T080000
DTEND;TZID=UTC:20250825T170000
DTSTAMP:20260420T171657
CREATED:20240919T161021Z
LAST-MODIFIED:20251006T211316Z
UID:2518-1755849600-1756141200@larpseason.com
SUMMARY:Lorien Trust The Gathering
DESCRIPTION:
URL:https://larpseason.com/event/lorien-trust-the-gathering-2/
LOCATION:Locko Park\, Locko Park\, Derby
CATEGORIES:Fest LARPs,UK LARPs,Weekend LARPs
END:VEVENT
BEGIN:VEVENT
DTSTART;TZID=UTC:20250821T080000
DTEND;TZID=UTC:20250825T170000
DTSTAMP:20260420T171657
CREATED:20240909T190143Z
LAST-MODIFIED:20240909T190215Z
UID:2496-1755763200-1756141200@larpseason.com
SUMMARY:Curious Pastimes Event 4
DESCRIPTION:
URL:https://larpseason.com/event/curious-pastimes-event-4/
LOCATION:Weston Park\, Weston Park\, Weston-under-Lizard\, Shifnal\, TF11 8LE
CATEGORIES:Fest LARPs,UK LARPs,Weekend LARPs
END:VEVENT
BEGIN:VEVENT
DTSTART;TZID=UTC:20250815T080000
DTEND;TZID=UTC:20250817T170000
DTSTAMP:20260420T171657
CREATED:20240724T185329Z
LAST-MODIFIED:20240904T191845Z
UID:2387-1755244800-1755450000@larpseason.com
SUMMARY:Menhir's Fate: Event 3
DESCRIPTION:
URL:https://larpseason.com/event/menhirs-fate-event-3/
LOCATION:Bygrave Woods\, Bygrave\, Hertfordshire\, SG7\, United Kingdom
CATEGORIES:Fest LARPs,UK LARPs,Weekend LARPs
END:VEVENT
BEGIN:VEVENT
DTSTART;TZID=UTC:20250801T080000
DTEND;TZID=UTC:20250803T170000
DTSTAMP:20260420T171657
CREATED:20240919T160941Z
LAST-MODIFIED:20251006T211322Z
UID:2516-1754035200-1754240400@larpseason.com
SUMMARY:Lorien Trust Summer Moot
DESCRIPTION:
URL:https://larpseason.com/event/lorien-trust-summer-moot-2/
LOCATION:Locko Park\, Locko Park\, Derby
CATEGORIES:Fest LARPs,UK LARPs,Weekend LARPs
END:VEVENT
BEGIN:VEVENT
DTSTART;TZID=UTC:20250725T080000
DTEND;TZID=UTC:20250727T170000
DTSTAMP:20260420T171657
CREATED:20240919T160055Z
LAST-MODIFIED:20240919T160056Z
UID:2508-1753430400-1753635600@larpseason.com
SUMMARY:Empire Summer Solstice
DESCRIPTION:
URL:https://larpseason.com/event/empire-summer-solstice-2/
LOCATION:Dadford Road Campsite\, Dadford Road Campsite\, Dadford Road\, Stowe\, Silverstone\, Buckinghamshire\, MK18 5LH
CATEGORIES:Fest LARPs,UK LARPs,Weekend LARPs
END:VEVENT
BEGIN:VEVENT
DTSTART;TZID=UTC:20250718T080000
DTEND;TZID=UTC:20250720T170000
DTSTAMP:20260420T171657
CREATED:20240909T190100Z
LAST-MODIFIED:20240909T190230Z
UID:2494-1752825600-1753030800@larpseason.com
SUMMARY:Curious Pastimes Event 3
DESCRIPTION:
URL:https://larpseason.com/event/curious-pastimes-event-3-2/
LOCATION:Paccar Scout Camp\, Paccar Scout Camp\, Denham Lane Chalfont St Peter Gerrards Cross\, SL9 0QJ
CATEGORIES:Fest LARPs,UK LARPs,Weekend LARPs
END:VEVENT
BEGIN:VEVENT
DTSTART;TZID=UTC:20250710T080000
DTEND;TZID=UTC:20250713T170000
DTSTAMP:20260420T171657
CREATED:20241007T191032Z
LAST-MODIFIED:20241007T191032Z
UID:2589-1752134400-1752426000@larpseason.com
SUMMARY:Herofest July 2025
DESCRIPTION:
URL:https://larpseason.com/event/herofest-july-2025/
LOCATION:Huntley Wood\, Huntley Wood
CATEGORIES:Fest LARPs,UK LARPs,Weekend LARPs
END:VEVENT
BEGIN:VEVENT
DTSTART;TZID=UTC:20250703T080000
DTEND;TZID=UTC:20250705T170000
DTSTAMP:20260420T171657
CREATED:20240922T152649Z
LAST-MODIFIED:20250214T181644Z
UID:2532-1751529600-1751734800@larpseason.com
SUMMARY:Deadwood! LRP
DESCRIPTION:New Prospecting Opportunities and Land Claims Opened in Deadwood!Celebrate Independence Day with Gold and Glory! \n\n\n\nAs our great nation prepares to celebrate its Independence Day\, the town of Deadwood is thrilled to announce a golden opportunity for all! Beginning next July 4th\, new prospecting and land claims will be opened\, promising untold wealth and adventure for those daring enough to seize their destiny in the rugged beauty of the Black Hills. \n\n\n\nDEADWOOD! LRP will be a Fest based game running from 4th-6th July 2025 in the Western Reenactment Town of Deadwood located outside of Horsham West Sussex. More details are to come but our vision is to provide a living breathing town where the actions of your chosen faction can impact on the destiny of the Town of DEADWOOD! We are aiming to provide 200 player places for this first event. \n\n\n\nMore announcements will be forthcoming as well as a dedicated group over the next month. Please feel free to share this and most importantly save the date! Register your interest by liking or commenting on this post. \n\n\n\nBrought to you by Drunken Monkey LRP www.liveroleplay.com
URL:https://larpseason.com/event/deadwood-lrp/
LOCATION:Deadwood Town\, Wattlehurst Farm\, Horsham\, West Sussex
CATEGORIES:Fest LARPs,UK LARPs,Weekend LARPs
END:VEVENT
BEGIN:VEVENT
DTSTART;TZID=UTC:20250613T080000
DTEND;TZID=UTC:20250615T170000
DTSTAMP:20260420T171657
CREATED:20240919T160023Z
LAST-MODIFIED:20240919T160024Z
UID:2506-1749801600-1750006800@larpseason.com
SUMMARY:Empire Spring Equinox
DESCRIPTION:
URL:https://larpseason.com/event/empire-spring-equinox-2/
LOCATION:Dadford Road Campsite\, Dadford Road Campsite\, Dadford Road\, Stowe\, Silverstone\, Buckinghamshire\, MK18 5LH
CATEGORIES:Fest LARPs,UK LARPs,Weekend LARPs
END:VEVENT
BEGIN:VEVENT
DTSTART;TZID=UTC:20250606T080000
DTEND;TZID=UTC:20250608T170000
DTSTAMP:20260420T171657
CREATED:20240909T190018Z
LAST-MODIFIED:20240909T190244Z
UID:2492-1749196800-1749402000@larpseason.com
SUMMARY:Curious Pastimes Event 2
DESCRIPTION:
URL:https://larpseason.com/event/curious-pastimes-event-2-2/
LOCATION:Weston Park\, Weston Park\, Weston-under-Lizard\, Shifnal\, TF11 8LE
CATEGORIES:Fest LARPs,UK LARPs,Weekend LARPs
END:VEVENT
BEGIN:VEVENT
DTSTART;TZID=UTC:20250523T080000
DTEND;TZID=UTC:20250526T170000
DTSTAMP:20260420T171657
CREATED:20240919T160902Z
LAST-MODIFIED:20251006T211329Z
UID:2514-1747987200-1748278800@larpseason.com
SUMMARY:Lorien Trust Great Erdrejan Fayre
DESCRIPTION:
URL:https://larpseason.com/event/lorien-trust-great-erdrejan-fayre/
LOCATION:Locko Park\, Locko Park\, Derby
CATEGORIES:Fest LARPs,UK LARPs,Weekend LARPs
END:VEVENT
BEGIN:VEVENT
DTSTART;TZID=UTC:20250509T080000
DTEND;TZID=UTC:20250511T170000
DTSTAMP:20260420T171657
CREATED:20240724T185243Z
LAST-MODIFIED:20240904T191849Z
UID:2385-1746777600-1746982800@larpseason.com
SUMMARY:Menhir's Fate: Event 2
DESCRIPTION:
URL:https://larpseason.com/event/menhirs-fate-event-2/
LOCATION:Bygrave Woods\, Bygrave\, Hertfordshire\, SG7\, United Kingdom
CATEGORIES:Fest LARPs,UK LARPs,Weekend LARPs
END:VEVENT
BEGIN:VEVENT
DTSTART;TZID=UTC:20250508T080000
DTEND;TZID=UTC:20250510T170000
DTSTAMP:20260420T171657
CREATED:20241007T190939Z
LAST-MODIFIED:20241007T190940Z
UID:2585-1746691200-1746896400@larpseason.com
SUMMARY:Herofest May 2025
DESCRIPTION:
URL:https://larpseason.com/event/herofest-may-2025/
LOCATION:Huntley Wood\, Huntley Wood
CATEGORIES:Fest LARPs,UK LARPs,Weekend LARPs
END:VEVENT
BEGIN:VEVENT
DTSTART;TZID=UTC:20250502T080000
DTEND;TZID=UTC:20250505T170000
DTSTAMP:20260420T171657
CREATED:20240919T160813Z
LAST-MODIFIED:20251006T211335Z
UID:2512-1746172800-1746464400@larpseason.com
SUMMARY:Lorien Trust Spring Moot
DESCRIPTION:
URL:https://larpseason.com/event/lorien-trust-spring-moot/
LOCATION:Locko Park\, Locko Park\, Derby
CATEGORIES:Fest LARPs,UK LARPs,Weekend LARPs
END:VEVENT
BEGIN:VEVENT
DTSTART;TZID=UTC:20250501T080000
DTEND;TZID=UTC:20250505T170000
DTSTAMP:20260420T171657
CREATED:20240909T185905Z
LAST-MODIFIED:20240909T190257Z
UID:2490-1746086400-1746464400@larpseason.com
SUMMARY:Curious Pastimes Event 1
DESCRIPTION:
URL:https://larpseason.com/event/curious-pastimes-event-1-2/
LOCATION:Paccar Scout Camp\, Paccar Scout Camp\, Denham Lane Chalfont St Peter Gerrards Cross\, SL9 0QJ
CATEGORIES:Fest LARPs,UK LARPs,Weekend LARPs
END:VEVENT
BEGIN:VEVENT
DTSTART;TZID=UTC:20250425T080000
DTEND;TZID=UTC:20250427T170000
DTSTAMP:20260420T171657
CREATED:20240919T155930Z
LAST-MODIFIED:20240919T155930Z
UID:2504-1745568000-1745773200@larpseason.com
SUMMARY:Empire Winter Solstice
DESCRIPTION:
URL:https://larpseason.com/event/empire-winter-solstice-2/
LOCATION:Dadford Road Campsite\, Dadford Road Campsite\, Dadford Road\, Stowe\, Silverstone\, Buckinghamshire\, MK18 5LH
CATEGORIES:Fest LARPs,UK LARPs,Weekend LARPs
END:VEVENT
BEGIN:VEVENT
DTSTART;TZID=UTC:20250404T080000
DTEND;TZID=UTC:20250406T170000
DTSTAMP:20260420T171657
CREATED:20240724T185139Z
LAST-MODIFIED:20240904T191854Z
UID:2379-1743753600-1743958800@larpseason.com
SUMMARY:Menhir's Fate: Event 1
DESCRIPTION:
URL:https://larpseason.com/event/menhirs-fate-event-1/
LOCATION:Bygrave Woods\, Bygrave\, Hertfordshire\, SG7\, United Kingdom
CATEGORIES:Fest LARPs,UK LARPs,Weekend LARPs
END:VEVENT
BEGIN:VEVENT
DTSTART;TZID=UTC:20250124T080000
DTEND;TZID=UTC:20250126T170000
DTSTAMP:20260420T171657
CREATED:20241007T190817Z
LAST-MODIFIED:20241007T190818Z
UID:2583-1737705600-1737910800@larpseason.com
SUMMARY:Herofest Winter 2025
DESCRIPTION:In a quiet\, backwater kingdom\, Queen Seraphina is celebrating the 50th year of her reign. You\, the venerated representatives of your Orin Rakathan nations\, have been invited to honour her. \n\n\n\nHowever\, all is not as it seems. Dark magic\, consipracy\, power struggles and assassination attempts are all afoot in this tiny\, murky corner of the world. Who will survive the night? And will the plots and backstabbings be unravelled before the weekend is out? Only time will tell… \n\n\n\n— \n\n\n\nA Court of Lies is a low/no combat\, rules lite\, drama/content heavy weekend of mystery\, puzzles\, roleplay\, murder and intrigue. Attend as your existing HF character or try something new. A limited number of low cost written NPC roles will also be available. \n\n\n\nArrival from 4pm Friday for a briefing at 6pm and hard time in at 7pm. Time out at 11.59pm Saturday. Bedrooms empty by 10am Sunday\, offsite by 12pm.All accommodation in bunk rooms. A limited number of reduced cost daytime-only tickets will available for those not needing bunk room accommodation.Catering arrangements tbc.Ticket cost tbc.
URL:https://larpseason.com/event/herofest-winter-2025/
LOCATION:YHA Wilderhope Manor\, Yha Wilderhope Manor Hostel\, Longville in the Dale\, Much Wenlock TF13 6EG
CATEGORIES:Fest LARPs,UK LARPs,Weekend LARPs
END:VEVENT
BEGIN:VEVENT
DTSTART;TZID=UTC:20240919T080000
DTEND;TZID=UTC:20240922T170000
DTSTAMP:20260420T171657
CREATED:20240211T191744Z
LAST-MODIFIED:20240317T201417Z
UID:843-1726732800-1727024400@larpseason.com
SUMMARY:Herofest Event 3: Rise or Fall
DESCRIPTION:After a year spent always on the back foot the time has come to strike back\, as the Nations gather their strongest and make risky plans. \n\n\n\nWhat will the people of Orin Rakatha do in this dark time? Can they band together to take back what they feel is theirs by right? Can they rise to this challenge? Or will they fall in subjugation.
URL:https://larpseason.com/event/herofest-event-3-rise-or-fall/
LOCATION:Kibblestone Scout Camp\, Kibblestone Scout Camp\, Staffordshire
CATEGORIES:Fest LARPs,UK LARPs,Weekend LARPs
END:VEVENT
BEGIN:VEVENT
DTSTART;TZID=UTC:20240913T080000
DTEND;TZID=UTC:20240915T170000
DTSTAMP:20260420T171657
CREATED:20240211T154351Z
LAST-MODIFIED:20240317T201437Z
UID:555-1726214400-1726419600@larpseason.com
SUMMARY:Empire Autumn Equinox
DESCRIPTION:
URL:https://larpseason.com/event/empire-autumn-equinox/
LOCATION:Dadford Road Campsite\, Dadford Road Campsite\, Dadford Road\, Stowe\, Silverstone\, Buckinghamshire\, MK18 5LH
CATEGORIES:Fest LARPs,UK LARPs,Weekend LARPs
END:VEVENT
BEGIN:VEVENT
DTSTART;TZID=UTC:20240823T080000
DTEND;TZID=UTC:20240826T170000
DTSTAMP:20260420T171657
CREATED:20240211T155713Z
LAST-MODIFIED:20240317T201427Z
UID:583-1724400000-1724691600@larpseason.com
SUMMARY:Lorien Trust The Gathering
DESCRIPTION:
URL:https://larpseason.com/event/lorien-trust-the-gathering/
LOCATION:Locko Park\, Locko Park\, Derby
CATEGORIES:Fest LARPs,UK LARPs,Weekend LARPs
END:VEVENT
BEGIN:VEVENT
DTSTART;TZID=UTC:20240823T080000
DTEND;TZID=UTC:20240826T170000
DTSTAMP:20260420T171657
CREATED:20240211T154857Z
LAST-MODIFIED:20240317T201121Z
UID:569-1724400000-1724691600@larpseason.com
SUMMARY:Curious Pastimes Event 4: Renewal
DESCRIPTION:
URL:https://larpseason.com/event/curious-pastimes-event-4-renewal/
LOCATION:Paccar Scout Camp\, Paccar Scout Camp\, Denham Lane Chalfont St Peter Gerrards Cross\, SL9 0QJ
CATEGORIES:Fest LARPs,UK LARPs,Weekend LARPs
END:VEVENT
BEGIN:VEVENT
DTSTART;TZID=UTC:20240802T080000
DTEND;TZID=UTC:20240804T170000
DTSTAMP:20260420T171657
CREATED:20240211T155554Z
LAST-MODIFIED:20240317T201300Z
UID:579-1722585600-1722790800@larpseason.com
SUMMARY:Lorien Trust Summer Moot
DESCRIPTION:
URL:https://larpseason.com/event/lorien-trust-summer-moot/
LOCATION:Locko Park\, Locko Park\, Derby
CATEGORIES:Fest LARPs,UK LARPs,Weekend LARPs
END:VEVENT
BEGIN:VEVENT
DTSTART;TZID=UTC:20240726T080000
DTEND;TZID=UTC:20240728T170000
DTSTAMP:20260420T171657
CREATED:20240211T154313Z
LAST-MODIFIED:20240317T201251Z
UID:553-1721980800-1722186000@larpseason.com
SUMMARY:Empire Summer Solstice
DESCRIPTION:
URL:https://larpseason.com/event/empire-summer-solstice/
LOCATION:Dadford Road Campsite\, Dadford Road Campsite\, Dadford Road\, Stowe\, Silverstone\, Buckinghamshire\, MK18 5LH
CATEGORIES:Fest LARPs,UK LARPs,Weekend LARPs
END:VEVENT
BEGIN:VEVENT
DTSTART;TZID=UTC:20240719T080000
DTEND;TZID=UTC:20240721T170000
DTSTAMP:20260420T171657
CREATED:20240211T154806Z
LAST-MODIFIED:20240317T201243Z
UID:567-1721376000-1721581200@larpseason.com
SUMMARY:Curious Pastimes Event 3
DESCRIPTION:
URL:https://larpseason.com/event/curious-pastimes-event-3/
LOCATION:Weston Park\, Weston Park\, Weston-under-Lizard\, Shifnal\, TF11 8LE
CATEGORIES:Fest LARPs,UK LARPs,Weekend LARPs
END:VEVENT
BEGIN:VEVENT
DTSTART;TZID=UTC:20240711T080000
DTEND;TZID=UTC:20240714T170000
DTSTAMP:20260420T171657
CREATED:20240211T191653Z
LAST-MODIFIED:20240317T201233Z
UID:839-1720684800-1720976400@larpseason.com
SUMMARY:Herofest Event 2: Sink or Swim
DESCRIPTION:Still recovering from recent events\, the nations remain in hiding. Do they have what it takes to survive in such hostile times? \n\n\n\nAnd one of the problems with hiding in the shadows is just what else might be lurking in them with you. Chanting from the depths of the woods\, strange lights from the lake at night. Who knows what other secrets this damp\, backwater land might hold?
URL:https://larpseason.com/event/herofest-event-2-sink-or-swim/
LOCATION:Church Stretton Camp & Fish\, Church Stretton Camp & Fish\, Shropshire
CATEGORIES:Fest LARPs,UK LARPs,Weekend LARPs
END:VEVENT
BEGIN:VEVENT
DTSTART;TZID=UTC:20240614T080000
DTEND;TZID=UTC:20240616T170000
DTSTAMP:20260420T171657
CREATED:20240211T154235Z
LAST-MODIFIED:20240317T201224Z
UID:551-1718352000-1718557200@larpseason.com
SUMMARY:Empire Spring Equinox
DESCRIPTION:
URL:https://larpseason.com/event/empire-spring-equinox/
LOCATION:Dadford Road Campsite\, Dadford Road Campsite\, Dadford Road\, Stowe\, Silverstone\, Buckinghamshire\, MK18 5LH
CATEGORIES:Fest LARPs,UK LARPs,Weekend LARPs
END:VEVENT
END:VCALENDAR