BEGIN:VCALENDAR
VERSION:2.0
PRODID:-//LARP SEASON - ECPv6.15.20//NONSGML v1.0//EN
CALSCALE:GREGORIAN
METHOD:PUBLISH
X-ORIGINAL-URL:https://larpseason.com
X-WR-CALDESC:Events for LARP SEASON
REFRESH-INTERVAL;VALUE=DURATION:PT1H
X-Robots-Tag:noindex
X-PUBLISHED-TTL:PT1H
BEGIN:VTIMEZONE
TZID:UTC
BEGIN:STANDARD
TZOFFSETFROM:+0000
TZOFFSETTO:+0000
TZNAME:UTC
DTSTART:20240101T000000
END:STANDARD
END:VTIMEZONE
BEGIN:VEVENT
DTSTART;TZID=UTC:20250502T080000
DTEND;TZID=UTC:20250504T170000
DTSTAMP:20260422T112352
CREATED:20250212T173949Z
LAST-MODIFIED:20250212T173949Z
UID:3004-1746172800-1746378000@larpseason.com
SUMMARY:Age of Essence: Non-such town and county fair
DESCRIPTION:
URL:https://larpseason.com/event/age-of-essence-non-such-town-and-county-fair-2/
LOCATION:Nonsuch Park\, Nonsuch Mansion House\, Fir Walk\, Epsom\, KT17 2\, United Kingdom
CATEGORIES:Club Games,UK LARPs
END:VEVENT
BEGIN:VEVENT
DTSTART;TZID=UTC:20250523T000000
DTEND;TZID=UTC:20250525T235959
DTSTAMP:20260422T112352
CREATED:20250212T165708Z
LAST-MODIFIED:20250214T180507Z
UID:2937-1747958400-1748217599@larpseason.com
SUMMARY:Heroes and Heroines: At What Costs?
DESCRIPTION:Rumblings in the Fae Forest mean another diplomatic mission for the Auxhiliaries. With tension on the borders rising all efforts are in place to keep our allies on side and trouble at bay.
URL:https://larpseason.com/event/heroes-and-heroines-at-what-costs/
LOCATION:Forest Scout Camp\, Forest Scout Camp\, Birchwood\, Kennel Lane\, Sandiway\, Northwich\, Cheshire. CW8 2E
CATEGORIES:Club Games,UK LARPs,Weekend LARPs
END:VEVENT
BEGIN:VEVENT
DTSTART;TZID=UTC:20250531T100000
DTEND;TZID=UTC:20250531T170000
DTSTAMP:20260422T112352
CREATED:20250212T174211Z
LAST-MODIFIED:20250212T174212Z
UID:3013-1748685600-1748710800@larpseason.com
SUMMARY:Age of Essence
DESCRIPTION:
URL:https://larpseason.com/event/age-of-essence-14/
LOCATION:Nonsuch Park\, Nonsuch Mansion House\, Fir Walk\, Epsom\, KT17 2\, United Kingdom
CATEGORIES:Club Games,UK LARPs
END:VEVENT
END:VCALENDAR