BEGIN:VCALENDAR
VERSION:2.0
PRODID:-//LARP SEASON - ECPv6.15.20//NONSGML v1.0//EN
CALSCALE:GREGORIAN
METHOD:PUBLISH
X-WR-CALNAME:LARP SEASON
X-ORIGINAL-URL:https://larpseason.com
X-WR-CALDESC:Events for LARP SEASON
REFRESH-INTERVAL;VALUE=DURATION:PT1H
X-Robots-Tag:noindex
X-PUBLISHED-TTL:PT1H
BEGIN:VTIMEZONE
TZID:UTC
BEGIN:STANDARD
TZOFFSETFROM:+0000
TZOFFSETTO:+0000
TZNAME:UTC
DTSTART:20240101T000000
END:STANDARD
END:VTIMEZONE
BEGIN:VEVENT
DTSTART;TZID=UTC:20250215T000000
DTEND;TZID=UTC:20250215T235959
DTSTAMP:20260422T171331
CREATED:20250212T175444Z
LAST-MODIFIED:20250219T215226Z
UID:3033-1739577600-1739663999@larpseason.com
SUMMARY:Dungeon Quest: Can't Stop the Rot
DESCRIPTION:The tiny hamlet of Petra\, is the next destination\, little more now than a way-station occasionally used by travelers on their way to the city of Shalespatz. \n\n\n\nOnce a thriving mining town\, Petra’s riches are now gone and the townspeople forgotten. The town was never truly a mining town\, although it now retains the scars of industry in the form of mine shafts\, its wealth originated from a meteor strike a millennium earlier\, after the discovery the hamlet grew and thrived\, but just as quickly the star metal and shattered shale was gone and so were those who sought it. \n\n\n\nUpon the road to Petra tales abound of the hardships that have since befallen the hamlet\, tales of desperation\, tales recounting the peoples rejection of the traditional pantheon and the possibility they have embraced something else… \n\n\n\nWhat adventure lies in the Hamlet of Petra? \n\n\n\nYou will soon find out as you head for the only remaining tavern in town – “The Stone Sable”
URL:https://larpseason.com/event/dungeon-quest-cant-stop-the-rot/
LOCATION:Lagan Airsoft Club\, 17g station view bt17 0ae Belfast\, United Kingdom
CATEGORIES:Club Games,UK LARPs
ORGANIZER;CN="Dungeon Quest":MAILTO:DungeonQuestLogistics@gmail.com
END:VEVENT
BEGIN:VEVENT
DTSTART;TZID=UTC:20250216T180000
DTEND;TZID=UTC:20250216T220000
DTSTAMP:20260422T171331
CREATED:20250202T212101Z
LAST-MODIFIED:20250202T212101Z
UID:2845-1739728800-1739743200@larpseason.com
SUMMARY:Generation Season 1 Event 1
DESCRIPTION:🚀 A new monthly sci-fi larp coming to Sheffield 🚀GENERATION is a monthly sci-fi Larp about a journey through space spanning many centuries. You can expect a mixture of politics\, problem-solving\, hidden allegiances\, and a sprinkle of existentialism. The first season is about the months following the mission’s departure and all the hope and uncertainty that entails. Players returning for future seasons will be able to play the descendants of their previous characters\, as the culture onboard the ship changes and evolves.
URL:https://larpseason.com/event/generation-season-1-event-1/
LOCATION:The Treehouse\, The Treehouse board game cafe 41 Boston Street\, Sheffield\, S2 4QF
CATEGORIES:Club Games,UK LARPs
END:VEVENT
BEGIN:VEVENT
DTSTART;TZID=UTC:20250221T000000
DTEND;TZID=UTC:20250223T235959
DTSTAMP:20260422T171331
CREATED:20250212T164933Z
LAST-MODIFIED:20250214T180449Z
UID:2933-1740096000-1740355199@larpseason.com
SUMMARY:Heroes and Heroines: The IRN Dome
DESCRIPTION:In an attempt to quell the in-fighting between The Dark Temple and The Pyramid of Light\, The Council has come to the decision that The Protectorate must erect a mighty ‘Illuminating Resistance Node’\, Or IRN Dome for short. The IRN Dome is envisaged as a mighty ward\, which sits above The Protectorate and causes anything tainted by necromancy to glow brightly. This is to prevent any further items tainted with necromancy from entering The Protectorate\, and to highlight any items which may have snuck their way in already\, and cut off any infiltrations that Malice may have made into The Protectorate already. \n\n\n\nJust one problem – Foxglove is a STICKLER for gaining consent where this ward would overlap the borders of our neighbours. The ward as it stands will overlap the borders of The Oakwoods and The Iron League to the East and with The Haunted Hills to the North. \n\n\n\nWith patrols at a premium\, a patrol of low level Auxiliaries has been assembled to go and diplome with our friends and neighbours in The Haunted Hills to ask their permission to allow The IRN Dome to overlap into their lands. The inhabitants of The Haunted Hills are mostly Orcish\, and in many cases former Protectorate members who have left the area in favour of more Orcish ways of life. \n\n\n\nWe envision that this mission will require tact\, cunning\, and a knowledge of how Orcish culture works… Foxglove will not give their permission without the consent of our friends and neighbours in The Haunted Hills… But without The IRN Dome Malice can effectively sneak whatever they want across our border without us knowing…
URL:https://larpseason.com/event/heroes-and-heroines-the-irn-dome/
LOCATION:Rough Close Scout Campsite\, Rough Close Scout Campsite\, Tanners Lane Berkswell\, CV7 &DD
CATEGORIES:Club Games,UK LARPs,Weekend LARPs
END:VEVENT
BEGIN:VEVENT
DTSTART;TZID=UTC:20250222T090000
DTEND;TZID=UTC:20250222T170000
DTSTAMP:20260422T171331
CREATED:20241008T183225Z
LAST-MODIFIED:20250214T182622Z
UID:2600-1740214800-1740243600@larpseason.com
SUMMARY:Tales LARP Chapter 29: Shadows Stir OR Crushed
DESCRIPTION:
URL:https://larpseason.com/event/tales-larp-chapter-29-shadows-stir-or-crushed/
LOCATION:Hope Hill Campsite\, Hope Hill Campsite\, Meopham\, Gravesend DA13 0QJ
CATEGORIES:Club Games,UK LARPs
END:VEVENT
BEGIN:VEVENT
DTSTART;TZID=UTC:20250222T100000
DTEND;TZID=UTC:20250222T170000
DTSTAMP:20260422T171331
CREATED:20250212T174036Z
LAST-MODIFIED:20250212T174037Z
UID:3006-1740218400-1740243600@larpseason.com
SUMMARY:Age of Essence
DESCRIPTION:
URL:https://larpseason.com/event/age-of-essence-11/
LOCATION:Nonsuch Park\, Nonsuch Mansion House\, Fir Walk\, Epsom\, KT17 2\, United Kingdom
CATEGORIES:Club Games,UK LARPs
END:VEVENT
BEGIN:VEVENT
DTSTART;TZID=UTC:20250225T190000
DTEND;TZID=UTC:20250225T220000
DTSTAMP:20260422T171331
CREATED:20250212T180743Z
LAST-MODIFIED:20250212T180744Z
UID:3028-1740510000-1740520800@larpseason.com
SUMMARY:VTM Nightfall: Game Zero
DESCRIPTION:
URL:https://larpseason.com/event/vtm-nightfall-game-zero/
LOCATION:The Prohibition Cabaret Bar\, Newcastle\, The Prohibition Cabaret Bar\, Newcastle
CATEGORIES:Club Games,UK LARPs
END:VEVENT
END:VCALENDAR