BEGIN:VCALENDAR
VERSION:2.0
PRODID:-//LARP SEASON - ECPv6.15.20//NONSGML v1.0//EN
CALSCALE:GREGORIAN
METHOD:PUBLISH
X-ORIGINAL-URL:https://larpseason.com
X-WR-CALDESC:Events for LARP SEASON
REFRESH-INTERVAL;VALUE=DURATION:PT1H
X-Robots-Tag:noindex
X-PUBLISHED-TTL:PT1H
BEGIN:VTIMEZONE
TZID:UTC
BEGIN:STANDARD
TZOFFSETFROM:+0000
TZOFFSETTO:+0000
TZNAME:UTC
DTSTART:20230101T000000
END:STANDARD
END:VTIMEZONE
BEGIN:VEVENT
DTSTART;TZID=UTC:20240216T080000
DTEND;TZID=UTC:20240218T170000
DTSTAMP:20260425T185436
CREATED:20240312T175129Z
LAST-MODIFIED:20250214T182214Z
UID:1342-1708070400-1708275600@larpseason.com
SUMMARY:Forsaken: Safe Haven (sanctioned)
DESCRIPTION:A player run event to give characters a chance to take stock\, grieve and plan for what’s left of the future. More details to follow
URL:https://larpseason.com/event/forsaken-sanctioned-event-safe-haven/
LOCATION:The Chellington Centre\, The Chellington Centre\, St Nicholas Church\, Felmersham Road\, Carlton\, Bedford MK43 7NA
CATEGORIES:Non-Fest Sanctioned,Sanctioned Events,UK LARPs
END:VEVENT
END:VCALENDAR