BEGIN:VCALENDAR
VERSION:2.0
PRODID:-//LARP SEASON - ECPv6.15.20//NONSGML v1.0//EN
CALSCALE:GREGORIAN
METHOD:PUBLISH
X-ORIGINAL-URL:https://larpseason.com
X-WR-CALDESC:Events for LARP SEASON
REFRESH-INTERVAL;VALUE=DURATION:PT1H
X-Robots-Tag:noindex
X-PUBLISHED-TTL:PT1H
BEGIN:VTIMEZONE
TZID:UTC
BEGIN:STANDARD
TZOFFSETFROM:+0000
TZOFFSETTO:+0000
TZNAME:UTC
DTSTART:20230101T000000
END:STANDARD
END:VTIMEZONE
BEGIN:VEVENT
DTSTART;TZID=UTC:20240127T080000
DTEND;TZID=UTC:20240128T170000
DTSTAMP:20260422T183922
CREATED:20240210T224835Z
LAST-MODIFIED:20250214T180533Z
UID:128-1706342400-1706461200@larpseason.com
SUMMARY:International LARP Festival 2024
DESCRIPTION:
URL:https://larpseason.com/event/international-larp-festival-2024/
LOCATION:Chaos League Discord Server
CATEGORIES:International Conventions & Festivals,Online
END:VEVENT
END:VCALENDAR