BEGIN:VCALENDAR
VERSION:2.0
PRODID:-//LARP SEASON - ECPv6.15.20//NONSGML v1.0//EN
CALSCALE:GREGORIAN
METHOD:PUBLISH
X-WR-CALNAME:LARP SEASON
X-ORIGINAL-URL:https://larpseason.com
X-WR-CALDESC:Events for LARP SEASON
REFRESH-INTERVAL;VALUE=DURATION:PT1H
X-Robots-Tag:noindex
X-PUBLISHED-TTL:PT1H
BEGIN:VTIMEZONE
TZID:Europe/Paris
BEGIN:DAYLIGHT
TZOFFSETFROM:+0100
TZOFFSETTO:+0200
TZNAME:CEST
DTSTART:20250330T010000
END:DAYLIGHT
BEGIN:STANDARD
TZOFFSETFROM:+0200
TZOFFSETTO:+0100
TZNAME:CET
DTSTART:20251026T010000
END:STANDARD
BEGIN:DAYLIGHT
TZOFFSETFROM:+0100
TZOFFSETTO:+0200
TZNAME:CEST
DTSTART:20260329T010000
END:DAYLIGHT
BEGIN:STANDARD
TZOFFSETFROM:+0200
TZOFFSETTO:+0100
TZNAME:CET
DTSTART:20261025T010000
END:STANDARD
BEGIN:DAYLIGHT
TZOFFSETFROM:+0100
TZOFFSETTO:+0200
TZNAME:CEST
DTSTART:20270328T010000
END:DAYLIGHT
BEGIN:STANDARD
TZOFFSETFROM:+0200
TZOFFSETTO:+0100
TZNAME:CET
DTSTART:20271031T010000
END:STANDARD
BEGIN:DAYLIGHT
TZOFFSETFROM:+0100
TZOFFSETTO:+0200
TZNAME:CEST
DTSTART:20280326T010000
END:DAYLIGHT
BEGIN:STANDARD
TZOFFSETFROM:+0200
TZOFFSETTO:+0100
TZNAME:CET
DTSTART:20281029T010000
END:STANDARD
BEGIN:DAYLIGHT
TZOFFSETFROM:+0100
TZOFFSETTO:+0200
TZNAME:CEST
DTSTART:20290325T010000
END:DAYLIGHT
BEGIN:STANDARD
TZOFFSETFROM:+0200
TZOFFSETTO:+0100
TZNAME:CET
DTSTART:20291028T010000
END:STANDARD
END:VTIMEZONE
BEGIN:VEVENT
DTSTART;TZID=Europe/Paris:20261106T080000
DTEND;TZID=Europe/Paris:20261108T170000
DTSTAMP:20260423T092019
CREATED:20260304T135216Z
LAST-MODIFIED:20260304T135217Z
UID:4420-1793952000-1794157200@larpseason.com
SUMMARY:Never Ever After Run #3
DESCRIPTION:
URL:https://larpseason.com/event/never-ever-after-run-3/
LOCATION:Fletcher Landgoed Hotel Renesse\, Fletchter Landgoed Hotel Renesse Stoofwekken 5\, 4325 BC Renesse\, Netherlands
CATEGORIES:International LARPs
END:VEVENT
BEGIN:VEVENT
DTSTART;TZID=Europe/Paris:20261120T080000
DTEND;TZID=Europe/Paris:20261122T170000
DTSTAMP:20260423T092019
CREATED:20260304T135300Z
LAST-MODIFIED:20260304T135301Z
UID:4422-1795161600-1795366800@larpseason.com
SUMMARY:Never Ever After Run #4
DESCRIPTION:
URL:https://larpseason.com/event/never-ever-after-run-4/
LOCATION:Fletcher Landgoed Hotel Renesse\, Fletchter Landgoed Hotel Renesse Stoofwekken 5\, 4325 BC Renesse\, Netherlands
CATEGORIES:International LARPs
END:VEVENT
BEGIN:VEVENT
DTSTART;TZID=Europe/Paris:20270107T080000
DTEND;TZID=Europe/Paris:20270110T170000
DTSTAMP:20260423T092019
CREATED:20251118T002350Z
LAST-MODIFIED:20251118T002351Z
UID:4254-1799308800-1799600400@larpseason.com
SUMMARY:Convention of Thorns
DESCRIPTION:
URL:https://larpseason.com/event/convention-of-thorns/
LOCATION:Zamek Kliczkow\, Poland\, Zamek Kliczkow\, Poland
CATEGORIES:International LARPs
END:VEVENT
BEGIN:VEVENT
DTSTART;TZID=Europe/Paris:20270331T080000
DTEND;TZID=Europe/Paris:20270404T170000
DTSTAMP:20260423T092019
CREATED:20251026T171742Z
LAST-MODIFIED:20251026T171743Z
UID:4067-1806480000-1806858000@larpseason.com
SUMMARY:iHunt Ep 2
DESCRIPTION:
URL:https://larpseason.com/event/ihunt-ep-2/
LOCATION:Petershof\, Germany\, Petershof\, Talweg 5 - 64711 Erbach - Germany
CATEGORIES:International LARPs
END:VEVENT
BEGIN:VEVENT
DTSTART;TZID=Europe/Paris:20280419T080000
DTEND;TZID=Europe/Paris:20280423T170000
DTSTAMP:20260423T092019
CREATED:20251026T171823Z
LAST-MODIFIED:20251026T171824Z
UID:4069-1839744000-1840122000@larpseason.com
SUMMARY:iHunt Ep 3
DESCRIPTION:
URL:https://larpseason.com/event/ihunt-ep-3/
LOCATION:Petershof\, Germany\, Petershof\, Talweg 5 - 64711 Erbach - Germany
CATEGORIES:International LARPs
END:VEVENT
END:VCALENDAR