BEGIN:VCALENDAR
VERSION:2.0
PRODID:-//LARP SEASON - ECPv6.15.20//NONSGML v1.0//EN
CALSCALE:GREGORIAN
METHOD:PUBLISH
X-ORIGINAL-URL:https://larpseason.com
X-WR-CALDESC:Events for LARP SEASON
REFRESH-INTERVAL;VALUE=DURATION:PT1H
X-Robots-Tag:noindex
X-PUBLISHED-TTL:PT1H
BEGIN:VTIMEZONE
TZID:UTC
BEGIN:STANDARD
TZOFFSETFROM:+0000
TZOFFSETTO:+0000
TZNAME:UTC
DTSTART:20240101T000000
END:STANDARD
END:VTIMEZONE
BEGIN:VTIMEZONE
TZID:Europe/Paris
BEGIN:DAYLIGHT
TZOFFSETFROM:+0100
TZOFFSETTO:+0200
TZNAME:CEST
DTSTART:20240331T010000
END:DAYLIGHT
BEGIN:STANDARD
TZOFFSETFROM:+0200
TZOFFSETTO:+0100
TZNAME:CET
DTSTART:20241027T010000
END:STANDARD
BEGIN:DAYLIGHT
TZOFFSETFROM:+0100
TZOFFSETTO:+0200
TZNAME:CEST
DTSTART:20250330T010000
END:DAYLIGHT
BEGIN:STANDARD
TZOFFSETFROM:+0200
TZOFFSETTO:+0100
TZNAME:CET
DTSTART:20251026T010000
END:STANDARD
BEGIN:DAYLIGHT
TZOFFSETFROM:+0100
TZOFFSETTO:+0200
TZNAME:CEST
DTSTART:20260329T010000
END:DAYLIGHT
BEGIN:STANDARD
TZOFFSETFROM:+0200
TZOFFSETTO:+0100
TZNAME:CET
DTSTART:20261025T010000
END:STANDARD
BEGIN:DAYLIGHT
TZOFFSETFROM:+0100
TZOFFSETTO:+0200
TZNAME:CEST
DTSTART:20270328T010000
END:DAYLIGHT
BEGIN:STANDARD
TZOFFSETFROM:+0200
TZOFFSETTO:+0100
TZNAME:CET
DTSTART:20271031T010000
END:STANDARD
END:VTIMEZONE
BEGIN:VEVENT
DTSTART;TZID=UTC:20251203T080000
DTEND;TZID=UTC:20251207T170000
DTSTAMP:20260423T143409
CREATED:20250317T131926Z
LAST-MODIFIED:20250317T131927Z
UID:3495-1764748800-1765126800@larpseason.com
SUMMARY:Springwater Colony Run #2
DESCRIPTION:It was way past curfew and the cold rain behind the old\, double-paned windows was spelling a long\, cold winter ahead – but the old estate was full of tension. A candle flickered\, stirred by whispered conversations. \n\n\n\n“Have you heard? They’re bringing in new patients!” \n\n\n\n“Patients? To our colony? You’re joking\, nobody gets Loimos anymore.” \n\n\n\n“I saw the documents myself\, on the reverend’s desk! They had the same last name. Who could it be?” \n\n\n\n“We haven’t had anyone admitted in decades!” \n\n\n\n“I know…” \n\n\n\n“…” \n\n\n\n“I’m scared. They’ll hate it here. They’ll hate us.” \n\n\n\n“But maybe that means we won’t be closed down?” \n\n\n\nSpringwater Colony is a larp for 30 players based on the historical treatment of leprosy patients as well as the COVID epidemic and takes place in what may be the final days of a crumbling quarantined community. Themes include human rights\, personal autonomy and worth\, societal inclusion and isolation\, infectious disease\, and public health. This is a larp about how the world treats people it sees as disposable or lower value and how everyone copes with that.
URL:https://larpseason.com/event/springwater-colony-run-2/
LOCATION:Landhaus Lenzener Elbtalaue\, Landhaus Lenzener Elbtalaue Am Elbdeich 20 19309 Lenzerwische-Unbesandten\, Germany
CATEGORIES:International LARPs
END:VEVENT
BEGIN:VEVENT
DTSTART;TZID=UTC:20251204T080000
DTEND;TZID=UTC:20251207T170000
DTSTAMP:20260423T143409
CREATED:20240512T113811Z
LAST-MODIFIED:20240512T113812Z
UID:2336-1764835200-1765126800@larpseason.com
SUMMARY:Heirs of the Dragon - Seeds of War
DESCRIPTION:Save the date; December 4-7\, 2025! \n\n\n\nSign-up will open on May 17th at 18:00 CEST \n\n\n\nA non-profit LARP inspired by the works of George R.R. Martin.\n\n\n\nImmerse yourself in the world of Ice and Fire and become the protagonist in a ruthless struggle for the throne\, marked by intense politicking\, intrigue\, combat\, love\, loss and power struggles. \n\n\n\nAssume the role of noble lords and ladies\, shrewd advisors\, or valiant warriors as you navigate a perilous landscape where ancient houses vie for supremacy over territories through political schemes and fierce combat. Will you ascend to claim your rightful destiny\, or fall to the shadows dwelling within the hearts of men?
URL:https://larpseason.com/event/heirs-of-the-dragon-seeds-of-war/
LOCATION:Czocha Castle\, Czocha Castle\, Lesna\, Poland
CATEGORIES:International LARPs
END:VEVENT
BEGIN:VEVENT
DTSTART;TZID=Europe/Paris:20251213T080000
DTEND;TZID=Europe/Paris:20251214T170000
DTSTAMP:20260423T143409
CREATED:20251024T151023Z
LAST-MODIFIED:20251024T151024Z
UID:3988-1765612800-1765731600@larpseason.com
SUMMARY:Skittering in the Dark
DESCRIPTION:
URL:https://larpseason.com/event/skittering-in-the-dark/
LOCATION:Schildpadshoeve at Domein Beverdonk\, Schildpadshoeve at Domein Beverdonk. Beverdonk 1\, 2470 Retie\, Belgium
CATEGORIES:International LARPs
END:VEVENT
BEGIN:VEVENT
DTSTART;TZID=Europe/Paris:20260102T080000
DTEND;TZID=Europe/Paris:20260104T170000
DTSTAMP:20260423T143409
CREATED:20251026T174817Z
LAST-MODIFIED:20251026T174915Z
UID:4127-1767340800-1767546000@larpseason.com
SUMMARY:Helicon: Run 5
DESCRIPTION:
URL:https://larpseason.com/event/helicon-run-5/
LOCATION:Broholm Castle\, Broholm Castle\, Gudme\, Denmark
CATEGORIES:International LARPs
END:VEVENT
BEGIN:VEVENT
DTSTART;TZID=Europe/Paris:20260122T080000
DTEND;TZID=Europe/Paris:20260125T170000
DTSTAMP:20260423T143409
CREATED:20251026T175049Z
LAST-MODIFIED:20251026T175049Z
UID:4132-1769068800-1769360400@larpseason.com
SUMMARY:Legion: Siberian Story - Run 36
DESCRIPTION:
URL:https://larpseason.com/event/legion-siberian-story-run-36/
LOCATION:Near Dubá\, Czech Republic\, Near Dubá\, Czech Republic
CATEGORIES:International LARPs
END:VEVENT
BEGIN:VEVENT
DTSTART;TZID=UTC:20260123T080000
DTEND;TZID=UTC:20260125T170000
DTSTAMP:20260423T143409
CREATED:20250214T190159Z
LAST-MODIFIED:20250214T190200Z
UID:3247-1769155200-1769360400@larpseason.com
SUMMARY:The Icarus Foundation: Run 1
DESCRIPTION:What unfolds when a surrealist ball for the elite turns into a chilling hostage crisis? \n\n\n\nWelcome to The Icarus Foundation\, a LARP that delves deep into how people react when confronted with extreme circumstances and hard truths. As tension rises\, hidden secrets come to light\, and every relationship is pushed to its breaking point. Will you stand by your principles\, or sacrifice them for survival?
URL:https://larpseason.com/event/the-icarus-foundation-run-1/
LOCATION:Château de Dalhem\, Belgium\, Château de Dalhem\, Belgium
CATEGORIES:International LARPs
END:VEVENT
BEGIN:VEVENT
DTSTART;TZID=Europe/Paris:20260129T080000
DTEND;TZID=Europe/Paris:20260201T170000
DTSTAMP:20260423T143409
CREATED:20251026T175130Z
LAST-MODIFIED:20251026T175130Z
UID:4136-1769673600-1769965200@larpseason.com
SUMMARY:Legion: Siberian Story - Run 37
DESCRIPTION:
URL:https://larpseason.com/event/legion-siberian-story-run-37/
LOCATION:Near Dubá\, Czech Republic\, Near Dubá\, Czech Republic
CATEGORIES:International LARPs
END:VEVENT
BEGIN:VEVENT
DTSTART;TZID=UTC:20260130T080000
DTEND;TZID=UTC:20260202T170000
DTSTAMP:20260423T143409
CREATED:20250331T214645Z
LAST-MODIFIED:20250331T214647Z
UID:3519-1769760000-1770051600@larpseason.com
SUMMARY:The Witcher: Aretuza
DESCRIPTION:
URL:https://larpseason.com/event/the-witcher-aretuza/
LOCATION:Castell de Ciutat\, Castell de Ciutat\, La Seu d'Urgell\, Spain
CATEGORIES:International LARPs
END:VEVENT
BEGIN:VEVENT
DTSTART;TZID=UTC:20260206T080000
DTEND;TZID=UTC:20260208T170000
DTSTAMP:20260423T143409
CREATED:20250214T190258Z
LAST-MODIFIED:20250214T190259Z
UID:3253-1770364800-1770570000@larpseason.com
SUMMARY:The Icarus Foundation: Run 2
DESCRIPTION:What unfolds when a surrealist ball for the elite turns into a chilling hostage crisis? \n\n\n\nWelcome to The Icarus Foundation\, a LARP that delves deep into how people react when confronted with extreme circumstances and hard truths. As tension rises\, hidden secrets come to light\, and every relationship is pushed to its breaking point. Will you stand by your principles\, or sacrifice them for survival?
URL:https://larpseason.com/event/the-icarus-foundation-run-2/
LOCATION:Château de Dalhem\, Belgium\, Château de Dalhem\, Belgium
CATEGORIES:International LARPs
END:VEVENT
BEGIN:VEVENT
DTSTART;TZID=Europe/Paris:20260219T080000
DTEND;TZID=Europe/Paris:20260222T170000
DTSTAMP:20260423T143409
CREATED:20251111T213857Z
LAST-MODIFIED:20251111T213857Z
UID:4217-1771488000-1771779600@larpseason.com
SUMMARY:Outpost Elysium - Shadows
DESCRIPTION:It’s been 8 months since the outpost failed to pay the Hyenas their tribute. As a result\, the raider group’s patrols have withdrawn. The roads outside Elysium are now unsafe. \n\n\n\nMost of the people in the outpost have gone. Some migrate with the seasons\, many have gone to other\, better outposts for safety\, and some have died. The winter population of Elysium is small\, consisting of citizens and of newly arrived refugees. \n\n\n\nUncertainty hangs heavy. The outposters try to keep daily life going\, but food is beginning to run low and spare parts are becoming hard to come by. Most of the effort now goes into keeping the outpost functioning\, both practically and socially. \n\n\n\nThe larp is about these days of waiting\, worry\, and everyday struggle.
URL:https://larpseason.com/event/outpost-elysium-shadows/
LOCATION:Bockaby – Borås\, Bockaby - Borås
CATEGORIES:International LARPs
ORGANIZER;CN="Outpost Elysium":MAILTO:info@outpostelysium.com
END:VEVENT
BEGIN:VEVENT
DTSTART;TZID=Europe/Paris:20260228T080000
DTEND;TZID=Europe/Paris:20260303T170000
DTSTAMP:20260423T143409
CREATED:20251026T175713Z
LAST-MODIFIED:20251026T175714Z
UID:4142-1772265600-1772557200@larpseason.com
SUMMARY:Together At Last: Run 7
DESCRIPTION:
URL:https://larpseason.com/event/together-at-last-run-7/
LOCATION:Nijmegen\, The Netherlands\, Nijmegen\, The Netherlands
CATEGORIES:International LARPs
END:VEVENT
BEGIN:VEVENT
DTSTART;TZID=Europe/Paris:20260305T080000
DTEND;TZID=Europe/Paris:20260308T170000
DTSTAMP:20260423T143409
CREATED:20251026T175752Z
LAST-MODIFIED:20251026T175753Z
UID:4146-1772697600-1772989200@larpseason.com
SUMMARY:Together At Last: Run 8
DESCRIPTION:
URL:https://larpseason.com/event/together-at-last-run-8/
LOCATION:Nijmegen\, The Netherlands\, Nijmegen\, The Netherlands
CATEGORIES:International LARPs
END:VEVENT
BEGIN:VEVENT
DTSTART;TZID=UTC:20260317T080000
DTEND;TZID=UTC:20260322T170000
DTSTAMP:20260423T143409
CREATED:20250319T163719Z
LAST-MODIFIED:20250319T163720Z
UID:3502-1773734400-1774198800@larpseason.com
SUMMARY:The Forbidden History Run 5
DESCRIPTION:The Forbidden History is a dark academia larp\, set in 1986 about a prestigious college\, and its exceptional students. It is a larp about friendship\, discovery\, and the search for the sublime\, but it is also about the darkness within us\, and the forbidden story\, not to be spoken of.
URL:https://larpseason.com/event/the-forbidden-history-run-5/
LOCATION:Czocha Castle\, Czocha Castle\, Lesna\, Poland
CATEGORIES:International LARPs
END:VEVENT
BEGIN:VEVENT
DTSTART;TZID=UTC:20260325T080000
DTEND;TZID=UTC:20260329T170000
DTSTAMP:20260423T143409
CREATED:20250319T163721Z
LAST-MODIFIED:20250319T163723Z
UID:3501-1774425600-1774803600@larpseason.com
SUMMARY:The Forbidden History Run 6
DESCRIPTION:The Forbidden History is a dark academia larp\, set in 1986 about a prestigious college\, and its exceptional students. It is a larp about friendship\, discovery\, and the search for the sublime\, but it is also about the darkness within us\, and the forbidden story\, not to be spoken of.
URL:https://larpseason.com/event/the-forbidden-history-run-6/
LOCATION:Czocha Castle\, Czocha Castle\, Lesna\, Poland
CATEGORIES:International LARPs
END:VEVENT
BEGIN:VEVENT
DTSTART;TZID=Europe/Paris:20260409T080000
DTEND;TZID=Europe/Paris:20260412T170000
DTSTAMP:20260423T143409
CREATED:20251026T171646Z
LAST-MODIFIED:20251026T171647Z
UID:4063-1775721600-1776013200@larpseason.com
SUMMARY:iHunt - Alpha Access Ep 1
DESCRIPTION:An urban fantasy LARP based on the novels and TTRPG by Olivia Hill \n\n\n\nJoin us for a game about intersocial and personal drama\, stories of loss\, stories of grief as well as stories about the moral dilemma of hunting sentient beings with lives of their own. Step into the shoes of a modern monster hunter: Grab a weapon\, your best friend\, swipe right on iHunt and get to hunting. Expect equal parts dark humor\, slice of life\, and social commentary with odd horror and bizarre mystery elements.
URL:https://larpseason.com/event/ihunt-alpha-access-ep-1/
LOCATION:Petershof\, Germany\, Petershof\, Talweg 5 - 64711 Erbach - Germany
CATEGORIES:International LARPs
END:VEVENT
BEGIN:VEVENT
DTSTART;TZID=Europe/Paris:20260425T080000
DTEND;TZID=Europe/Paris:20260425T170000
DTSTAMP:20260423T143409
CREATED:20251121T142546Z
LAST-MODIFIED:20251121T142547Z
UID:4277-1777104000-1777136400@larpseason.com
SUMMARY:Burn Bright Young Thing
DESCRIPTION:
URL:https://larpseason.com/event/burn-bright-young-thing/
LOCATION:Chicago 1928\, Ricarda-Huch-Strasse<br>8050 Zürich-Oerlikon\, Switzerland\, Chicago 1928\, Ricarda-Huch-Strasse 8050 Zürich-Oerlikon\, Switzerland
CATEGORIES:International LARPs
END:VEVENT
BEGIN:VEVENT
DTSTART;TZID=Europe/Paris:20260501T080000
DTEND;TZID=Europe/Paris:20260503T170000
DTSTAMP:20260423T143409
CREATED:20251026T163955Z
LAST-MODIFIED:20251026T163955Z
UID:3992-1777622400-1777827600@larpseason.com
SUMMARY:The Devil You Know
DESCRIPTION:
URL:https://larpseason.com/event/the-devil-you-know/
LOCATION:Vier Youth Camp\, Norway\, Vier Youth Camp\, outside Stavanger\, Norway
CATEGORIES:International LARPs
END:VEVENT
BEGIN:VEVENT
DTSTART;TZID=Europe/Paris:20260508T080000
DTEND;TZID=Europe/Paris:20260510T170000
DTSTAMP:20260423T143409
CREATED:20251007T152820Z
LAST-MODIFIED:20251007T154940Z
UID:3905-1778227200-1778432400@larpseason.com
SUMMARY:The Secrets We Keep: Run #17
DESCRIPTION:A Larp About Memory\, Feelings\, and Hidden Truths We are back with a re-run of one of our best-loved and more tested larp. A band of orphaned children with a dark past meets again after many years.Buried secrets are unearthed as old wounds start bleeding once again. What have you become? Can you escape what you really are? A grim\, intimate psychological larp et in the 1980s-90s delving into what we were\, what we are and what we do not want to be. A larp focused on interpretation and relationships. The story of a group of friends. \n\n\n\n Loosely inspired by: IT\, Stand by Me\, Lord of the Flies
URL:https://larpseason.com/event/the-secrets-we-keep-run-17/
LOCATION:Convento dell’Incontro\, Convento dell’Incontro. Bagno a Ripoli\, Florence\, Italy
CATEGORIES:International LARPs
END:VEVENT
BEGIN:VEVENT
DTSTART;TZID=UTC:20260522T080000
DTEND;TZID=UTC:20260524T170000
DTSTAMP:20260423T143409
CREATED:20250202T211858Z
LAST-MODIFIED:20250202T211859Z
UID:2843-1779436800-1779642000@larpseason.com
SUMMARY:Tenebra LARP Run 2
DESCRIPTION:In case you missed it: Tenebra is a Nordic style horror LARP experience by Ghostlight NPO\, our first case takes place in the haunting halls of Castle Tihange\, Huy\, Belgium.We thrive on real\, tangible horror; that means we use detailed environments\, lighting\, and practical effects to create an experience that you can see\, touch\, and get lost in.There are only 34 player spots available\, making it a personalised and intimate journey into fear\, mystery\, and soul searching.
URL:https://larpseason.com/event/tenebra-larp-run-2/
LOCATION:Castle Tihange\, Huy\, Liège\, 4500\, Belgium
CATEGORIES:International LARPs
END:VEVENT
BEGIN:VEVENT
DTSTART;TZID=Europe/Paris:20260528T080000
DTEND;TZID=Europe/Paris:20260531T170000
DTSTAMP:20260423T143409
CREATED:20251013T222156Z
LAST-MODIFIED:20251013T222156Z
UID:3959-1779955200-1780246800@larpseason.com
SUMMARY:The Taste of Night
DESCRIPTION:Eight years ago vampires revealed themselves to humanity and quickly became the new superstars\, worshipped by millions for their elegance and the promise of something more. Humans beg to become blood donors\, everyone wants a bit of their grace. But the rules forbid vampire-human relations or to turn one of them into kin.Once a year\, the vampire houses celebrate the day of their revelation\, ‘The Day of Light’\, and offer a rare glimpse behind the curtain.
URL:https://larpseason.com/event/the-taste-of-night/
LOCATION:Schloss Seahaus\, Germany\, Schloss Seahaus\, Germany
CATEGORIES:International LARPs
END:VEVENT
BEGIN:VEVENT
DTSTART;TZID=Europe/Paris:20260625T080000
DTEND;TZID=Europe/Paris:20260628T170000
DTSTAMP:20260423T143409
CREATED:20251017T195811Z
LAST-MODIFIED:20251017T195811Z
UID:3975-1782374400-1782666000@larpseason.com
SUMMARY:Libertines 2026: Run 1
DESCRIPTION:Libertines is a larp about a party slowly turning into a depraved nightmare. \n\n\n\nIn 1795\, a group of wealthy aristocrats have invited a select group of guests to an exclusive party at a remote countryside manor. For a few days\, there will be dancing\, feasting\, and some friendly gambling. The guests\, elated at being chosen to socialise at such intimate terms with the gentry\, are full of hopes and ambitions for their stay. However\, as the days pass\, a sense of unease creeps in\, and the revelry takes on increasingly dark undertones. The stakes become higher\, the romance is laced with poison\, and impossible choices are laid before the guests – if they are given any choice at all.
URL:https://larpseason.com/event/libertines-2026-run-1/
LOCATION:Gerdrup Gods\, Gerdrup\, Slagelse\, Denmark
CATEGORIES:International LARPs
END:VEVENT
BEGIN:VEVENT
DTSTART;TZID=Europe/Paris:20260629T080000
DTEND;TZID=Europe/Paris:20260702T170000
DTSTAMP:20260423T143409
CREATED:20251017T195959Z
LAST-MODIFIED:20251017T200000Z
UID:3977-1782720000-1783011600@larpseason.com
SUMMARY:Libertines 2026: Run 2
DESCRIPTION:Libertines is a larp about a party slowly turning into a depraved nightmare. \n\n\n\nIn 1795\, a group of wealthy aristocrats have invited a select group of guests to an exclusive party at a remote countryside manor. For a few days\, there will be dancing\, feasting\, and some friendly gambling. The guests\, elated at being chosen to socialise at such intimate terms with the gentry\, are full of hopes and ambitions for their stay. However\, as the days pass\, a sense of unease creeps in\, and the revelry takes on increasingly dark undertones. The stakes become higher\, the romance is laced with poison\, and impossible choices are laid before the guests – if they are given any choice at all.
URL:https://larpseason.com/event/libertines-2026-run-2/
LOCATION:Gerdrup Gods\, Gerdrup\, Slagelse\, Denmark
CATEGORIES:International LARPs
END:VEVENT
BEGIN:VEVENT
DTSTART;TZID=Europe/Paris:20260703T080000
DTEND;TZID=Europe/Paris:20260706T170000
DTSTAMP:20260423T143409
CREATED:20251017T200059Z
LAST-MODIFIED:20251017T200100Z
UID:3979-1783065600-1783357200@larpseason.com
SUMMARY:Libertines 2026: Run 3
DESCRIPTION:Libertines is a larp about a party slowly turning into a depraved nightmare. \n\n\n\nIn 1795\, a group of wealthy aristocrats have invited a select group of guests to an exclusive party at a remote countryside manor. For a few days\, there will be dancing\, feasting\, and some friendly gambling. The guests\, elated at being chosen to socialise at such intimate terms with the gentry\, are full of hopes and ambitions for their stay. However\, as the days pass\, a sense of unease creeps in\, and the revelry takes on increasingly dark undertones. The stakes become higher\, the romance is laced with poison\, and impossible choices are laid before the guests – if they are given any choice at all.
URL:https://larpseason.com/event/libertines-2026-run-3/
LOCATION:Gerdrup Gods\, Gerdrup\, Slagelse\, Denmark
CATEGORIES:International LARPs
END:VEVENT
BEGIN:VEVENT
DTSTART;TZID=UTC:20260707T080000
DTEND;TZID=UTC:20260711T170000
DTSTAMP:20260423T143409
CREATED:20250323T171219Z
LAST-MODIFIED:20250323T171343Z
UID:3510-1783411200-1783789200@larpseason.com
SUMMARY:The Future is Straight: Run 1
DESCRIPTION:The Future is Straight is a Nordic larp\, where we are exploring two days in a gay conversion camp for youth and young adults. We will follow the “rehabbers” as they go through therapy\, educational lessons\, and maybe tiptoe into a queer community for the first time – struggling to navigate between fully realising themselves\, and being accepted as individuals in an oppressive society. The larp is set in a dystopian retro setting in a extreme heteronormative society where queerness is oppressed based on a worldview based in perceptions of science and “nature itself”.
URL:https://larpseason.com/event/the-future-is-straight-run-1/
LOCATION:Sct. Knudsborg\, Denmark\, Sct. Knudsborg Lille Brogårdsvej 12 5464 Brenderup Fyn
CATEGORIES:International LARPs
END:VEVENT
BEGIN:VEVENT
DTSTART;TZID=Europe/Paris:20260710T080000
DTEND;TZID=Europe/Paris:20260713T170000
DTSTAMP:20260423T143409
CREATED:20251024T150851Z
LAST-MODIFIED:20251024T150852Z
UID:3982-1783670400-1783962000@larpseason.com
SUMMARY:Statera Mundi University 2026
DESCRIPTION:
URL:https://larpseason.com/event/statera-mundi-university-2026/
LOCATION:Château de Courrière\, Château de Courrière\, Rue Bâtis de Corère 6\, 5336 Courrière\, Belgium
CATEGORIES:International LARPs
END:VEVENT
BEGIN:VEVENT
DTSTART;TZID=UTC:20260711T080000
DTEND;TZID=UTC:20260715T170000
DTSTAMP:20260423T143409
CREATED:20250323T171336Z
LAST-MODIFIED:20250323T171337Z
UID:3516-1783756800-1784134800@larpseason.com
SUMMARY:The Future is Straight: Run 2
DESCRIPTION:The Future is Straight is a Nordic larp\, where we are exploring two days in a gay conversion camp for youth and young adults. We will follow the “rehabbers” as they go through therapy\, educational lessons\, and maybe tiptoe into a queer community for the first time – struggling to navigate between fully realising themselves\, and being accepted as individuals in an oppressive society. The larp is set in a dystopian retro setting in a extreme heteronormative society where queerness is oppressed based on a worldview based in perceptions of science and “nature itself”.
URL:https://larpseason.com/event/the-future-is-straight-run-2/
LOCATION:Sct. Knudsborg\, Denmark\, Sct. Knudsborg Lille Brogårdsvej 12 5464 Brenderup Fyn
CATEGORIES:International LARPs
END:VEVENT
BEGIN:VEVENT
DTSTART;TZID=Europe/Paris:20260716T080000
DTEND;TZID=Europe/Paris:20260719T170000
DTSTAMP:20260423T143409
CREATED:20251007T135556Z
LAST-MODIFIED:20251007T135557Z
UID:3895-1784188800-1784480400@larpseason.com
SUMMARY:97 Poets of Revachol: Run 5
DESCRIPTION:
URL:https://larpseason.com/event/97-poets-of-revachol-run-5/
LOCATION:Old Military Hospital\, Terezín\, Czechia\, Principova alej 304\, 411 55 Terezín\, Czechia
CATEGORIES:International LARPs
ORGANIZER;CN="97 Poets of Revachol":MAILTO:revachol@rolling.cz
END:VEVENT
BEGIN:VEVENT
DTSTART;TZID=Europe/Paris:20260717T080000
DTEND;TZID=Europe/Paris:20260720T170000
DTSTAMP:20260423T143409
CREATED:20251026T165311Z
LAST-MODIFIED:20251026T165312Z
UID:4016-1784275200-1784566800@larpseason.com
SUMMARY:Bunker 101 - The Aftermaths: Run #2
DESCRIPTION:A major new Chaos League production\, inspired by post apocalyptic genre masterpieces such as “Fallout” and “Pleasantville”. It’s a unique event set in an extraordinary location: one of the largest nuclear bunkers in Europe. \n\n\n\nThe story unfolds in a dystopian version of the 1950s\, where society struggles to survive after a nuclear apocalypse. It’s a tale of survival and oppression\, freedom and control\, hope and fear. \n\n\n\nYou’ll play as a Citizen of Bunker 101 — an employee\, a trader\, a scientist\, an engineer\, a nuclear operator\, a doctor\, an administrator\, a politician\, an explorer\, and more. \n\n\n\nTogether\, you’ll shape the destiny of your society and decide the future of humankind. \n\n\n\nPre-register now to get priority when registration opens https://chaosleague.org/bunker
URL:https://larpseason.com/event/bunker-101-the-aftermaths-run-2/
LOCATION:Bunker Soratte\, near Rome\, Italy\, Bunker Soratte\, near Rome\, Italy
CATEGORIES:International LARPs
END:VEVENT
BEGIN:VEVENT
DTSTART;TZID=Europe/Paris:20260718T080000
DTEND;TZID=Europe/Paris:20260718T170000
DTSTAMP:20260423T143409
CREATED:20260304T135058Z
LAST-MODIFIED:20260304T135059Z
UID:4416-1784361600-1784394000@larpseason.com
SUMMARY:Forever and a Night
DESCRIPTION:𝗙𝗼𝗿𝗲𝘃𝗲𝗿 𝗮𝗻𝗱 𝗮 𝗡𝗶𝗴𝗵𝘁 is a one-day larp about different Central European iron age tribes coming together for an annual folk celebration that marks a rare occasion of meeting one another. It is not a historically accurate larp but strives for the cultural and aesthetic vibe of the La Tène period. It is a larp about common people celebrating together\, telling stories\, falling in love\, reconciling broken bonds\, forming new connections; it is about community\, gratitude\, superstitions and simple rituals inherent to the society we are trying to portray.
URL:https://larpseason.com/event/forever-and-a-night/
LOCATION:Torhaus Dölitz\, Leipzig\, Germany\, Torhaus Dölitz\, Leipzig\, Germany
CATEGORIES:International LARPs
END:VEVENT
BEGIN:VEVENT
DTSTART;TZID=UTC:20260723T080000
DTEND;TZID=UTC:20260726T170000
DTSTAMP:20260423T143409
CREATED:20251004T140226Z
LAST-MODIFIED:20251004T140227Z
UID:3728-1784793600-1785085200@larpseason.com
SUMMARY:Forever Hold Your Peace LARP
DESCRIPTION:
URL:https://larpseason.com/event/forever-hold-your-peace-larp/
LOCATION:Auberge de Smockelaer\, Restaurant de Smockelaer
CATEGORIES:International LARPs
END:VEVENT
END:VCALENDAR