BEGIN:VCALENDAR
VERSION:2.0
PRODID:-//LARP SEASON - ECPv6.15.20//NONSGML v1.0//EN
CALSCALE:GREGORIAN
METHOD:PUBLISH
X-ORIGINAL-URL:https://larpseason.com
X-WR-CALDESC:Events for LARP SEASON
REFRESH-INTERVAL;VALUE=DURATION:PT1H
X-Robots-Tag:noindex
X-PUBLISHED-TTL:PT1H
BEGIN:VTIMEZONE
TZID:UTC
BEGIN:STANDARD
TZOFFSETFROM:+0000
TZOFFSETTO:+0000
TZNAME:UTC
DTSTART:20240101T000000
END:STANDARD
END:VTIMEZONE
BEGIN:VEVENT
DTSTART;TZID=UTC:20250529T000000
DTEND;TZID=UTC:20250601T235959
DTSTAMP:20260423T040444
CREATED:20250212T172202Z
LAST-MODIFIED:20250212T172403Z
UID:2948-1748476800-1748822399@larpseason.com
SUMMARY:Outpost Elysium
DESCRIPTION:Outpost Elysium is a Nordic campaign-like larp in a post-apocalyptic setting\, with the first chapter successfully ran in 2024. It is a spinoff of the much loved Blodsband Reloaded (BBR)\, but without airsoft and with more focus on roleplay. Players portray inhabitants or visitors in a gritty outpost settlement called Elysium. There will be every day life\, trade\, conflicts to resolve\, parties to be held\, deals to be made and broken\, all the stuff you and your imagination can come up with. \n\n\n\nOutpost Elysium is a semi sandbox style larp\, where players co-create the fiction. Players will be given much freedom to create their own characters\, group culture\, events and intrigues. \n\n\n\nThe organizers’ vision is that this larp will be slow paced and focus on stories and role playing\, to further continue the story in the next instalments of the larp. \n\n\n\nBoth light and dark themes exist and coexist – and specifically\, there is a theme of discrimination against mutant characters. Cooperation as well as conflict is present\, but this is not a larp about revolution. Organizers will plan some events and themes. The rest is up to the players.
URL:https://larpseason.com/event/outpost-elysium/
LOCATION:Bockaby Urban Warfare Training Grounds\, Bockaby\, Sweden
CATEGORIES:International LARPs
ORGANIZER;CN="Outpost Elysium":MAILTO:info@outpostelysium.com
END:VEVENT
BEGIN:VEVENT
DTSTART;TZID=UTC:20250614T080000
DTEND;TZID=UTC:20250617T170000
DTSTAMP:20260423T040444
CREATED:20240506T133317Z
LAST-MODIFIED:20240506T133319Z
UID:2284-1749888000-1750179600@larpseason.com
SUMMARY:A Midsummer Disco: Run 3
DESCRIPTION:MIDSUMMER DISCO RETURNS IN 2025Sign up open now!𝘛𝘩𝘦 𝘴𝘮𝘰𝘬𝘦 𝘪𝘴 𝘭𝘪𝘧𝘵𝘪𝘯𝘨 𝘢𝘯𝘥 𝘵𝘩𝘦 𝘯𝘦𝘰𝘯 𝘭𝘪𝘨𝘩𝘵𝘴 𝘧𝘭𝘪𝘤𝘬𝘦𝘳 𝘢𝘨𝘢𝘪𝘯𝘴𝘵 𝘵𝘩𝘦 𝘥𝘺𝘪𝘯𝘨 𝘭𝘪𝘨𝘩𝘵 𝘰𝘧 𝘵𝘩𝘦 𝘴𝘦𝘵𝘵𝘪𝘯𝘨 𝘴𝘶𝘯. 𝘐𝘵 𝘪𝘴 1983 𝘢𝘯𝘥 𝘵𝘩𝘦 𝘦𝘯𝘥 𝘪𝘴 𝘯𝘦𝘢𝘳. 𝘈𝘯𝘥 𝘵𝘩𝘦𝘳𝘦 𝘪𝘴 𝘯𝘰𝘵𝘩𝘪𝘯𝘨 𝘸𝘦 𝘤𝘢𝘯 𝘥𝘰 𝘣𝘶𝘵 𝘵𝘰 𝘱𝘢𝘳𝘵𝘺 𝘢𝘯𝘥 𝘸𝘢𝘵𝘤𝘩 𝘵𝘩𝘦 𝘸𝘰𝘳𝘭𝘥 𝘣𝘶𝘳𝘯.The sign up to A Midsummer Disco 2025 is open. Join us for an 80s queer Fae larp about folklore\, the Cold war and the magic of not giving a shit because Disco will never die. A doomsday watchparty of the Bizarre and Eternal.You can find all information on our website: http://midsummerdisco.poltergeistlarp.com/Run 3: June 14th-17th 2025If the interest is high enough\, we will add:Run 5: June 19th-22nd 2025Run in Zeitz\, Germany.A production by Poltergeist LARP
URL:https://larpseason.com/event/a-midsummer-disco-run-3/
LOCATION:Alte Nudelfabrik Zeitz\, Alte Nudelfabrik Zeitz\, Paul-Roland-Straße 7\, 06712 Zeitz\,Germany
CATEGORIES:International LARPs
END:VEVENT
END:VCALENDAR