BEGIN:VCALENDAR
VERSION:2.0
PRODID:-//LARP SEASON - ECPv6.15.20//NONSGML v1.0//EN
CALSCALE:GREGORIAN
METHOD:PUBLISH
X-ORIGINAL-URL:https://larpseason.com
X-WR-CALDESC:Events for LARP SEASON
REFRESH-INTERVAL;VALUE=DURATION:PT1H
X-Robots-Tag:noindex
X-PUBLISHED-TTL:PT1H
BEGIN:VTIMEZONE
TZID:UTC
BEGIN:STANDARD
TZOFFSETFROM:+0000
TZOFFSETTO:+0000
TZNAME:UTC
DTSTART:20240101T000000
END:STANDARD
END:VTIMEZONE
BEGIN:VEVENT
DTSTART;TZID=UTC:20250102T080000
DTEND;TZID=UTC:20250105T170000
DTSTAMP:20260423T123037
CREATED:20240311T225449Z
LAST-MODIFIED:20240312T185114Z
UID:1253-1735804800-1736096400@larpseason.com
SUMMARY:Concord Olympus
DESCRIPTION:Concord Olympus is a neon-drenched\, neo-noir\, where gods\, heroes and monsters walk the modern streets\, hidden from mortal eyes. Empowered by the memories of myths and deeds\, they have subtly shaped humanity for eons\, but now their time is drawing to a close. Zeus\, greatest among them\, has fallen\, a feat many did not believe possible\, and the remaining members of their community have drawn together out of necessity. They must crown a new leader before the Diasia—the ancient festival honoring the gods—has ended\, or all will suffer a collapse of power.Players will portray gods\, heroes and monsters\, vying for scraps of power and settling old scores\, for two days in the borough of Brooklyn in New York City. The game begins on Friday afternoon\, as factions amass and alliances are made\, before culminating in an explosive finale on Saturday night\, where the new king of the gods is crowned. An informal mixer will be held on Thursday evening\, and directed workshops on safety\, mechanics and character relationships will take place on Friday afternoon\, before the game begins. \n\n\n\nZeus\, king of the gods\, is dead…Deities\, demigods\, heroes and monsters have come together to determine who will lead them\, but old grudges die hard.Those languishing in the shadows are making plans of their own\, while others call in centuries-old debts\, hoping to crown a new demiurge—one they can use to reshape the world in their image.The king is dead. Long live the king!
URL:https://larpseason.com/event/concord-olympus/
LOCATION:Gemini & Scorpio Loft\, Gemini & Scorpio Loft\, 267 Douglass St\, Brooklyn\, NY 11217
CATEGORIES:International LARPs
END:VEVENT
BEGIN:VEVENT
DTSTART;TZID=UTC:20250103T080000
DTEND;TZID=UTC:20250105T170000
DTSTAMP:20260423T123037
CREATED:20240316T132521Z
LAST-MODIFIED:20240316T185327Z
UID:1966-1735891200-1736096400@larpseason.com
SUMMARY:Helicon: Run 4
DESCRIPTION:It has been fifteen years now\, since a group of exceptionally talented students at an elite English university discovered a way to lure the Muses of antiquity into their presence\, and to compel them to manifest themselves. The students separated the divine siblings one from the other\, and ritually bound them into servitude. Each Muse was made to serve one or more of the students; to be the well-spring of the Inspiration that set them on their paths to glory. \n\n\n\nThe students have now become the Inspired – the most celebrated artists\, scientists\, and leaders in the world. The Muses to whom they owe their success remain bound to them\, and have by turns accepted their lot\, vainly attempted to rebel against their captors\, gradually developed Stockholm syndrome\, befriended their captors or even fallen in love with them. There is precious little Inspiration left for others\, since it is all hoarded by the Inspired\, for their use alone. \n\n\n\nOnce a year\, all of the Inspired and their Muses come together at Helicon Manor\, to renew the ritual that binds them. \n\n\n\nAll of the Muses are siblings; they both crave one another’s company and need it. As for the Inspired\, they get to spend time with the only other people in the world with whom they share their secret\, who also know how it feels to be host to an ancient supernatural force\, who understand each other in ways that no other mortals ever could. \n\n\n\nSing-ups open on March 17th and close on April 17th 2024.
URL:https://larpseason.com/event/helicon-run-4/
LOCATION:Broholm Castle\, Broholm Castle\, Gudme\, Denmark
CATEGORIES:International LARPs
END:VEVENT
BEGIN:VEVENT
DTSTART;TZID=UTC:20250110T080000
DTEND;TZID=UTC:20250113T170000
DTSTAMP:20260423T123037
CREATED:20240507T183858Z
LAST-MODIFIED:20240507T183859Z
UID:2309-1736496000-1736787600@larpseason.com
SUMMARY:der LARP Conference
DESCRIPTION:A new conference is arriving on the horizon of larp conferences. Not just any – it’s “der Larp Conference”.What is the difference between this one and other larp conferences? We don’t want to talk about theories or studies too much\, but rather focus on practical aspects of larp organization. There are so many awesome people out there\, who would like to design their own larp\, but are missing practical tools.How do you design a great character? How to create and facilitate an engaging workshop? What financial issues should I keep in mind? You are a website expert\, but have yet to write a plot? Give help\, get help! You’d like to create a classic fantasy event with a twist\, a sandbox horror regency larp\, a short form larp in a hot tub or something completely different: all shades of larp are beautiful and welcome!We want to co-create and learn from each other.So join us for four days of talks\, workshops\, networking and parties. We will meet in the Youth Hostel Wiesbaden\, near Frankfurt (Main)\, easily reachable for locals and internationals. Come and learn\, meet old and new friends and just have a great time.
URL:https://larpseason.com/event/der-larp-conference/
LOCATION:Youth Hostel Wiesbaden\, Youth Hostel Wiesbaden\, Blücherstraße 66\, 65195 Wiesbaden\, Deutschland
CATEGORIES:International Conventions & Festivals,International LARPs
END:VEVENT
BEGIN:VEVENT
DTSTART;TZID=UTC:20250116T140000
DTEND;TZID=UTC:20250119T100000
DTSTAMP:20260423T123037
CREATED:20240311T230436Z
LAST-MODIFIED:20240311T230436Z
UID:1271-1737036000-1737280800@larpseason.com
SUMMARY:Vampire Masquerade: Esbat
DESCRIPTION:Cursed\, hated\, following their own path.The Sabbat is coming – the timid whispers of their enemies satiate their egos with pride.Masquerade? They don’t have time to play dress-up like this\, why should they be ashamed of their appearance?People? Funny\, insignificant creatures\, blood banks\, and clumsy toys.Only the Sabbath counts.All that matters is their greatest mission – fighting the Antediluvians. Gehenna is already underway\, but few believe in it. \n\n\n\nIn the name of this mission\, one of their Archbishops sacrificed so much. It was worth it… everyone wants to hear about the clue they found\, after all they will be closer to fulfilling their calling!It is also time to decide how to take revenge on the Camarilla\, which recently dealt a bitter blow to their territories. Fools\, they cannot imagine the revenge that will befall them.A War Council has been convened in the Archbishop’s palace\, during which decisions and orders will be issued regarding the fight against the Antediluvians and revenge against the Camarilla.Packs will gather to take part in Vaulderie\, war rituals\, and see an “art” exhibition. \n\n\n\nSabbat is famous for its loyalty to the entire group\, but what if vampires who are entangled in intrigues and fights for power meet?Will the new Transformed Ones\, who will receive the honor of the Ritual of Creation\, calm down the nervous mood or destroy the established alliances?
URL:https://larpseason.com/event/vampire-masquerade-esbat/
LOCATION:Pałac Bałoszyce\, Pałac Bałoszyce\, Warmian-Masurian Voivodeship
CATEGORIES:International LARPs
END:VEVENT
BEGIN:VEVENT
DTSTART;TZID=UTC:20250125T153000
DTEND;TZID=UTC:20250125T220000
DTSTAMP:20260423T123037
CREATED:20241215T185632Z
LAST-MODIFIED:20241215T185654Z
UID:2794-1737819000-1737842400@larpseason.com
SUMMARY:The Abdication: Run 1
DESCRIPTION:Themes: Family – Delusion – RoyaltyOriginal larp by Karolina SoltysA regular suburban family in the modern day — except for the patriarch’s belief that he is the rightful heir to the throne\, descended from the right line to the throne. Widowed many years ago\, he now wishes to remarry — and to a “servant”\, no less! Obviously\, the only honorable thing to do is for him to abdicate and to pass his crown to one of his two adult children\, who had been raised under this delusion. But should the title go to the indolent younger son\, or to the elder daughter\, now a Labour/social democratic politician and somewhat ashamed of her “royal” heritage? \n\n\n\nThe larp is a family drama played over a three-course dinner. We’ll explore relatable family dynamics in the context of a very strange family. The larp will take place during a three course dinner in three acts.
URL:https://larpseason.com/event/the-abdication/
LOCATION:Alpvägen 8\, Bromma\, Alpvägen 8\, Bromma
CATEGORIES:International LARPs
END:VEVENT
END:VCALENDAR